BEGIN:VCALENDAR
VERSION:2.0
PRODID:-//Greater Raritan - ECPv6.3.5//NONSGML v1.0//EN
CALSCALE:GREGORIAN
METHOD:PUBLISH
X-WR-CALNAME:Greater Raritan
X-ORIGINAL-URL:https://www.thegrwdb.org
X-WR-CALDESC:Events for Greater Raritan
REFRESH-INTERVAL;VALUE=DURATION:PT1H
X-Robots-Tag:noindex
X-PUBLISHED-TTL:PT1H
BEGIN:VTIMEZONE
TZID:America/New_York
BEGIN:DAYLIGHT
TZOFFSETFROM:-0500
TZOFFSETTO:-0400
TZNAME:EDT
DTSTART:20260308T070000
END:DAYLIGHT
BEGIN:STANDARD
TZOFFSETFROM:-0400
TZOFFSETTO:-0500
TZNAME:EST
DTSTART:20261101T060000
END:STANDARD
END:VTIMEZONE
BEGIN:VEVENT
DTSTART;TZID=America/New_York:20260323T080000
DTEND;TZID=America/New_York:20260323T143000
DTSTAMP:20260421T080812
CREATED:20260213T222646Z
LAST-MODIFIED:20260213T223044Z
UID:15938-1774252800-1774276200@www.thegrwdb.org
SUMMARY:Builds Bio+ New Jersey Symposium for Life Science Innovation and Development
DESCRIPTION:The Builds Bio+ Inaugural New Jersey Symposium for Life Science Innovation and Development will be conducted from 8 a.m. to 2:30 p.m. Monday\, March 23\, at The Rutgers Club\, 85 Avenue E\, second floor\, Piscataway. \nThe organizing group represents a convergence of academia\, industry\, government\, and economic development leaders who have shaped a high-impact agenda designed to reflect New Jersey’s unique scientific strengths\, workforce priorities\, and innovation ecosystem. \nThe full-day conference is for senior executive and thought leaders in the life science industry who will talk about ways to drive collaboration\, innovation\, and long-term growth across the region. \nFor the event agenda and fees as well as additional details about the organization\, go to https://BuildsBio.org/jersey2026. \n 
URL:https://www.thegrwdb.org/event/builds-bio-new-jersey-symposium-for-life-science-innovation-and-development/
LOCATION:The Rutgers Club\, 85 Avenue E\, Piscataway\, NJ\, 08854\, United States
CATEGORIES:Business Event
END:VEVENT
BEGIN:VEVENT
DTSTART;TZID=America/New_York:20260323T100000
DTEND;TZID=America/New_York:20260323T113000
DTSTAMP:20260421T080812
CREATED:20260219T232846Z
LAST-MODIFIED:20260310T221723Z
UID:16018-1774260000-1774265400@www.thegrwdb.org
SUMMARY:Jersey Job Club Workshop: Top Notch Resume 2
DESCRIPTION:The Greater Raritan One-Stop Career Center in Somerville is hosting a series of Jersey Job Club Workshops in March and April. These workshops will be virtual\, through Zoom\, but a limited number of seats are available for in-person attendance at the One-Stop Career Center\, 75 Veterans Memorial Drive\, Somerville. \nThe partners in the Greater Raritan One-Stop Career Center have the expertise and knowledge to help job seekers have success. In Jersey Job Club workshops\, a Greater Raritan One-Stop Career Coach leads hour- to 90-minute-long discussions on topics aimed at assisting job seekers in Hunterdon and Somerset Counties. There is no charge to attend. \nDates and topics are: \n\nMonday\, March 2\, 10 to 11:30 a.m.: Acing the Interview 1 – Preparing for the Interview\nWednesday\, March 4\, 10 to 11:30 a.m.: Acing the Interview 2 – Answering Interview Questions\nFriday\, March 6\, 10 to 11:30 a.m.: Resume Writing Workshop 1 – Top Notch Resume\nMonday\, March 9\, 10 to 11:30 a.m.: Resume Writing Workshop 2 – Cover Letters and More\nWednesday\, March 11\, 10 to 11:30 a.m.: Planning Your Job Search – Path to Employment\nFriday\, March 13\, 10 to 11:30 a.m.: Networking – Best (fastest) way to find a job\nMonday\, March 16\, 10 to 11:30 a.m.: Acing the Interview 1 – Preparing for the Interview\nWednesday\, March 18\, 10 to 11:30 a.m.: Acing the Interview 2 – Answering Interview Questions\nFriday\, March 20\, 10 to 11:30 a.m.: Resume Writing Workshop 1 – Top Notch Resume\nMonday\, March 23\, 10 to 11:30 a.m.: Resume Writing Workshop 2 – Cover Letters and More\nWednesday\, March 25\, 10 to 11:30 a.m.: Planning Your Job Search – Path to Employment\nFriday\, March 27\, 10 to 11:30 a.m.: Networking – Best (fastest) way to find a job\nMonday\, March 30\, 10 to 11:30 a.m.: Acing the Interview 1 – Preparing for the Interview\nWednesday\, April 1\, 10 to 11:30 a.m.: Acing the Interview 2 – Answering Interview Questions\nMonday\, April 6\, 10 to 11:30 a.m.: Resume Writing Workshop 1 – Top Notch Resume\nWednesday\, April 8\, 10 to 11:30 a.m.: Resume Writing Workshop 2 – Cover Letters and More\nFriday\, April 10\, 10 to 11:30 a.m.: Planning Your Job Search – Path to Employment\nMonday\, April 13\, 10 to 11:30 a.m.: Networking – Best (fastest) way to find a job\nWednesday\, April 15\, 10 to 11:30 a.m.: Acing the Interview 1 – Preparing for the Interview\nFriday\, April 17\, 10 to 11:30 a.m.: Acing the Interview 2 – Answering Interview Questions\nMonday\, April 20\, 10 to 11:30 a.m.: Resume Writing Workshop 1 – Top Notch Resume\nWednesday\, April 22\, 10 to 11:30 a.m.: Resume Writing Workshop 2 – Cover Letters and More\nFriday\, April 24\, 10 to 11:30 a.m.: Planning Your Job Search – Path to Employment\nMonday\, April 27\, 10 to 11:30 a.m.: Networking – Best (fastest) way to find a job\nWednesday\, April 29\, 10 to 11:30 a.m.: Acing the Interview 1 – Preparing for the Interview\n\nTo attend virtually or in person\, fill out an information/registration form. Once completed\, email it to shiela.gaa@dol.nj.gov by the Wednesday before the scheduled workshop\, or for more information or assistance\, call 908-704-3000.
URL:https://www.thegrwdb.org/event/jersey-job-club-workshop-top-notch-resume-2/
LOCATION:Greater Raritan One-Stop Career Center\, Somerville\, and virtual (hybrid event)\, 75 Veterans Memorial Drive\, Somerville\, NJ\, 08876\, United States
CATEGORIES:Workshops
END:VEVENT
BEGIN:VEVENT
DTSTART;TZID=America/New_York:20260323T100000
DTEND;TZID=America/New_York:20260323T123000
DTSTAMP:20260421T080812
CREATED:20260226T155300Z
LAST-MODIFIED:20260226T155300Z
UID:16084-1774260000-1774269000@www.thegrwdb.org
SUMMARY:PSGCNJ Virtual Career Workshop: Foundation Garments – How to Max Your Search
DESCRIPTION:The Professional Service Group of Central New Jersey (PSGCNJ) will host outplacement consultant Maya Ollson\, who will present “Are you Wearing your Foundation Garments? – How to Maximize Your Search\,” at 10 a.m. Monday\, March 23.  The workshop is designed to help job seekers navigate their career. \nAll PSGCNJ members\, guests\, and speakers must pre-register for each general meeting by 11 p.m. EST the Friday before Monday’s presentation. \nTo register for the virtual event: click the link. \nPSGCNJ is the nation’s first employment community that helps unemployed and underemployed college-educated professionals land their next job. Members volunteer their time and talent to operate the 501(c)3 nonprofit.
URL:https://www.thegrwdb.org/event/psgcnj-virtual-career-workshop-foundation-garments-how-to-max-your-search/
LOCATION:Virtual Meeting
CATEGORIES:Workshops
END:VEVENT
BEGIN:VEVENT
DTSTART;TZID=America/New_York:20260323T173000
DTEND;TZID=America/New_York:20260323T201500
DTSTAMP:20260421T080812
CREATED:20260213T234022Z
LAST-MODIFIED:20260213T234221Z
UID:15945-1774287000-1774296900@www.thegrwdb.org
SUMMARY:CJHRC 2-Part Homebuyer Webinar – Part 1
DESCRIPTION:Central Jersey Housing Resource Center (CJHRC) is presenting a two-day virtual Homebuyer Workshop from 5:30 to 8:15 p.m. Monday\, March 23\, and Wednesday\, March 25. \nThis HUD certified homebuyer free workshop will provide a comprehensive overview of the home buying process. Attendees will hear from the industry’s local professionals about how to become a successful homeowner. Topics to be covered include: \n\nMoney Management and Budgeting\nWorking with a Realtor\nCredit\nFair Housing\nHow to Get a Mortgage\nHome Inspections & Ten Important Questions\nWorking with a Real Estate Attorney\nAffordable Housing Options\nHomeowners Insurance\nDown Payment and Closing Cost Grants\n\nAttendees must attend both days and will receive a certificate after the 5.5-hour webinars workshops are completed. In order to obtain a certificate\, participants must complete and submit required forms. \nTo register\, go to https://cjhrc.org and click on the Upcoming Webinars & Events tile and click on CJHRC Webinars. Choose March 23 & March 25 2-Part Homebuyer Webinar; the link to register is located towards the bottom of the flyer. If you have questions or need help registering\, contact a CJHRC Counselor at 908-446-0036.
URL:https://www.thegrwdb.org/event/cjhrc-2-part-homebuyer-webinar/
LOCATION:Virtual Event
CATEGORIES:Community Event
END:VEVENT
END:VCALENDAR