BEGIN:VCALENDAR
VERSION:2.0
PRODID:-//Greater Raritan - ECPv6.3.5//NONSGML v1.0//EN
CALSCALE:GREGORIAN
METHOD:PUBLISH
X-WR-CALNAME:Greater Raritan
X-ORIGINAL-URL:https://www.thegrwdb.org
X-WR-CALDESC:Events for Greater Raritan
REFRESH-INTERVAL;VALUE=DURATION:PT1H
X-Robots-Tag:noindex
X-PUBLISHED-TTL:PT1H
BEGIN:VTIMEZONE
TZID:America/New_York
BEGIN:DAYLIGHT
TZOFFSETFROM:-0500
TZOFFSETTO:-0400
TZNAME:EDT
DTSTART:20260308T070000
END:DAYLIGHT
BEGIN:STANDARD
TZOFFSETFROM:-0400
TZOFFSETTO:-0500
TZNAME:EST
DTSTART:20261101T060000
END:STANDARD
END:VTIMEZONE
BEGIN:VEVENT
DTSTART;TZID=America/New_York:20260318T100000
DTEND;TZID=America/New_York:20260318T113000
DTSTAMP:20260421T080812
CREATED:20260219T232635Z
LAST-MODIFIED:20260310T221630Z
UID:16014-1773828000-1773833400@www.thegrwdb.org
SUMMARY:Jersey Job Club Workshop: Acing the Interview 2
DESCRIPTION:The Greater Raritan One-Stop Career Center in Somerville is hosting a series of Jersey Job Club Workshops in March and April. These workshops will be virtual\, through Zoom\, but a limited number of seats are available for in-person attendance at the One-Stop Career Center\, 75 Veterans Memorial Drive\, Somerville. \nThe partners in the Greater Raritan One-Stop Career Center have the expertise and knowledge to help job seekers have success. In Jersey Job Club workshops\, a Greater Raritan One-Stop Career Coach leads hour- to 90-minute-long discussions on topics aimed at assisting job seekers in Hunterdon and Somerset Counties. There is no charge to attend. \nDates and topics are: \n\nMonday\, March 2\, 10 to 11:30 a.m.: Acing the Interview 1 – Preparing for the Interview\nWednesday\, March 4\, 10 to 11:30 a.m.: Acing the Interview 2 – Answering Interview Questions\nFriday\, March 6\, 10 to 11:30 a.m.: Resume Writing Workshop 1 – Top Notch Resume\nMonday\, March 9\, 10 to 11:30 a.m.: Resume Writing Workshop 2 – Cover Letters and More\nWednesday\, March 11\, 10 to 11:30 a.m.: Planning Your Job Search – Path to Employment\nFriday\, March 13\, 10 to 11:30 a.m.: Networking – Best (fastest) way to find a job\nMonday\, March 16\, 10 to 11:30 a.m.: Acing the Interview 1 – Preparing for the Interview\nWednesday\, March 18\, 10 to 11:30 a.m.: Acing the Interview 2 – Answering Interview Questions\nFriday\, March 20\, 10 to 11:30 a.m.: Resume Writing Workshop 1 – Top Notch Resume\nMonday\, March 23\, 10 to 11:30 a.m.: Resume Writing Workshop 2 – Cover Letters and More\nWednesday\, March 25\, 10 to 11:30 a.m.: Planning Your Job Search – Path to Employment\nFriday\, March 27\, 10 to 11:30 a.m.: Networking – Best (fastest) way to find a job\nMonday\, March 30\, 10 to 11:30 a.m.: Acing the Interview 1 – Preparing for the Interview\nWednesday\, April 1\, 10 to 11:30 a.m.: Acing the Interview 2 – Answering Interview Questions\nMonday\, April 6\, 10 to 11:30 a.m.: Resume Writing Workshop 1 – Top Notch Resume\nWednesday\, April 8\, 10 to 11:30 a.m.: Resume Writing Workshop 2 – Cover Letters and More\nFriday\, April 10\, 10 to 11:30 a.m.: Planning Your Job Search – Path to Employment\nMonday\, April 13\, 10 to 11:30 a.m.: Networking – Best (fastest) way to find a job\nWednesday\, April 15\, 10 to 11:30 a.m.: Acing the Interview 1 – Preparing for the Interview\nFriday\, April 17\, 10 to 11:30 a.m.: Acing the Interview 2 – Answering Interview Questions\nMonday\, April 20\, 10 to 11:30 a.m.: Resume Writing Workshop 1 – Top Notch Resume\nWednesday\, April 22\, 10 to 11:30 a.m.: Resume Writing Workshop 2 – Cover Letters and More\nFriday\, April 24\, 10 to 11:30 a.m.: Planning Your Job Search – Path to Employment\nMonday\, April 27\, 10 to 11:30 a.m.: Networking – Best (fastest) way to find a job\nWednesday\, April 29\, 10 to 11:30 a.m.: Acing the Interview 1 – Preparing for the Interview\n\nTo attend virtually or in person\, fill out an information/registration form. Once completed\, email it to shiela.gaa@dol.nj.gov by the Wednesday before the scheduled workshop\, or for more information or assistance\, call 908-704-3000.
URL:https://www.thegrwdb.org/event/jersey-job-club-workshop-acing-the-interview-2-4/
LOCATION:Greater Raritan One-Stop Career Center\, Somerville\, and virtual (hybrid event)\, 75 Veterans Memorial Drive\, Somerville\, NJ\, 08876\, United States
CATEGORIES:Workshops
END:VEVENT
BEGIN:VEVENT
DTSTART;TZID=America/New_York:20260318T100000
DTEND;TZID=America/New_York:20260318T130000
DTSTAMP:20260421T080812
CREATED:20260224T210318Z
LAST-MODIFIED:20260224T214519Z
UID:16071-1773828000-1773838800@www.thegrwdb.org
SUMMARY:Judiciary Opportunities for Building Success (JOBS) Program Career and Resource Fair
DESCRIPTION:The Judiciary’s Probation Division in Somerset County is presenting a Judiciary Opportunities for Building Success (JOBS) Program Career and Resource Fair from 10 a.m. to 1 p.m. Wednesday\, March 18\, at 40 North Bridge St.\, in the first-floor training room (next to the Somerset County Courthouse)\, Somerville. \nThe JOBS Career and Resource Fair aims to connect job seekers with local employers and agencies. Representatives from area employers\, family and social service agencies and treatment services are to be in attendance. The event is open to the public\, including applicants on parole\, probation\, or re-entry. \nPre-registration is preferred but not required. To RSVP or request additional information\, an ADA accommodation or interpreting services\, contact Brian Rother at Brian.Rother@njcourts.gov or 908-332-7700 ext. 13498. Employers interested in participating in this event may contact Rother for further details. \nThis free in-person event is sponsored by the Superior Court of New Jersey\, Somerset/Hunterdon/Warren Vicinage.
URL:https://www.thegrwdb.org/event/judiciary-opportunities-for-building-success-jobs-program-career-and-resource-fair-4/
LOCATION:Somerset County Probation Division\, 40 N. Bridge St.\, Somerville\, NJ\, 08876\, United States
CATEGORIES:Career Fair
END:VEVENT
BEGIN:VEVENT
DTSTART;TZID=America/New_York:20260318T180000
DTEND;TZID=America/New_York:20260318T190000
DTSTAMP:20260421T080812
CREATED:20260218T232533Z
LAST-MODIFIED:20260218T232533Z
UID:15977-1773856800-1773860400@www.thegrwdb.org
SUMMARY:Virtual Career Series: Bridge to Success
DESCRIPTION:Are you feeling stressed in your job search? \nThe Greater Raritan Workforce Development Board and Empower Somerset are offering a free eight-week virtual program for community members entitled Bridge to Success. The stress-management techniques shared in this series focus on behavioral\, social\, and cognitive coping strategies that can be used to address stressful situations at home\, work\, and interpersonal relationships. The strategies will help participants survive and thrive during the job-search process\, and in life. \nThe virtual series will run every Wednesday from 6 to 7 p.m. beginning on March 11 and ending April 29. \nThe class is open to residents of Somerset and Hunterdon counties and is limited to 20 participants; please note that participants must have their cameras on for every session. Those taking part in the program are expected to attend all sessions. The program includes a $50 Amazon gift card for completion. \nTo register\, use the link in this flyer.
URL:https://www.thegrwdb.org/event/virtual-career-series-bridge-to-success-18/
LOCATION:Virtual Event
CATEGORIES:Workshops
END:VEVENT
BEGIN:VEVENT
DTSTART;TZID=America/New_York:20260318T180000
DTEND;TZID=America/New_York:20260318T200000
DTSTAMP:20260421T080812
CREATED:20260128T231159Z
LAST-MODIFIED:20260128T233245Z
UID:15827-1773856800-1773864000@www.thegrwdb.org
SUMMARY:RVCC Adult Learners Information Sessions
DESCRIPTION:Adult learners ages 25 and older who are interested in starting college for the first time\, returning to finish a degree\, exploring a new career path\, seeking professional development\, or improving their English are invited to attend one of Raritan Valley Community College’s upcoming Adult Learning Information Sessions\, being conducted at the Branchburg-based college on the following upcoming Wednesdays: February 18 and March 18. \nEach date’s session\, running from 6 to 8 p.m.\, will be in the Atrium at the college. \nThe events will include information about academic and certificate programs\, applying to RVCC\, learning options and support services tailored for non-traditional students\, paying for college\, and navigating financial aid. \nVeterans also are encouraged to attend an Information Session to learn about how they can use their education benefits to enroll at RVCC. The Manager of International and Veteran Services will be available to answer prospective students’ questions. \nTo assist students juggling work\, family\, and other responsibilities\, RVCC offers 14-week (full-term)\, 12-week\, 10-week\, and 7-week (for some programs) semesters to provide learners of all ages with a more convenient academic schedule. Adult students may enroll in career training\, certificate\, or degree programs at RVCC. \nSome programs that may be of special interest to adult students include: \n\nAdvanced Manufacturing (includes OSHA 10 and NIMS certification)\nBusiness Administration – Associate of Science\nBusiness Management – Associate of Applied Science\nElectrocardiograph (ECG) Technician – Certificate\nEnglish as a Second Language\nFitness Specialist – Certificate\nMedical Assistant – Certificate\nNursing/RN – Associate of Applied Science\nOccupational Therapy Assistant – Associated of Applied Science\nParalegal Studies – Associate of Applied Science or Certificate\nSupply Chain Management – Associate of Science\, Associate of Applied Science\, or Certificate\nWelding – Certificate\n\nIn addition\, RVCC offers a number of online degrees and certificate programs. To learn more about online programs\, visit https://www.raritanval.edu/career-training/career-training-programs. \nTo register for an Information Session\, go to https://www.raritanval.edu/visit. For additional information\, email adultlearning@raritanval.edu or contact Michelle Amparbin\, Coordinator of the Adult Learning Experience\, at 908-526-1200\, ext. 8338. \nTo learn more\, visit https://www.raritanval.edu/admissions-information/adult-learners.
URL:https://www.thegrwdb.org/event/rvcc-adult-learners-information-sessions-2/
LOCATION:Raritan Valley Community College Atrium\, Lamington Road\, Branchburg\, NJ\, 08876\, United States
CATEGORIES:College Event
END:VEVENT
BEGIN:VEVENT
DTSTART;TZID=America/New_York:20260318T190000
DTEND;TZID=America/New_York:20260318T200000
DTSTAMP:20260421T080812
CREATED:20251231T225711Z
LAST-MODIFIED:20251231T225711Z
UID:15635-1773860400-1773864000@www.thegrwdb.org
SUMMARY:Build Your Next Career Series with the Bernards Library: National Career Services
DESCRIPTION:The Greater Raritan Workforce Development Board\, serving Hunterdon and Somerset counties\, connects community members to a host of free local and national services designed to support job seekers and get them on a lifelong successful career pathway. \nLearn more during three\, one-hour virtual workshops for a Build Your Next Career: Job Resource Series. The days and topics are: \n\nFebruary 18\, 11 a.m.: Introduction to the GRWDB services and local programming\nMarch 18\, 7 p.m.: National career services that can be used for any job search\nApril 22\, 11 a.m.: What your job search strategy is telling you!\n\nThis series is co-hosted by the Bernards Township Library and registration is required. To register\, go to the Events Calendar of www.bernardslibrary.org and click on any of the dates for the three-part series or call 908-204-3031\, Ext. 4. \nFor more information about the series and the GRWDB\, visit www.thegrwdb.org.
URL:https://www.thegrwdb.org/event/build-your-next-career-series-with-the-bernards-library-national-career-services/
LOCATION:Virtual Event
CATEGORIES:Workshops
END:VEVENT
END:VCALENDAR