BEGIN:VCALENDAR
VERSION:2.0
PRODID:-//Greater Raritan - ECPv6.3.5//NONSGML v1.0//EN
CALSCALE:GREGORIAN
METHOD:PUBLISH
X-WR-CALNAME:Greater Raritan
X-ORIGINAL-URL:https://www.thegrwdb.org
X-WR-CALDESC:Events for Greater Raritan
REFRESH-INTERVAL;VALUE=DURATION:PT1H
X-Robots-Tag:noindex
X-PUBLISHED-TTL:PT1H
BEGIN:VTIMEZONE
TZID:America/New_York
BEGIN:DAYLIGHT
TZOFFSETFROM:-0500
TZOFFSETTO:-0400
TZNAME:EDT
DTSTART:20260308T070000
END:DAYLIGHT
BEGIN:STANDARD
TZOFFSETFROM:-0400
TZOFFSETTO:-0500
TZNAME:EST
DTSTART:20261101T060000
END:STANDARD
END:VTIMEZONE
BEGIN:VEVENT
DTSTART;TZID=America/New_York:20260305T090000
DTEND;TZID=America/New_York:20260305T130000
DTSTAMP:20260421T080813
CREATED:20251203T225756Z
LAST-MODIFIED:20251203T225756Z
UID:15401-1772701200-1772715600@www.thegrwdb.org
SUMMARY:Free Forklift Certificate Class at Greater Raritan One-Stop Career Center\, Somerville
DESCRIPTION:The Greater Raritan One-Stop Career Employment Services office at 75 Veterans Memorial Drive in Somerville offers a free forklift certificate class on the first Thursday of each month from 9 a.m. to 1 p.m. throughout the year. \nThe Powered Industrial Trucks (PIT) Certificate Class will enable successful participants to receive an operator’s permit from their employer upon passing a practical skills evaluation at their workplace. To take the course\, participants must have an office government ID (driver’s license\, passport\, etc.) The Greater Raritan One-Stop Career Center services residents of Hunterdon and Somerset counties. \nClasses in 2026 are scheduled for January 8 (because of the New Year’s holiday)\, February 5\, March 5\, April 2\, May 7\, June 4\, July 2\, August 6\, September 3\, October 1\, November 5\, and December 3. Participants are asked to arrive at 8:30 a.m. on the day of the class. \nClasses may fill up quickly. To register\, go to the Somerville One-Stop Career Center walk-in window and ring the bell\, or call 908-704-3000. \n 
URL:https://www.thegrwdb.org/event/free-forklift-certificate-class-at-greater-raritan-one-stop-career-center-somerville-10/
LOCATION:Somerville One-Stop Career Center\, 75 Veterans Memorial Drive East\, Somerville\, NJ\, 08876\, United States
CATEGORIES:Class
END:VEVENT
BEGIN:VEVENT
DTSTART;TZID=America/New_York:20260305T143000
DTEND;TZID=America/New_York:20260305T151500
DTSTAMP:20260421T080813
CREATED:20260227T231255Z
LAST-MODIFIED:20260227T231255Z
UID:16120-1772721000-1772723700@www.thegrwdb.org
SUMMARY:GRWDB Youth Committee Meeting
DESCRIPTION:Through policy\, oversight\, and planning\, the GRWDB ensures that workforce training and education investments are responsive to and meet the needs of employers and jobseekers. As part of this work\, the GRWDB is responsible for maintaining committees to help inform decision-making around services and priorities for targeted populations. \nOne of those is the GRWDB’s Youth Committee\, which works to coordinate and integrate local youth services with current partners while seeking ways to expand and develop local youth services. \nMeetings are open to the public. This general-topic meeting will be virtual and include a discussion on Youth program performance outcomes and several upcoming events. Interested individuals also may go to the GRWDB office on the second- floor conference room at 27 Warren St.\, Somerville. \nGRWDB Youth Committee\nMarch 5\, 2026\, 2:30 – 3:15 PM \nPlease join the meeting from your computer\, tablet or smartphone.\nhttps://meet.goto.com/314540173 \nYou can also dial in using your phone: +1 (408) 650-3123; Access Code: 314-540-173. \nNewcomers\, please RSVP to info@thegrwdb.org for details.
URL:https://www.thegrwdb.org/event/grwdb-youth-committee-meeting-7/
LOCATION:Virtual Meeting
CATEGORIES:Committee Meeting
END:VEVENT
BEGIN:VEVENT
DTSTART;TZID=America/New_York:20260305T153000
DTEND;TZID=America/New_York:20260305T161500
DTSTAMP:20260421T080813
CREATED:20260209T215510Z
LAST-MODIFIED:20260209T220214Z
UID:15917-1772724600-1772727300@www.thegrwdb.org
SUMMARY:Employer Webinar: Using Metrix Learning/SkillUp for Staff Training
DESCRIPTION:Employers in Somerset and Hunterdon Counties are invited to attend one two webinars to learn how SkillUp Greater Raritan can be used to provide free upskilling training to staff. The sessions will be conducted at 11 a.m. Tuesday\, March 3\, 2026\, and at 3:30 p.m. Thursday\, March 5. 2026. During each session\, there will be examples of how local employers are using the platform for staff training and participants will also learn about other GRWDB paid-training opportunities for businesses. \nEmployers may join either session by using the following link: https://meet.goto.com/510433933. \nThe SkillUp Greater Raritan Metrix Learning® platform is a free online learning-management system featuring more than 7\,000 courses\, which can be done individually or with cohorts. The courses can be used for new hires\, development for longtime workers and manager skill enhancement. The $199 per person cost of the employee training program will be covered by GRWDB grant dollars. \nEmployers can choose a preset learning path\, or they can customize the employee learning system to fit their needs. Metrix Learning® personnel will collaborate with employers to create a program that fits their learning needs. This easy online learning-management system will also keep track of employees’ course progress\, course completion\, and hours of training. \nEmployers interested in getting started with this program immediately may email info@thegrwdb.org or call 908-541-5790\, and they will be connected to the GRWDB’s Metrix Learning training partner.
URL:https://www.thegrwdb.org/event/employer-webinar-using-metrix-learning-skillup-for-staff-training-2/
LOCATION:Virtual Event
CATEGORIES:Business Event
END:VEVENT
END:VCALENDAR