BEGIN:VCALENDAR
VERSION:2.0
PRODID:-//Greater Raritan - ECPv6.3.5//NONSGML v1.0//EN
CALSCALE:GREGORIAN
METHOD:PUBLISH
X-ORIGINAL-URL:https://www.thegrwdb.org
X-WR-CALDESC:Events for Greater Raritan
REFRESH-INTERVAL;VALUE=DURATION:PT1H
X-Robots-Tag:noindex
X-PUBLISHED-TTL:PT1H
BEGIN:VTIMEZONE
TZID:America/New_York
BEGIN:DAYLIGHT
TZOFFSETFROM:-0500
TZOFFSETTO:-0400
TZNAME:EDT
DTSTART:20260308T070000
END:DAYLIGHT
BEGIN:STANDARD
TZOFFSETFROM:-0400
TZOFFSETTO:-0500
TZNAME:EST
DTSTART:20261101T060000
END:STANDARD
END:VTIMEZONE
BEGIN:VEVENT
DTSTART;TZID=America/New_York:20260303T090000
DTEND;TZID=America/New_York:20260303T103000
DTSTAMP:20260421T075757
CREATED:20260130T232055Z
LAST-MODIFIED:20260130T232535Z
UID:15839-1772528400-1772533800@www.thegrwdb.org
SUMMARY:CiC Coffee & Conversation Networking Event in Franklin
DESCRIPTION:Coffee & Conversation\, the quarterly networking event presented by CiC for Prevention and Recovery\, will run from 9 to 10:30 a.m. Tuesday\, March 3\, at the agency’s new Franklin satellite office at 873 Hamilton St. in the Somerset section of Franklin. \nThis event includes a light breakfast and plenty of opportunities to connect. Participants can learn about local resources\, hear from community organizations\, explore available services\, and network with other professionals in the field. All are welcome. \nTo register go to Coffee and Conversation Registration or use the QR code in this flyer. \nCiC’s main hub is in Bernardsville. For more information\, call 908-801-2123. \n 
URL:https://www.thegrwdb.org/event/cic-coffee-conversation-networking-event-in-franklin/
LOCATION:CiC Satellite Office\, 873 Hamilton St.\, Somerset\, NJ\, 08873\, United States
CATEGORIES:Community Event
END:VEVENT
BEGIN:VEVENT
DTSTART;TZID=America/New_York:20260303T110000
DTEND;TZID=America/New_York:20260303T114500
DTSTAMP:20260421T075757
CREATED:20260209T215351Z
LAST-MODIFIED:20260209T220304Z
UID:15915-1772535600-1772538300@www.thegrwdb.org
SUMMARY:Employer Webinar: Using Metrix Learning/Skillup for Staff Training
DESCRIPTION:Employers in Somerset and Hunterdon Counties are invited to attend one two webinars to learn how SkillUp Greater Raritan can be used to provide free upskilling training to staff. The sessions will be conducted at 11 a.m. Tuesday\, March 3\, 2026\, and at 3:30 p.m. Thursday\, March 5. 2026. During each session\, there will be examples of how local employers are using the platform for staff training and participants will also learn about other GRWDB paid-training opportunities for businesses. \nEmployers may join either session by using the following link: https://meet.goto.com/510433933. \nThe SkillUp Greater Raritan Metrix Learning® platform is a free online learning-management system featuring more than 7\,000 courses\, which can be done individually or with cohorts. The courses can be used for new hires\, development for longtime workers and manager skill enhancement. The $199 per person cost of the employee training program will be covered by GRWDB grant dollars. \nEmployers can choose a preset learning path\, or they can customize the employee learning system to fit their needs. Metrix Learning® personnel will collaborate with employers to create a program that fits their learning needs. This easy online learning-management system will also keep track of employees’ course progress\, course completion\, and hours of training. \nEmployers interested in getting started with this program immediately may email info@thegrwdb.org or call 908-541-5790\, and they will be connected to the GRWDB’s Metrix Learning training partner.
URL:https://www.thegrwdb.org/event/employer-webinar-using-metrix-learning-skillup-for-staff-training/
LOCATION:Virtual Event
CATEGORIES:Business Event
END:VEVENT
BEGIN:VEVENT
DTSTART;TZID=America/New_York:20260303T120000
DTEND;TZID=America/New_York:20260303T150000
DTSTAMP:20260421T075757
CREATED:20260129T221242Z
LAST-MODIFIED:20260129T221242Z
UID:15830-1772539200-1772550000@www.thegrwdb.org
SUMMARY:NJHEPS Green Jobs Fair
DESCRIPTION:New Jersey Employers offering careers and internships related to sustainability\, the environment and climate change are invited to participate in the NJHEPS Green Jobs Fair which is open to students and alumni from all academic disciplines and all schools across the state.   \nHosted by the New Jersey Higher Education Partnership for Sustainability (NJHEPS)\, the NJHEPS Green Jobs Fair will take place on Tuesday\, March 3\, from 12 to 3 p.m. at the Rutgers Douglass Student Center\, 100 George St.\, New Brunswick.   \nEmployers who would like to participate must register here by Feb. 16. The registration for employers is $150 Non-Profit and Government \, and $300 For-Profit. Additionally\, employers are invited to join a discussion before the fair on “Impacts of AI on Hiring: A Roundtable Discussion with the NJHEPS Eboard” from 10:30 to 11:30 a.m. in the Student Center. \nThere is no charge for students and alumni to attend. Prospective attendees are encouraged to pre-register here\, but walk-ins are welcome. 
URL:https://www.thegrwdb.org/event/njheps-green-jobs-fair/
LOCATION:Rutgers Douglass Student Center\, 100 George St.\, New Brunswick\, NJ\, 08901\, United States
CATEGORIES:Career Fair
END:VEVENT
BEGIN:VEVENT
DTSTART;TZID=America/New_York:20260303T170000
DTEND;TZID=America/New_York:20260303T190000
DTSTAMP:20260421T075757
CREATED:20260121T222227Z
LAST-MODIFIED:20260121T222227Z
UID:15790-1772557200-1772564400@www.thegrwdb.org
SUMMARY:Employers Invited to Participate in North Plainfield Vocational Employment Fair
DESCRIPTION:Employers and organizations that provide pathways to employment and/or workforce training for graduating high school students and their families are invited to participate in a Vocational Employment Fair on Tuesday\, March 3\, from 5 to 7 p.m. in the North Plainfield High School Gymnasium. \nEmployer and agency participants will be assigned a table and have the opportunity to respond to questions regarding their profession and/or work\, and offer guidance\, networking\, and information on training and jobs. The event is open to employers and agencies in communities surrounding the North Plainfield School District. Presenters are invited to bring any handouts and/or visuals that may help to illustrate what their career\, employment and/or job training entails. Pictures\, trifolds\, props\, handouts\, tools of your trade and/or demonstrations are welcome. \nFor more information\, email nancy_reyes@nplainfield.org or Suzana_Porzio@nplainfield.org; the registration deadline is February 20.
URL:https://www.thegrwdb.org/event/employers-invited-to-participate-in-north-plainfield-vocational-employment-fair/
LOCATION:North Plainfield High School\, 34 Wilson Ave.\, North Plainfield\, NJ\, United States
CATEGORIES:Career Fair
END:VEVENT
END:VCALENDAR