BEGIN:VCALENDAR
VERSION:2.0
PRODID:-//Greater Raritan - ECPv6.3.5//NONSGML v1.0//EN
CALSCALE:GREGORIAN
METHOD:PUBLISH
X-ORIGINAL-URL:https://www.thegrwdb.org
X-WR-CALDESC:Events for Greater Raritan
REFRESH-INTERVAL;VALUE=DURATION:PT1H
X-Robots-Tag:noindex
X-PUBLISHED-TTL:PT1H
BEGIN:VTIMEZONE
TZID:America/New_York
BEGIN:DAYLIGHT
TZOFFSETFROM:-0500
TZOFFSETTO:-0400
TZNAME:EDT
DTSTART:20260308T070000
END:DAYLIGHT
BEGIN:STANDARD
TZOFFSETFROM:-0400
TZOFFSETTO:-0500
TZNAME:EST
DTSTART:20261101T060000
END:STANDARD
END:VTIMEZONE
BEGIN:VEVENT
DTSTART;TZID=America/New_York:20260227T100000
DTEND;TZID=America/New_York:20260227T113000
DTSTAMP:20260421T062329
CREATED:20251209T163229Z
LAST-MODIFIED:20251209T163229Z
UID:15475-1772186400-1772191800@www.thegrwdb.org
SUMMARY:Jersey Job Club Workshop: Networking
DESCRIPTION:The Greater Raritan One-Stop Career Center in Somerville is hosting a series of Jersey Job Club Workshops in January and February. These workshops will be virtual\, through Zoom\, but a limited number of seats are available for in-person attendance at the One-Stop Career Center\, 75 Veterans Memorial Drive\, Somerville. \nThe partners in the Greater Raritan One-Stop Career Center have the expertise and knowledge to help job seekers have success. In Jersey Job Club workshops\, a Greater Raritan One-Stop Career Coach leads hour- to 90-minute-long discussions on topics aimed at assisting job seekers in Hunterdon and Somerset Counties. There is no charge to attend. \nDates and topics are: \n\nMonday\, January 5\, 10 to 11:30 a.m.: Resume Writing Workshop 1 – Top Notch Resume\nWednesday\, January 7\, 10 to 11:30 a.m.: Resume Writing Workshop 2 – Cover Letters and More\nFriday\, January 9\, 10 to 11:30 a.m.: Planning Your Job Search – Path to Employment\nMonday\, January 12\, 10 to 11:30 a.m.: Networking – Best (fastest) way to find a job\nWednesday\, January 14\, 10 to 11:30 a.m.: Acing the Interview 1 – Preparing for the Interview\nFriday\, January 16\, 10 to 11:30 a.m.: Acing the Interview 2 – Answering Interview Questions\nWednesday\, January 21\, 10 to 11:30 a.m.: Resume Writing Workshop 1 – Top Notch Resume\nFriday\, January 23\, 10 to 11:30 a.m.: Resume Writing Workshop 2 – Cover Letters and More\nMonday\, January 26\, 10 to 11:30 a.m.: Planning Your Job Search – Path to Employment\nWednesday\, January 28\, 10 to 11:30 a.m.: Networking – Best (fastest) way to find a job\nFriday\, January 30\, 10 to 11:30 a.m.: Acing the Interview 1 – Preparing for the Interview\nMonday\, February 2\, 10 to 11:30 a.m.: Acing the Interview 2 – Answering Interview Questions\nWednesday\, February 4\, 10 to 11:30 a.m.: Resume Writing Workshop 1 – Top Notch Resume\nFriday\, February 6\, 10 to 11:30 a.m.: Resume Writing Workshop 2 – Cover Letters and More\nMonday\, February 9\, 10 to 11:30 a.m.: Planning Your Job Search – Path to Employment\nWednesday\, February 11\, 10 to 11:30 a.m.: Networking – Best (fastest) way to find a job\nFriday\, February 13\, 10 to 11:30 a.m.: Acing the Interview 1 – Preparing for the Interview\nWednesday\, February 18\, 10 to 11:30 a.m.: Acing the Interview 2 – Answering Interview Questions\nFriday\, February 20\, 10 to 11:30 a.m.: Resume Writing Workshop 1 – Top Notch Resume\nMonday\, February 23\, 10 to 11:30 a.m.: Resume Writing Workshop 2 – Cover Letters and More\nWednesday\, February 25\, 10 to 11:30 a.m.: Planning Your Job Search – Path to Employment\nFriday\, February 27\, 10 to 11:30 a.m.: Networking – Best (fastest) way to find a job\n\nTo attend virtually or in person\, fill out an information/registration form. Once completed\, email it to shiela.gaa@dol.nj.gov by the Wednesday before the scheduled workshop\, or for more information or assistance\, call 908-704-3000.
URL:https://www.thegrwdb.org/event/jersey-job-club-workshop-networking-8/
LOCATION:Greater Raritan One-Stop Career Center\, Somerville\, and virtual (hybrid event)\, 75 Veterans Memorial Drive\, Somerville\, NJ\, 08876\, United States
CATEGORIES:Workshops
END:VEVENT
BEGIN:VEVENT
DTSTART;TZID=America/New_York:20260227T110000
DTEND;TZID=America/New_York:20260227T120000
DTSTAMP:20260421T062329
CREATED:20260130T225247Z
LAST-MODIFIED:20260130T230402Z
UID:15834-1772190000-1772193600@www.thegrwdb.org
SUMMARY:US Navy MIB and #buildsubmarines Mission Resource Session for NJ Educators
DESCRIPTION:A virtual information session will be conducted at 11 a.m. Friday\, February 27\, to inform area educators on how local school districts can become part of the U.S. Navy Maritime Industrial Base (MIB) Program and #buildsubmarines mission. \nThe presenter is Dr. Carrie Curtis\, Workforce Development Education Initiatives Lead for the U.S. Navy MIB Program. She will offer guidance on how local school districts can move the needle towards America’s maritime manufacturing mission by enhancing STEM programs\, connecting with employers\, educating students and parents and related topics. \nThis event is designed for New Jersey and New York CTE educators\, guidance counselors and administrators as well as other interested educators. \nTo RSVP\, email john.p.nugent15.ctr@us.navy.mil. \nFor more information\, visit https://www.buildsubmarines.com/.
URL:https://www.thegrwdb.org/event/us-navy-mib-and-buildsubmarines-mission-resource-session-for-nj-educators/
LOCATION:Virtual Meeting
CATEGORIES:Career Event
END:VEVENT
END:VCALENDAR