BEGIN:VCALENDAR
VERSION:2.0
PRODID:-//Greater Raritan - ECPv6.3.5//NONSGML v1.0//EN
CALSCALE:GREGORIAN
METHOD:PUBLISH
X-ORIGINAL-URL:https://www.thegrwdb.org
X-WR-CALDESC:Events for Greater Raritan
REFRESH-INTERVAL;VALUE=DURATION:PT1H
X-Robots-Tag:noindex
X-PUBLISHED-TTL:PT1H
BEGIN:VTIMEZONE
TZID:America/New_York
BEGIN:DAYLIGHT
TZOFFSETFROM:-0500
TZOFFSETTO:-0400
TZNAME:EDT
DTSTART:20260308T070000
END:DAYLIGHT
BEGIN:STANDARD
TZOFFSETFROM:-0400
TZOFFSETTO:-0500
TZNAME:EST
DTSTART:20261101T060000
END:STANDARD
END:VTIMEZONE
BEGIN:VEVENT
DTSTART;TZID=America/New_York:20260219T110000
DTEND;TZID=America/New_York:20260219T120000
DTSTAMP:20260421T062246
CREATED:20260208T195816Z
LAST-MODIFIED:20260208T195816Z
UID:15902-1771498800-1771502400@www.thegrwdb.org
SUMMARY:Cosmo Insurance Agency Virtual Hiring Event
DESCRIPTION:Cosmo Insurance Agency is hosting Virtual Hiring Event from 11a.m. to 12 p.m. Thursday\, February 19. \nThe employer\, based in Lakewood\, specializes in providing cost-effective benefits and compliance solutions. The employer is looking for a receptionist\, pay $16.50 to $18.50 per hour\, and Benefit Account Customer Service Representatives paying $18.00 -to $20.00 per hour. \nTo register\, scan the QR code in this flyer or this link: https://forms.office.com/g/why2XY6DZ7
URL:https://www.thegrwdb.org/event/cosmo-insurance-agency-virtual-hiring-event/
LOCATION:Virtual Event
CATEGORIES:Virtual Information Job Session
END:VEVENT
BEGIN:VEVENT
DTSTART;TZID=America/New_York:20260219T180000
DTEND;TZID=America/New_York:20260219T190000
DTSTAMP:20260421T062246
CREATED:20260111T211101Z
LAST-MODIFIED:20260111T211101Z
UID:15681-1771524000-1771527600@www.thegrwdb.org
SUMMARY:CJHRC Financial Literacy Webinar Series – Credit
DESCRIPTION:Financial literacy is more important than ever. To help community members get on a sound financial footing\, the Central Jersey Housing Resource Center (CJHRC) is presenting a three-part Financial Literacy webinar series. Each of the following webinars on three Thursdays in February will run from 6 to 7 p.m.: \n\nPart 1: Budgeting\, on Thursday\, February 12\, with Turney Singh Baba from Santander Bank.\nPart 2: Credit\, on Thursday\, February 19\, with Luis Pachon from Provident Bank.\nPart 3: Debt-to-Income\, on Thursday\, February 26\, with Michelle Brown from Bank of America.\n\nThose who attend all three sessions will obtain a 12-month certificate. \nTo register for the February 12 event\, go here. \nTo register for the February 19 event\, go here. \nTo register for the February 26 event\, go here \nQuestions? Call CJHRC at 908-446-0036.
URL:https://www.thegrwdb.org/event/cjhrc-financial-literacy-webinar-series-credit/
LOCATION:Virtual Event
CATEGORIES:Workshops
END:VEVENT
END:VCALENDAR