BEGIN:VCALENDAR
VERSION:2.0
PRODID:-//Greater Raritan - ECPv6.3.5//NONSGML v1.0//EN
CALSCALE:GREGORIAN
METHOD:PUBLISH
X-ORIGINAL-URL:https://www.thegrwdb.org
X-WR-CALDESC:Events for Greater Raritan
REFRESH-INTERVAL;VALUE=DURATION:PT1H
X-Robots-Tag:noindex
X-PUBLISHED-TTL:PT1H
BEGIN:VTIMEZONE
TZID:America/New_York
BEGIN:DAYLIGHT
TZOFFSETFROM:-0500
TZOFFSETTO:-0400
TZNAME:EDT
DTSTART:20260308T070000
END:DAYLIGHT
BEGIN:STANDARD
TZOFFSETFROM:-0400
TZOFFSETTO:-0500
TZNAME:EST
DTSTART:20261101T060000
END:STANDARD
END:VTIMEZONE
BEGIN:VEVENT
DTSTART;TZID=America/New_York:20260128T100000
DTEND;TZID=America/New_York:20260128T113000
DTSTAMP:20260421T062246
CREATED:20251209T160714Z
LAST-MODIFIED:20251209T160714Z
UID:15449-1769594400-1769599800@www.thegrwdb.org
SUMMARY:Jersey Job Club Workshop: Networking
DESCRIPTION:The Greater Raritan One-Stop Career Center in Somerville is hosting a series of Jersey Job Club Workshops in January and February. These workshops will be virtual\, through Zoom\, but a limited number of seats are available for in-person attendance at the One-Stop Career Center\, 75 Veterans Memorial Drive\, Somerville. \nThe partners in the Greater Raritan One-Stop Career Center have the expertise and knowledge to help job seekers have success. In Jersey Job Club workshops\, a Greater Raritan One-Stop Career Coach leads hour- to 90-minute-long discussions on topics aimed at assisting job seekers in Hunterdon and Somerset Counties. There is no charge to attend. \nDates and topics are: \n\nMonday\, January 5\, 10 to 11:30 a.m.: Resume Writing Workshop 1 – Top Notch Resume\nWednesday\, January 7\, 10 to 11:30 a.m.: Resume Writing Workshop 2 – Cover Letters and More\nFriday\, January 9\, 10 to 11:30 a.m.: Planning Your Job Search – Path to Employment\nMonday\, January 12\, 10 to 11:30 a.m.: Networking – Best (fastest) way to find a job\nWednesday\, January 14\, 10 to 11:30 a.m.: Acing the Interview 1 – Preparing for the Interview\nFriday\, January 16\, 10 to 11:30 a.m.: Acing the Interview 2 – Answering Interview Questions\nWednesday\, January 21\, 10 to 11:30 a.m.: Resume Writing Workshop 1 – Top Notch Resume\nFriday\, January 23\, 10 to 11:30 a.m.: Resume Writing Workshop 2 – Cover Letters and More\nMonday\, January 26\, 10 to 11:30 a.m.: Planning Your Job Search – Path to Employment\nWednesday\, January 28\, 10 to 11:30 a.m.: Networking – Best (fastest) way to find a job\nFriday\, January 30\, 10 to 11:30 a.m.: Acing the Interview 1 – Preparing for the Interview\nMonday\, February 2\, 10 to 11:30 a.m.: Acing the Interview 2 – Answering Interview Questions\nWednesday\, February 4\, 10 to 11:30 a.m.: Resume Writing Workshop 1 – Top Notch Resume\nFriday\, February 6\, 10 to 11:30 a.m.: Resume Writing Workshop 2 – Cover Letters and More\nMonday\, February 9\, 10 to 11:30 a.m.: Planning Your Job Search – Path to Employment\nWednesday\, February 11\, 10 to 11:30 a.m.: Networking – Best (fastest) way to find a job\nFriday\, February 13\, 10 to 11:30 a.m.: Acing the Interview 1 – Preparing for the Interview\nWednesday\, February 18\, 10 to 11:30 a.m.: Acing the Interview 2 – Answering Interview Questions\nFriday\, February 20\, 10 to 11:30 a.m.: Resume Writing Workshop 1 – Top Notch Resume\nMonday\, February 23\, 10 to 11:30 a.m.: Resume Writing Workshop 2 – Cover Letters and More\nWednesday\, February 25\, 10 to 11:30 a.m.: Planning Your Job Search – Path to Employment\nFriday\, February 27\, 10 to 11:30 a.m.: Networking – Best (fastest) way to find a job\n\nTo attend virtually or in person\, fill out an information/registration form. Once completed\, email it to shiela.gaa@dol.nj.gov by the Wednesday before the scheduled workshop\, or for more information or assistance\, call 908-704-3000.
URL:https://www.thegrwdb.org/event/jersey-job-club-workshop-networking-6/
LOCATION:Greater Raritan One-Stop Career Center\, Somerville\, and virtual (hybrid event)\, 75 Veterans Memorial Drive\, Somerville\, NJ\, 08876\, United States
END:VEVENT
BEGIN:VEVENT
DTSTART;TZID=America/New_York:20260128T113000
DTEND;TZID=America/New_York:20260128T133000
DTSTAMP:20260421T062246
CREATED:20260119T233726Z
LAST-MODIFIED:20260119T233738Z
UID:15764-1769599800-1769607000@www.thegrwdb.org
SUMMARY:Veracity Engineering Recruiting Event Session 1
DESCRIPTION:Veracity Engineering is hosting a two-part free Recruiting Event on Wednesday\, January 28\, at the National Aerospace Research and Technology Park\, Building 1\, Thunder Room\, 600 Aviation Blvd.\, Egg Harbor Township. Session 1\, a Midday Meet Up with lunch\, begins at 11:30 a.m. Session 2\, a Happy Hour with appetizers\, starts at 4 p.m. \nThe company has several large contract awards and has a variety of positions available\, including Cybersecurity Specialists\, Information Security Specialists\, Software Developers\, V&V/T&E Engineers\, Systems Engineers\, IT Specialists\, Computer Scientists\, Business and Program Analysts\, Storyboard Animation\, Technical Writers and more. \nDuring both sessions\, attendees will learn more about the opportunities and company benefits. Attendees are advised to bring their resumes to meet the company’s hiring team. Interested applicants may also apply today by using the QR code in this flyer. \nFor more information\, contact careers@veracity-eng.com or call 202-488-0975. \n 
URL:https://www.thegrwdb.org/event/veracity-engineering-recruiting-event/
LOCATION:National Aerospace Research & Technology Park\, 600 Aviation Research Blvd.\, Egg Harbor Township\, NJ\, 08234\, United States
CATEGORIES:Recruitment Event
END:VEVENT
BEGIN:VEVENT
DTSTART;TZID=America/New_York:20260128T160000
DTEND;TZID=America/New_York:20260128T180000
DTSTAMP:20260421T062246
CREATED:20260119T233936Z
LAST-MODIFIED:20260119T233936Z
UID:15768-1769616000-1769623200@www.thegrwdb.org
SUMMARY:Veracity Engineering Recruiting Event Session 2
DESCRIPTION:Veracity Engineering is hosting a two-part free Recruiting Event on Wednesday\, January 28\, at the National Aerospace Research and Technology Park\, Building 1\, Thunder Room\, 600 Aviation Blvd.\, Egg Harbor Township. Session 1\, a Midday Meet Up with lunch\, begins at 11:30 a.m. Session 2\, a Happy Hour with appetizers\, starts at 4 p.m. \nThe company has several large contract awards and has a variety of positions available\, including Cybersecurity Specialists\, Information Security Specialists\, Software Developers\, V&V/T&E Engineers\, Systems Engineers\, IT Specialists\, Computer Scientists\, Business and Program Analysts\, Storyboard Animation\, Technical Writers and more. \nDuring both sessions\, attendees will learn more about the opportunities and company benefits. Attendees are advised to bring their resumes to meet the company’s hiring team. Interested applicants may also apply today by using the QR code in this flyer. \nFor more information\, contact careers@veracity-eng.com or call 202-488-0975.
URL:https://www.thegrwdb.org/event/veracity-engineering-recruiting-event-session-2/
LOCATION:National Aerospace Research & Technology Park\, 600 Aviation Research Blvd.\, Egg Harbor Township\, NJ\, 08234\, United States
CATEGORIES:Recruitment Event
END:VEVENT
END:VCALENDAR