BEGIN:VCALENDAR
VERSION:2.0
PRODID:-//Greater Raritan - ECPv6.3.5//NONSGML v1.0//EN
CALSCALE:GREGORIAN
METHOD:PUBLISH
X-ORIGINAL-URL:https://www.thegrwdb.org
X-WR-CALDESC:Events for Greater Raritan
REFRESH-INTERVAL;VALUE=DURATION:PT1H
X-Robots-Tag:noindex
X-PUBLISHED-TTL:PT1H
BEGIN:VTIMEZONE
TZID:America/New_York
BEGIN:DAYLIGHT
TZOFFSETFROM:-0500
TZOFFSETTO:-0400
TZNAME:EDT
DTSTART:20260308T070000
END:DAYLIGHT
BEGIN:STANDARD
TZOFFSETFROM:-0400
TZOFFSETTO:-0500
TZNAME:EST
DTSTART:20261101T060000
END:STANDARD
END:VTIMEZONE
BEGIN:VEVENT
DTSTART;TZID=America/New_York:20260122T090000
DTEND;TZID=America/New_York:20260122T110000
DTSTAMP:20260421T091852
CREATED:20251201T231110Z
LAST-MODIFIED:20251201T231757Z
UID:15374-1769072400-1769079600@www.thegrwdb.org
SUMMARY:Recovery Friendly Workplace Workshop – Introduction for Businesses
DESCRIPTION:Business owners\, senior leadership\, and HR professionals are invited to attend an upcoming workshop showcasing New Jersey’s first Recovery Friendly Workplace (RFW) program\, administered by Somerset County Human Services and supported by opioid abatement funds. \nThe workshop\, hosted by CiC for Prevention & Recovery\, will be conducted on Thursday\, January 22\, from 9 to 11 a.m. at the Somerset County Business Partnership at 50 Division St.\, #400\, in Somerville. \nThe session will highlight the fiscal and organizational benefits of creating supportive\, stigma-free work environments for employees impacted by addiction and co-occurring behavioral health challenges. \nRegister for the event by using the QR code in this flyer. Contact David Martinak at dmartinak@communityincrisis.org or 973-722-5333 for more information about the event.
URL:https://www.thegrwdb.org/event/recovery-friendly-workplace-workshop-introduction-for-businesses/
LOCATION:Somerset County Business Partnership\, 50 Division St.\, fourth floor\, Somerville\, NJ\, 08876\, United States
CATEGORIES:Business Event
END:VEVENT
BEGIN:VEVENT
DTSTART;TZID=America/New_York:20260122T120000
DTEND;TZID=America/New_York:20260122T133000
DTSTAMP:20260421T091852
CREATED:20260117T222153Z
LAST-MODIFIED:20260117T222215Z
UID:15748-1769083200-1769088600@www.thegrwdb.org
SUMMARY:GRWDB Board Meeting – virtually and in-person
DESCRIPTION:A quarterly GRWDB Board Meeting will be conducted from 12 to 1:30 p.m. Thursday\, January 22\, 2026; attendees may join via GoToMeeting or in person in the third-floor conference room at 27 Warren St.\, Somerville.\n\n\n\n\n\n\n\n\nThe meeting will include the oath of office for reappointed and new board members\, policy and finance updates\, a presentation by the One-Stop Operator\, a discussion about youth services and more. \n\n\n\n\n\nAll GRWDB Board and Committee meetings are open to the public. For questions\, contact GRWDB Director Paul Grzella at 908-541-5790\, or at info@thegrwdb.org.\n\n\n\n\n\n\n\n\nPlease join the meeting from your computer\, tablet or smartphone.\nhttps://meet.goto.com/676884773 \nYou can also dial in using your phone.\nUnited States: +1 (872) 240-3212; Access Code: 676-884-773 \nMeeting agendas can be found here on the GRWDB website. All are welcomed.
URL:https://www.thegrwdb.org/event/grwdb-board-meeting-virtually-and-in-person-3/
LOCATION:GoToMeeting and In Person\, 27 Warren St.\, second-floor conference room\, Somerville\, NJ\, 08876\, United States
CATEGORIES:Board Meeting
END:VEVENT
BEGIN:VEVENT
DTSTART;TZID=America/New_York:20260122T130000
DTEND;TZID=America/New_York:20260122T140000
DTSTAMP:20260421T091852
CREATED:20251220T213944Z
LAST-MODIFIED:20251220T214048Z
UID:15555-1769086800-1769090400@www.thegrwdb.org
SUMMARY:Project Search Virtual Open House for School Staff
DESCRIPTION:Project Search\, which offers an immersion-based program at Robert Wood Johnson University Hospital Somerset for students with disabilities\, is hosting a virtual Open House for school staff who would like to learn more about the program. \nThe virtual event will be conducted on Thursday\, January 22\, starting at 1 p.m. School staff members\, including CST\, Transition and administrators\, are invited to attend. \nRegistration is required to the event. To register\, email Sarah Cosenza at scosenza@center.school or call 908-704-2731. Cosenza also can provide more information about the Project Search program. \nThis program is supported by Easterseals NJ\, the New Jersey Division of Vocational Rehabilitation Services and New Jersey Human Services Division of Developmental Disabilities.
URL:https://www.thegrwdb.org/event/15555/
LOCATION:Virtual Event
CATEGORIES:Virtual Open House
END:VEVENT
END:VCALENDAR