BEGIN:VCALENDAR
VERSION:2.0
PRODID:-//Greater Raritan - ECPv6.3.5//NONSGML v1.0//EN
CALSCALE:GREGORIAN
METHOD:PUBLISH
X-WR-CALNAME:Greater Raritan
X-ORIGINAL-URL:https://www.thegrwdb.org
X-WR-CALDESC:Events for Greater Raritan
REFRESH-INTERVAL;VALUE=DURATION:PT1H
X-Robots-Tag:noindex
X-PUBLISHED-TTL:PT1H
BEGIN:VTIMEZONE
TZID:America/New_York
BEGIN:DAYLIGHT
TZOFFSETFROM:-0500
TZOFFSETTO:-0400
TZNAME:EDT
DTSTART:20260308T070000
END:DAYLIGHT
BEGIN:STANDARD
TZOFFSETFROM:-0400
TZOFFSETTO:-0500
TZNAME:EST
DTSTART:20261101T060000
END:STANDARD
END:VTIMEZONE
BEGIN:VEVENT
DTSTART;TZID=America/New_York:20260114T100000
DTEND;TZID=America/New_York:20260114T113000
DTSTAMP:20260421T091722
CREATED:20251209T155904Z
LAST-MODIFIED:20251209T161034Z
UID:15439-1768384800-1768390200@www.thegrwdb.org
SUMMARY:Jersey Job Club Workshop: Acing the Interview 1
DESCRIPTION:The Greater Raritan One-Stop Career Center in Somerville is hosting a series of Jersey Job Club Workshops in January and February. These workshops will be virtual\, through Zoom\, but a limited number of seats are available for in-person attendance at the One-Stop Career Center\, 75 Veterans Memorial Drive\, Somerville. \nThe partners in the Greater Raritan One-Stop Career Center have the expertise and knowledge to help job seekers have success. In Jersey Job Club workshops\, a Greater Raritan One-Stop Career Coach leads hour- to 90-minute-long discussions on topics aimed at assisting job seekers in Hunterdon and Somerset Counties. There is no charge to attend. \nDates and topics are: \n\nMonday\, January 5\, 10 to 11:30 a.m.: Resume Writing Workshop 1 – Top Notch Resume\nWednesday\, January 7\, 10 to 11:30 a.m.: Resume Writing Workshop 2 – Cover Letters and More\nFriday\, January 9\, 10 to 11:30 a.m.: Planning Your Job Search – Path to Employment\nMonday\, January 12\, 10 to 11:30 a.m.: Networking – Best (fastest) way to find a job\nWednesday\, January 14\, 10 to 11:30 a.m.: Acing the Interview 1 – Preparing for the Interview\nFriday\, January 16\, 10 to 11:30 a.m.: Acing the Interview 2 – Answering Interview Questions\nWednesday\, January 21\, 10 to 11:30 a.m.: Resume Writing Workshop 1 – Top Notch Resume\nFriday\, January 23\, 10 to 11:30 a.m.: Resume Writing Workshop 2 – Cover Letters and More\nMonday\, January 26\, 10 to 11:30 a.m.: Planning Your Job Search – Path to Employment\nWednesday\, January 28\, 10 to 11:30 a.m.: Networking – Best (fastest) way to find a job\nFriday\, January 30\, 10 to 11:30 a.m.: Acing the Interview 1 – Preparing for the Interview\nMonday\, February 2\, 10 to 11:30 a.m.: Acing the Interview 2 – Answering Interview Questions\nWednesday\, February 4\, 10 to 11:30 a.m.: Resume Writing Workshop 1 – Top Notch Resume\nFriday\, February 6\, 10 to 11:30 a.m.: Resume Writing Workshop 2 – Cover Letters and More\nMonday\, February 9\, 10 to 11:30 a.m.: Planning Your Job Search – Path to Employment\nWednesday\, February 11\, 10 to 11:30 a.m.: Networking – Best (fastest) way to find a job\nFriday\, February 13\, 10 to 11:30 a.m.: Acing the Interview 1 – Preparing for the Interview\nWednesday\, February 18\, 10 to 11:30 a.m.: Acing the Interview 2 – Answering Interview Questions\nFriday\, February 20\, 10 to 11:30 a.m.: Resume Writing Workshop 1 – Top Notch Resume\nMonday\, February 23\, 10 to 11:30 a.m.: Resume Writing Workshop 2 – Cover Letters and More\nWednesday\, February 25\, 10 to 11:30 a.m.: Planning Your Job Search – Path to Employment\nFriday\, February 27\, 10 to 11:30 a.m.: Networking – Best (fastest) way to find a job\n\nTo attend virtually or in person\, fill out an information/registration form. Once completed\, email it to shiela.gaa@dol.nj.gov by the Wednesday before the scheduled workshop\, or for more information or assistance\, call 908-704-3000.
URL:https://www.thegrwdb.org/event/jersey-job-club-workshop/
LOCATION:Greater Raritan One-Stop Career Center\, Somerville\, and virtual (hybrid event)\, 75 Veterans Memorial Drive\, Somerville\, NJ\, 08876\, United States
CATEGORIES:Workshops
END:VEVENT
BEGIN:VEVENT
DTSTART;TZID=America/New_York:20260114T100000
DTEND;TZID=America/New_York:20260114T113000
DTSTAMP:20260421T091722
CREATED:20251212T224557Z
LAST-MODIFIED:20260112T230803Z
UID:15506-1768384800-1768390200@www.thegrwdb.org
SUMMARY:Career Workshop: Mastering the Interview
DESCRIPTION:The interview is one of the key elements of the job search process. The virtual Mastering the Interview workshop being conducted from 10 to 11:30 a.m. Wednesday\, January 14\, will allow participants to explore how to prepare for an interview\, become familiar with questions to expect\, and ask the question they should think about asking. \nThe workshop will be presented Jan Goodman\, a certified workforce development professional for the Greater Raritan One-Stop Career Training Services Center. The workshop is co-presented by the Greater Raritan Workforce Development Board\, the Division of Vocational Rehabilitation Services and the New Jersey Commission for the Blind and Visually Impaired. \nAll are welcome at the virtual workshop\, which will include closed captioning for the hearing impaired and other special features. To register for the event and indicate any needed accommodations\, go to https://bit.ly/3YnNyO8. The Zoom link for the workshop will be sent to registrants on January 13\, 2026. \nThis workshop is presented in conjunction with a quarterly multi-employer Greater Raritan One-Stop Inclusive Hiring Recruitment Event running from 10 a.m. to 12 p.m. Thursday\, January 29\, 2026\, at 27 Warren St.\, first-floor conference room\, Somerville. This event is focusing on individuals with diverse abilities. For more information on this event\, click here.
URL:https://www.thegrwdb.org/event/career-workshop-mastering-the-interview-3/
LOCATION:Virtual Event
CATEGORIES:Workshops
END:VEVENT
END:VCALENDAR