BEGIN:VCALENDAR
VERSION:2.0
PRODID:-//Greater Raritan - ECPv6.3.5//NONSGML v1.0//EN
CALSCALE:GREGORIAN
METHOD:PUBLISH
X-ORIGINAL-URL:https://www.thegrwdb.org
X-WR-CALDESC:Events for Greater Raritan
REFRESH-INTERVAL;VALUE=DURATION:PT1H
X-Robots-Tag:noindex
X-PUBLISHED-TTL:PT1H
BEGIN:VTIMEZONE
TZID:America/New_York
BEGIN:DAYLIGHT
TZOFFSETFROM:-0500
TZOFFSETTO:-0400
TZNAME:EDT
DTSTART:20250309T070000
END:DAYLIGHT
BEGIN:STANDARD
TZOFFSETFROM:-0400
TZOFFSETTO:-0500
TZNAME:EST
DTSTART:20251102T060000
END:STANDARD
END:VTIMEZONE
BEGIN:VEVENT
DTSTART;TZID=America/New_York:20251217T100000
DTEND;TZID=America/New_York:20251217T113000
DTSTAMP:20260421T111814
CREATED:20251106T194100Z
LAST-MODIFIED:20251125T190811Z
UID:15184-1765965600-1765971000@www.thegrwdb.org
SUMMARY:Jersey Job Club Workshop: Resume Writing 2
DESCRIPTION:The Greater Raritan One-Stop Career Center in Somerville is hosting a series of Jersey Job Club Workshops in November. These workshops will be virtual\, through Zoom\, but a limited number of seats are available for in-person attendance at the One-Stop Career Center\, 75 Veterans Memorial Drive\, Somerville. \nThe partners in the Greater Raritan One-Stop Career Center have the expertise and knowledge to help job seekers have success. In Jersey Job Club workshops\, a Greater Raritan One-Stop Career Coach leads hour- to 90-minute-long discussions on topics aimed at assisting job seekers in Hunterdon and Somerset Counties. There is no charge to attend. \nDates and topics are: \n\nMonday\, November 10\, 10 to 11:30 a.m.: Resume Writing Workshop 1 – Top Notch Resume\nWednesday\, November 12\, 10 to 11:30 a.m.: Resume Writing Workshop 2 – Cover Letters and More\nFriday\, November 14\, 10 to 11:30 a.m.: Networking – Best (fastest) way to find a job\nMonday\, November 17\, 10 to 11:30 a.m.: Resume Writing Workshop 1 – Top Notch Resume\nWednesday\, November 19\, 10 to 11:30 a.m.: Resume Writing Workshop 2 – Cover Letters and More\nFriday\, November 21\, 10 to 11:30 a.m.: Networking – Best (fastest) way to find a job\nMonday\, November 24\, 10 to 11:30 a.m.: Resume Writing Workshop 1 – Top Notch Resume\nMonday\, December 1\, 10 to 11:30 a.m.: Planning Your Job Search – Path to Employment\nWednesday\, December 3\, 10 to 11:30 a.m.: Acing the Interview 1 – Preparing for the Interview\nFriday\, December 5\, 10 to 11:30 a.m.: Acing the Interview 2 – Answering Interview Questions\nMonday\, December 8\, 10 to 11:30 a.m.: Planning Your Job Search – Path to Employment\nWednesday\, December 10\, 10 to 11:30 a.m.: Acing the Interview 1 – Preparing for the Interview\nFriday\, December 12\, 10 to 11:30 a.m.: Acing the Interview 2 – Answering Interview Questions\nMonday\, December 15\, 10 to 11:30 a.m.: Resume Writing Workshop 1 – Top Notch Resume\nWednesday\, December 17\, 10 to 11:30 a.m.: Resume Writing Workshop 2 – Cover Letters and More\nFriday\, December 19\, 10 to 11:30 a.m.: Networking: Best (Fastest?) Way to Find a Job\nMonday\, December 22\, 10 to 11:30 a.m.: Resume Writing Workshop 1 – Top Notch Resume\nMonday\, December 29\, 10 to 11:30 a.m.: Networking: Best (Fastest?) Way to Find a Job\n\nTo attend virtually or in person\, fill out an information/registration form. Once completed\, email it to shiela.gaa@dol.nj.gov by the Wednesday before the scheduled workshop\, or call 908-704-3000.
URL:https://www.thegrwdb.org/event/jersey-job-club-workshop-resume-writing-2-3/
LOCATION:Greater Raritan One-Stop Career Center\, Somerville\, and virtual (hybrid event)\, 75 Veterans Memorial Drive\, Somerville\, NJ\, 08876\, United States
CATEGORIES:Workshops
END:VEVENT
BEGIN:VEVENT
DTSTART;TZID=America/New_York:20251217T110000
DTEND;TZID=America/New_York:20251217T130000
DTSTAMP:20260421T111814
CREATED:20251006T183258Z
LAST-MODIFIED:20251006T183258Z
UID:14927-1765969200-1765976400@www.thegrwdb.org
SUMMARY:RVCC Adult Learning Information Sessions
DESCRIPTION:Adult learners ages 25 and older who are interested in starting college for the first time\, returning to finish a degree\, exploring a new career path\, seeking professional development\, or improving their English are invited to attend one of Raritan Valley Community College’s upcoming Adult Learning Information Sessions\, being conducted at the Branchburg-based college on the following upcoming Wednesdays: October 22\, November 19\, and December 17. \nTwo sessions have been scheduled for each date\, 11 a.m. and 1 p.m. and 6 and 8 p.m.\, and all will be in the Atrium at the college. \nThe events will include information about academic and certificate programs\, applying to RVCC\, learning options and support services tailored for non-traditional students\, paying for college\, and navigating financial aid. \nVeterans also are encouraged to attend an Information Session to learn about how they can use their education benefits to enroll at RVCC. The Manager of International and Veteran Services will be available to answer prospective students’ questions. \nTo assist students juggling work\, family\, and other responsibilities\, RVCC offers 14-week (full-term)\, 12-week\, 10-week\, and 7-week (for some programs) semesters to provide learners of all ages with a more convenient academic schedule. Adult students may enroll in career training\, certificate\, or degree programs at RVCC. \nSome programs that may be of special interest to adult students include: \n\nAdvanced Manufacturing (includes OSHA 10 and NIMS certification)\nBusiness Administration – Associate of Science\nBusiness Management – Associate of Applied Science\nElectrocardiograph (ECG) Technician – Certificate\nEnglish as a Second Language\nFitness Specialist – Certificate\nMedical Assistant – Certificate\nNursing/RN – Associate of Applied Science\nOccupational Therapy Assistant – Associated of Applied Science\nParalegal Studies – Associate of Applied Science or Certificate\nSupply Chain Management – Associate of Science\, Associate of Applied Science\, or Certificate\nWelding – Certificate\n\nIn addition\, RVCC offers a number of online degrees and certificate programs. To learn more about online programs\, visit https://www.raritanval.edu/career-training/career-training-programs. \nTo register for an Information Session\, go to https://www.raritanval.edu/visit. For additional information\, email adultlearning@raritanval.edu or contact Michelle Amparbin\, Coordinator of the Adult Learning Experience\, at 908-526-1200\, ext. 8338. \nTo learn more\, visit https://www.raritanval.edu/admissions-information/adult-learners. \nRVCC’s Spring Semester classes begin January 21\, and registration opens November 3. \n 
URL:https://www.thegrwdb.org/event/rvcc-adult-learning-information-sessions-5/
LOCATION:Raritan Valley Community College Atrium\, Lamington Road\, Branchburg\, NJ\, 08876\, United States
CATEGORIES:College Event
END:VEVENT
BEGIN:VEVENT
DTSTART;TZID=America/New_York:20251217T180000
DTEND;TZID=America/New_York:20251217T200000
DTSTAMP:20260421T111814
CREATED:20251006T191629Z
LAST-MODIFIED:20251006T191629Z
UID:14929-1765994400-1766001600@www.thegrwdb.org
SUMMARY:RVCC Adult Learning Information Sessions
DESCRIPTION:Adult learners ages 25 and older who are interested in starting college for the first time\, returning to finish a degree\, exploring a new career path\, seeking professional development\, or improving their English are invited to attend one of Raritan Valley Community College’s upcoming Adult Learning Information Sessions\, being conducted at the Branchburg-based college on the following upcoming Wednesdays: October 22\, November 19\, and December 17. \nTwo sessions have been scheduled for each date\, 11 a.m. and 1 p.m. and 6 and 8 p.m.\, and all will be in the Atrium at the college. \nThe events will include information about academic and certificate programs\, applying to RVCC\, learning options and support services tailored for non-traditional students\, paying for college\, and navigating financial aid. \nVeterans also are encouraged to attend an Information Session to learn about how they can use their education benefits to enroll at RVCC. The Manager of International and Veteran Services will be available to answer prospective students’ questions. \nTo assist students juggling work\, family\, and other responsibilities\, RVCC offers 14-week (full-term)\, 12-week\, 10-week\, and 7-week (for some programs) semesters to provide learners of all ages with a more convenient academic schedule. Adult students may enroll in career training\, certificate\, or degree programs at RVCC. \nSome programs that may be of special interest to adult students include: \n\nAdvanced Manufacturing (includes OSHA 10 and NIMS certification)\nBusiness Administration – Associate of Science\nBusiness Management – Associate of Applied Science\nElectrocardiograph (ECG) Technician – Certificate\nEnglish as a Second Language\nFitness Specialist – Certificate\nMedical Assistant – Certificate\nNursing/RN – Associate of Applied Science\nOccupational Therapy Assistant – Associated of Applied Science\nParalegal Studies – Associate of Applied Science or Certificate\nSupply Chain Management – Associate of Science\, Associate of Applied Science\, or Certificate\nWelding – Certificate\n\nIn addition\, RVCC offers a number of online degrees and certificate programs. To learn more about online programs\, visit https://www.raritanval.edu/career-training/career-training-programs. \nTo register for an Information Session\, go to https://www.raritanval.edu/visit. For additional information\, email adultlearning@raritanval.edu or contact Michelle Amparbin\, Coordinator of the Adult Learning Experience\, at 908-526-1200\, ext. 8338. \nTo learn more\, visit https://www.raritanval.edu/admissions-information/adult-learners. \nRVCC’s Spring Semester classes begin January 21\, and registration opens November 3. \n 
URL:https://www.thegrwdb.org/event/rvcc-adult-learning-information-sessions-6/
LOCATION:Raritan Valley Community College Atrium\, Lamington Road\, Branchburg\, NJ\, 08876\, United States
CATEGORIES:College Event
END:VEVENT
END:VCALENDAR