BEGIN:VCALENDAR
VERSION:2.0
PRODID:-//Greater Raritan - ECPv6.3.5//NONSGML v1.0//EN
CALSCALE:GREGORIAN
METHOD:PUBLISH
X-WR-CALNAME:Greater Raritan
X-ORIGINAL-URL:https://www.thegrwdb.org
X-WR-CALDESC:Events for Greater Raritan
REFRESH-INTERVAL;VALUE=DURATION:PT1H
X-Robots-Tag:noindex
X-PUBLISHED-TTL:PT1H
BEGIN:VTIMEZONE
TZID:America/New_York
BEGIN:DAYLIGHT
TZOFFSETFROM:-0500
TZOFFSETTO:-0400
TZNAME:EDT
DTSTART:20250309T070000
END:DAYLIGHT
BEGIN:STANDARD
TZOFFSETFROM:-0400
TZOFFSETTO:-0500
TZNAME:EST
DTSTART:20251102T060000
END:STANDARD
END:VTIMEZONE
BEGIN:VEVENT
DTSTART;TZID=America/New_York:20251213T090000
DTEND;TZID=America/New_York:20251213T113000
DTSTAMP:20260421T111723
CREATED:20251113T183434Z
LAST-MODIFIED:20251113T183434Z
UID:15261-1765616400-1765625400@www.thegrwdb.org
SUMMARY:Breakfast Club NJ Workshop: Money Saving Strategies During a Career Transition
DESCRIPTION:The Breakfast Club NJ will present “Money Saving Strategies During a Career Transition” by Bill LaChance starting at 9:30 a.m. Saturday\, December 13. The group meets in the Conference Center of the East Brunswick Public Library\, 2 Jean Walling Civic Center Drive. \nLaChance is an independent financial advisor. Prior to launching his financial planning practice\, LaChance spent 22 years in corporate finance in the retail industry and before that was a CPA with a large accounting firm. His presentation will cover a number of strategies to consider to help with cash flow during a career transition\, with a focus on those strategies that may not be well known or understood. \nA facilitated networking session from 10:30 to 11:30 a.m. will follow his session. presentation. \nA $10 fee will be collected at the door to pay for the cost of the room. \nTo RSVP for the meeting\, go to http://www.meetup.com/The-Breakfast-Club-NJ/.
URL:https://www.thegrwdb.org/event/breakfast-club-nj-workshop-money-saving-strategies-during-a-career-transition/
LOCATION:East Brunswick Public Library\, 2 Jean Walling Civic Center Drive\, East Brunswick\, NJ\, 08816\, United States
CATEGORIES:Workshops
END:VEVENT
END:VCALENDAR