BEGIN:VCALENDAR
VERSION:2.0
PRODID:-//Greater Raritan - ECPv6.3.5//NONSGML v1.0//EN
CALSCALE:GREGORIAN
METHOD:PUBLISH
X-ORIGINAL-URL:https://www.thegrwdb.org
X-WR-CALDESC:Events for Greater Raritan
REFRESH-INTERVAL;VALUE=DURATION:PT1H
X-Robots-Tag:noindex
X-PUBLISHED-TTL:PT1H
BEGIN:VTIMEZONE
TZID:America/New_York
BEGIN:DAYLIGHT
TZOFFSETFROM:-0500
TZOFFSETTO:-0400
TZNAME:EDT
DTSTART:20250309T070000
END:DAYLIGHT
BEGIN:STANDARD
TZOFFSETFROM:-0400
TZOFFSETTO:-0500
TZNAME:EST
DTSTART:20251102T060000
END:STANDARD
END:VTIMEZONE
BEGIN:VEVENT
DTSTART;TZID=America/New_York:20251210T083000
DTEND;TZID=America/New_York:20251210T130000
DTSTAMP:20260421T111914
CREATED:20250830T111841Z
LAST-MODIFIED:20250830T112020Z
UID:14815-1765355400-1765371600@www.thegrwdb.org
SUMMARY:Exhibitors Invited to 2-Day JA Inspire Career Fair at Middlesex College
DESCRIPTION:Middle school students want to learn about New Jersey companies and the world of work! Traditionally\, Junior Achievement of New Jersey (JA) has helped educators connect their students with career pathways and opportunities that inspire their future. \nToward that end\, a JA Inspire Career Fair is being conducted from 8:30 a.m. to 1:30 p.m. Tuesday\, February 24\, at Raritan Valley Community College in Branchburg. \nThis is one in a series of career exploration events being conducted around the state for New Jersey students. This series brings together various industries\, companies\, and employee volunteer role models to show hundreds of middle school students in attendance firsthand available careers and their pathways. JA encourages employer and exhibitor participants to create engaging displays to educate and excite the students about the world of work. \nOther locations in the career exploration series are: \n\nWednesday\, November\, Sussex County Community College\, Newton\nThursday\, November 13\, Passaic County Community College\, Wanaque\nThursday\, November 20 and Friday\, November 21\, Rowan College of South Jersey\, Vineland\nWednesday\, December 10 and Thursday\, December 11\, Middlesex College\, Edison\nTuesday\, March 17\, Atlantic Cape Community College\, Cape May\nThursday\, March 19\, Atlantic Cape Community College\, Mays Landing\nThursday\, March 26\, Rowan College of South Jersey\, Sewell\nTuesday\, June 9\, Middlesex College\, Edison\n\nEmployers and agencies interested in being an exhibitor may register by going here or by using the link in this flyer. There is no fee to be an exhibitor\, and companies may register at multiple events. \nFor more information\, contact Jamie Campbell at Jamie.Campbell@ja.org or visit janj.org.Mi
URL:https://www.thegrwdb.org/event/exhibitors-invited-to-2-day-ja-inspire-career-fair-at-middlesex-college/
LOCATION:Middlesex College\, 2600 Woodbridge Ave.\, Edison\, NJ\, 08818\, United States
CATEGORIES:Career Fair
END:VEVENT
BEGIN:VEVENT
DTSTART;TZID=America/New_York:20251210T100000
DTEND;TZID=America/New_York:20251210T113000
DTSTAMP:20260421T111914
CREATED:20251106T193722Z
LAST-MODIFIED:20251125T190627Z
UID:15178-1765360800-1765366200@www.thegrwdb.org
SUMMARY:Jersey Job Club Workshop: Preparing for the Interview
DESCRIPTION:The Greater Raritan One-Stop Career Center in Somerville is hosting a series of Jersey Job Club Workshops in November. These workshops will be virtual\, through Zoom\, but a limited number of seats are available for in-person attendance at the One-Stop Career Center\, 75 Veterans Memorial Drive\, Somerville. \nThe partners in the Greater Raritan One-Stop Career Center have the expertise and knowledge to help job seekers have success. In Jersey Job Club workshops\, a Greater Raritan One-Stop Career Coach leads hour- to 90-minute-long discussions on topics aimed at assisting job seekers in Hunterdon and Somerset Counties. There is no charge to attend. \nDates and topics are: \n\nMonday\, November 10\, 10 to 11:30 a.m.: Resume Writing Workshop 1 – Top Notch Resume\nWednesday\, November 12\, 10 to 11:30 a.m.: Resume Writing Workshop 2 – Cover Letters and More\nFriday\, November 14\, 10 to 11:30 a.m.: Networking – Best (fastest) way to find a job\nMonday\, November 17\, 10 to 11:30 a.m.: Resume Writing Workshop 1 – Top Notch Resume\nWednesday\, November 19\, 10 to 11:30 a.m.: Resume Writing Workshop 2 – Cover Letters and More\nFriday\, November 21\, 10 to 11:30 a.m.: Networking – Best (fastest) way to find a job\nMonday\, November 24\, 10 to 11:30 a.m.: Resume Writing Workshop 1 – Top Notch Resume\nMonday\, December 1\, 10 to 11:30 a.m.: Planning Your Job Search – Path to Employment\nWednesday\, December 3\, 10 to 11:30 a.m.: Acing the Interview 1 – Preparing for the Interview\nFriday\, December 5\, 10 to 11:30 a.m.: Acing the Interview 2 – Answering Interview Questions\nMonday\, December 8\, 10 to 11:30 a.m.: Planning Your Job Search – Path to Employment\nWednesday\, December 10\, 10 to 11:30 a.m.: Acing the Interview 1 – Preparing for the Interview\nFriday\, December 12\, 10 to 11:30 a.m.: Acing the Interview 2 – Answering Interview Questions\nMonday\, December 15\, 10 to 11:30 a.m.: Resume Writing Workshop 1 – Top Notch Resume\nWednesday\, December 17\, 10 to 11:30 a.m.: Resume Writing Workshop 2 – Cover Letters and More\nFriday\, December 19\, 10 to 11:30 a.m.: Networking: Best (Fastest?) Way to Find a Job\nMonday\, December 22\, 10 to 11:30 a.m.: Resume Writing Workshop 1 – Top Notch Resume\nMonday\, December 29\, 10 to 11:30 a.m.: Networking: Best (Fastest?) Way to Find a Job\n\nTo attend virtually or in person\, fill out an information/registration form. Once completed\, email it to shiela.gaa@dol.nj.gov by the Wednesday before the scheduled workshop\, or call 908-704-3000.
URL:https://www.thegrwdb.org/event/jersey-job-club-workshop-preparing-for-the-interview/
LOCATION:Greater Raritan One-Stop Career Center\, Somerville\, and virtual (hybrid event)\, 75 Veterans Memorial Drive\, Somerville\, NJ\, 08876\, United States
CATEGORIES:Workshops
END:VEVENT
END:VCALENDAR