BEGIN:VCALENDAR
VERSION:2.0
PRODID:-//Greater Raritan - ECPv6.3.5//NONSGML v1.0//EN
CALSCALE:GREGORIAN
METHOD:PUBLISH
X-WR-CALNAME:Greater Raritan
X-ORIGINAL-URL:https://www.thegrwdb.org
X-WR-CALDESC:Events for Greater Raritan
REFRESH-INTERVAL;VALUE=DURATION:PT1H
X-Robots-Tag:noindex
X-PUBLISHED-TTL:PT1H
BEGIN:VTIMEZONE
TZID:America/New_York
BEGIN:DAYLIGHT
TZOFFSETFROM:-0500
TZOFFSETTO:-0400
TZNAME:EDT
DTSTART:20250309T070000
END:DAYLIGHT
BEGIN:STANDARD
TZOFFSETFROM:-0400
TZOFFSETTO:-0500
TZNAME:EST
DTSTART:20251102T060000
END:STANDARD
END:VTIMEZONE
BEGIN:VEVENT
DTSTART;TZID=America/New_York:20251124T100000
DTEND;TZID=America/New_York:20251124T113000
DTSTAMP:20260421T124612
CREATED:20251106T190421Z
LAST-MODIFIED:20251125T190329Z
UID:15168-1763978400-1763983800@www.thegrwdb.org
SUMMARY:Jersey Job Club Workship: Resume Writing 1
DESCRIPTION:The Greater Raritan One-Stop Career Center in Somerville is hosting a series of Jersey Job Club Workshops in November. These workshops will be virtual\, through Zoom\, but a limited number of seats are available for in-person attendance at the One-Stop Career Center\, 75 Veterans Memorial Drive\, Somerville. \nThe partners in the Greater Raritan One-Stop Career Center have the expertise and knowledge to help job seekers have success. In Jersey Job Club workshops\, a Greater Raritan One-Stop Career Coach leads hour- to 90-minute-long discussions on topics aimed at assisting job seekers in Hunterdon and Somerset Counties. There is no charge to attend. \nDates and topics are: \n\nMonday\, November 10\, 10 to 11:30 a.m.: Resume Writing Workshop 1 – Top Notch Resume\nWednesday\, November 12\, 10 to 11:30 a.m.: Resume Writing Workshop 2 – Cover Letters and More\nFriday\, November 14\, 10 to 11:30 a.m.: Networking – Best (fastest) way to find a job\nMonday\, November 17\, 10 to 11:30 a.m.: Resume Writing Workshop 1 – Top Notch Resume\nWednesday\, November 19\, 10 to 11:30 a.m.: Resume Writing Workshop 2 – Cover Letters and More\nFriday\, November 21\, 10 to 11:30 a.m.: Networking – Best (fastest) way to find a job\nMonday\, November 24\, 10 to 11:30 a.m.: Resume Writing Workshop 1 – Top Notch Resume\nMonday\, December 1\, 10 to 11:30 a.m.: Planning Your Job Search – Path to Employment\nWednesday\, December 3\, 10 to 11:30 a.m.: Acing the Interview 1 – Preparing for the Interview\nFriday\, December 5\, 10 to 11:30 a.m.: Acing the Interview 2 – Answering Interview Questions\nMonday\, December 8\, 10 to 11:30 a.m.: Planning Your Job Search – Path to Employment\nWednesday\, December 10\, 10 to 11:30 a.m.: Acing the Interview 1 – Preparing for the Interview\nFriday\, December 12\, 10 to 11:30 a.m.: Acing the Interview 2 – Answering Interview Questions\nMonday\, December 15\, 10 to 11:30 a.m.: Resume Writing Workshop 1 – Top Notch Resume\nWednesday\, December 17\, 10 to 11:30 a.m.: Resume Writing Workshop 2 – Cover Letters and More\nFriday\, December 19\, 10 to 11:30 a.m.: Networking: Best (Fastest?) Way to Find a Job\nMonday\, December 22\, 10 to 11:30 a.m.: Resume Writing Workshop 1 – Top Notch Resume\nMonday\, December 29\, 10 to 11:30 a.m.: Networking: Best (Fastest?) Way to Find a Job\n\nTo attend virtually or in person\, fill out an information/registration form. Once completed\, email it to shiela.gaa@dol.nj.gov by the Wednesday before the scheduled workshop\, or call 908-704-3000.
URL:https://www.thegrwdb.org/event/jersey-job-club-workship-resume-writing-1/
LOCATION:Greater Raritan One-Stop Career Center\, Somerville\, and virtual (hybrid event)\, 75 Veterans Memorial Drive\, Somerville\, NJ\, 08876\, United States
END:VEVENT
BEGIN:VEVENT
DTSTART;TZID=America/New_York:20251124T100000
DTEND;TZID=America/New_York:20251124T123000
DTSTAMP:20260421T124612
CREATED:20251007T224831Z
LAST-MODIFIED:20251007T224849Z
UID:14964-1763978400-1763987400@www.thegrwdb.org
SUMMARY:PSGCNJ Workshop: Effective Holiday Networking Tips
DESCRIPTION:The Professional Service Group of Central New Jersey (PSGCNJ) will host career-management consultant Rev. Rod Williams\, presenting “Effective Holiday Networking Tips\,” starting at 10 a.m. Monday\, November 24. The workshop is designed to help job seekers navigate their careers. \nAt noon\, Maya Ollson\, founder of Kokopella High Touch Outplacement\, will facilitate a 30-minute Q&A session to answer job-search questions. \nAll PSGCNJ members\, guests\, and speakers must pre-register for each general meeting by 11 p.m. EST the Friday before Monday’s presentation. \nTo register for the virtual event: click the link. \nPSGCNJ is the nation’s first employment community that helps unemployed and underemployed college-educated professionals land their next job. Members volunteer their time and talent to operate the 501(c)3 nonprofit.
URL:https://www.thegrwdb.org/event/psgcnj-workshop-effective-holiday-networking-tips/
LOCATION:Virtual Event
CATEGORIES:Workshops
END:VEVENT
BEGIN:VEVENT
DTSTART;TZID=America/New_York:20251124T100000
DTEND;TZID=America/New_York:20251124T123000
DTSTAMP:20260421T124612
CREATED:20251105T164918Z
LAST-MODIFIED:20251105T164918Z
UID:15133-1763978400-1763987400@www.thegrwdb.org
SUMMARY:PSGCNJ Workshop: Effective Holiday Networking Tips
DESCRIPTION:The Professional Service Group of Central New Jersey (PSGCNJ) will host career-management consultant Rev. Rod Williams\, who will present “Effective Holiday Networking Tips” starting at 10 a.m. Monday\, November 24.  The workshop is designed to help job seekers find their next opportunity. \nAt noon\, Maya Ollson\, founder of Kokopella High Touch Outplacement\, will facilitate a 30-minute Q&A session to answer job-search questions. \nAll PSGCNJ members\, guests\, and speakers must pre-register for each general meeting by 11 p.m. EST the Friday before Monday’s presentation. \nTo register for the virtual event: click the link. \nPSGCNJ is the nation’s first employment community that helps unemployed and underemployed college-educated professionals land their next job. Members volunteer their time and talent to operate the 501(c)3 nonprofit.
URL:https://www.thegrwdb.org/event/psgcnj-workshop-effective-holiday-networking-tips-2/
LOCATION:Virtual Meeting
CATEGORIES:Workshops
END:VEVENT
END:VCALENDAR