BEGIN:VCALENDAR
VERSION:2.0
PRODID:-//Greater Raritan - ECPv6.3.5//NONSGML v1.0//EN
CALSCALE:GREGORIAN
METHOD:PUBLISH
X-ORIGINAL-URL:https://www.thegrwdb.org
X-WR-CALDESC:Events for Greater Raritan
REFRESH-INTERVAL;VALUE=DURATION:PT1H
X-Robots-Tag:noindex
X-PUBLISHED-TTL:PT1H
BEGIN:VTIMEZONE
TZID:America/New_York
BEGIN:DAYLIGHT
TZOFFSETFROM:-0500
TZOFFSETTO:-0400
TZNAME:EDT
DTSTART:20250309T070000
END:DAYLIGHT
BEGIN:STANDARD
TZOFFSETFROM:-0400
TZOFFSETTO:-0500
TZNAME:EST
DTSTART:20251102T060000
END:STANDARD
END:VTIMEZONE
BEGIN:VEVENT
DTSTART;TZID=America/New_York:20251118T100000
DTEND;TZID=America/New_York:20251118T104500
DTSTAMP:20260421T124746
CREATED:20251114T232437Z
LAST-MODIFIED:20251114T232437Z
UID:15282-1763460000-1763462700@www.thegrwdb.org
SUMMARY:GRWDB Disabilities Committee Meeting
DESCRIPTION:Through policy\, oversight\, and planning\, the GRWDB ensures that workforce training and education investments are responsive to and meet the needs of employers and jobseekers and is responsible for maintaining committees to help inform decision-making around services and priorities. One of those includes the GRWDB’s Disabilities Committee\, which works to coordinate and integrate local disability services with each other and the One-Stop Career Center while seeking ways to expand and integrate local disability resources and services. \nThis month’s agenda will include discussion of an upcoming Recruitment Event in January 2026 and an update on Project Search. \nFind the agenda on the Events – Meeting Packages tab of the website. \nThis meeting can be attended via GoToMeeting \nGRWDB Disabilities Committee\nNovember 18\, 2025\, 10:00 – 10:45 AM \nPlease join the meeting from your computer\, tablet or smartphone.\nhttps://meet.goto.com/209708661 \nYou can also dial in using your phone: +1 (872) 240-3212; Access Code: 209-708-661 \nGet the app now and be ready when your first meeting starts:\nhttps://meet.goto.com/install \nNewcomers\, please RSVP to info@thegrwdb.org for details. \n  \n 
URL:https://www.thegrwdb.org/event/grwdb-disabilities-committee-meeting-8/
LOCATION:GoToMeeting
CATEGORIES:Committee Meeting
END:VEVENT
BEGIN:VEVENT
DTSTART;TZID=America/New_York:20251118T120000
DTEND;TZID=America/New_York:20251118T133000
DTSTAMP:20260421T124746
CREATED:20251106T154528Z
LAST-MODIFIED:20251106T154528Z
UID:15136-1763467200-1763472600@www.thegrwdb.org
SUMMARY:Virtual Workshop: Resume Writing 101
DESCRIPTION:The New Jersey State Library is hosting a virtual workshop\, Resume Writing 101\, starting at noon Tuesday\, November 18. \nTopics to be covered include: \n\nWriting a resume from the employer’s viewpoint versus the job seeker’s\nThe purpose of position statements\nBasic headings and formatting the information within them.\n\nParticipants may have their resume ready so that they can make changes in real-time. \nThe presenter is Paul Cecala\, a certified Global Career Development Facilitator\, work search author\, and founder of Cecala Career Consultants. He currently facilitates job seeker networking groups for four different organizations. He has helmed the adult professional education programs for  two colleges and a state One-Stop Career Center. \nTo register\, go here or use the link in this flyer.
URL:https://www.thegrwdb.org/event/virtual-workshop-resume-writing-101/
LOCATION:Virtual Event
CATEGORIES:Workshops
END:VEVENT
BEGIN:VEVENT
DTSTART;TZID=America/New_York:20251118T190000
DTEND;TZID=America/New_York:20251118T203000
DTSTAMP:20260421T124746
CREATED:20251009T153550Z
LAST-MODIFIED:20251009T153550Z
UID:14974-1763492400-1763497800@www.thegrwdb.org
SUMMARY:Hunterdon County Library Lifelong Learning Series: Excel Tips\, Tricks and Secrets
DESCRIPTION:As part of a Lifelong Learning series of programming for job seekers\, the Hunterdon County Library is presenting four in-person Excel classes this fall at the Hunterdon County Library Headquarters\, Route 12\, Flemington. \nThe Tuesday\, November 18\, class at 7 p.m. is on Excel tips\, Tricks and Secrets. This 90-minute workshop will provide time-saving shortcuts\, little-known features\, and tools that make working with spreadsheets easier and more efficient. Topics include quick formatting techniques\, essential formulas\, keyboard shortcuts\, data organization hacks\, and creating simple charts with ease. \nTo register for the class\, use the QR code in this flyer or go here.
URL:https://www.thegrwdb.org/event/hunterdon-county-library-lifelong-learning-series-excel-tips-tricks-and-secrets/
LOCATION:Hunterdon County Library\, 314 Route 12\, Flemington\, NJ\, 08822\, United States
CATEGORIES:Workshops
END:VEVENT
END:VCALENDAR