BEGIN:VCALENDAR
VERSION:2.0
PRODID:-//Greater Raritan - ECPv6.3.5//NONSGML v1.0//EN
CALSCALE:GREGORIAN
METHOD:PUBLISH
X-WR-CALNAME:Greater Raritan
X-ORIGINAL-URL:https://www.thegrwdb.org
X-WR-CALDESC:Events for Greater Raritan
REFRESH-INTERVAL;VALUE=DURATION:PT1H
X-Robots-Tag:noindex
X-PUBLISHED-TTL:PT1H
BEGIN:VTIMEZONE
TZID:America/New_York
BEGIN:DAYLIGHT
TZOFFSETFROM:-0500
TZOFFSETTO:-0400
TZNAME:EDT
DTSTART:20250309T070000
END:DAYLIGHT
BEGIN:STANDARD
TZOFFSETFROM:-0400
TZOFFSETTO:-0500
TZNAME:EST
DTSTART:20251102T060000
END:STANDARD
END:VTIMEZONE
BEGIN:VEVENT
DTSTART;TZID=America/New_York:20251111T140000
DTEND;TZID=America/New_York:20251111T144500
DTSTAMP:20260421T124612
CREATED:20251107T001924Z
LAST-MODIFIED:20251107T001924Z
UID:15229-1762869600-1762872300@www.thegrwdb.org
SUMMARY:GRWDB Literacy Committee
DESCRIPTION:Through policy\, oversight\, and planning\, the GRWDB ensures that workforce training and education investments are responsive to and meet the needs of employers and jobseekers and is responsible for maintaining committees to help inform decision-making around services and priorities for targeted populations. One of those includes the GRWDB’s Literacy Committee\, which works with Title II literacy providers and volunteer literacy organizations in Hunterdon and Somerset counties to ensure literacy training is connected to the other services offered in Greater Raritan’s workforce system. \nThe agenda for the November 11 meeting will include updates of First Steps and Title II programs and a on a recent webinar\, Leveraging English Instruction to Build Workforce Pipelines.  Go to the GRWDB Meeting Packages page for the agenda. Meeting details: \nGRWDB Literacy Meeting\nNovember 12\, 2025\, 2:00 – 2:45 PM \nPlease join the meeting from your computer\, tablet or smartphone.\nhttps://meet.goto.com/411167173 \nYou can also dial in using your phone: United States: +1 (224) 501-3412; Access Code: 411-167-173 \nAll GRWDB committee meetings are open to the public.
URL:https://www.thegrwdb.org/event/grwdb-literacy-committee-3/
LOCATION:Virtual Meeting
END:VEVENT
END:VCALENDAR