BEGIN:VCALENDAR
VERSION:2.0
PRODID:-//Greater Raritan - ECPv6.3.5//NONSGML v1.0//EN
CALSCALE:GREGORIAN
METHOD:PUBLISH
X-WR-CALNAME:Greater Raritan
X-ORIGINAL-URL:https://www.thegrwdb.org
X-WR-CALDESC:Events for Greater Raritan
REFRESH-INTERVAL;VALUE=DURATION:PT1H
X-Robots-Tag:noindex
X-PUBLISHED-TTL:PT1H
BEGIN:VTIMEZONE
TZID:America/New_York
BEGIN:DAYLIGHT
TZOFFSETFROM:-0500
TZOFFSETTO:-0400
TZNAME:EDT
DTSTART:20250309T070000
END:DAYLIGHT
BEGIN:STANDARD
TZOFFSETFROM:-0400
TZOFFSETTO:-0500
TZNAME:EST
DTSTART:20251102T060000
END:STANDARD
END:VTIMEZONE
BEGIN:VEVENT
DTSTART;TZID=America/New_York:20251106T090000
DTEND;TZID=America/New_York:20251106T130000
DTSTAMP:20260421T124604
CREATED:20250322T223323Z
LAST-MODIFIED:20250322T223336Z
UID:13728-1762419600-1762434000@www.thegrwdb.org
SUMMARY:Free Forklift Certificate Class at Greater Raritan One-Stop Career Center\, Somerville
DESCRIPTION:The Greater Raritan One-Stop Career Employment Services office at 75 Veterans Memorial Drive in Somerville offers a free forklift certificate class on the first Thursday of each month from 9 a.m. to 1 p.m. throughout the year. \nThe Powered Industrial Trucks (PIT) Certificate Class will enable successful participants to receive an operator’s permit from their employer upon passing a practical skills evaluation at their workplace. To take the course\, participants must have an office government ID (driver’s license\, passport\, etc.) The Greater Raritan One-Stop Career Center services residents of Hunterdon and Somerset counties. \nClasses in 2025 are on April 3\, May 1\, June 5\, July 3\, August 7\, September 4\, October 2\, November 6 and December 4. Participants are asked to arrive at 8:30 a.m. on the day of the class. \nClasses may fill up quickly. To register\, go to the One-Stop Career Center walk-in window and ring the bell\, or call 908-704-3000. \n 
URL:https://www.thegrwdb.org/event/free-forklift-certificate-class-at-greater-raritan-one-stop-career-center-somerville-8/
LOCATION:Somerville One-Stop Career Center\, 75 Veterans Memorial Drive East\, Somerville\, NJ\, 08876\, United States
CATEGORIES:Class
END:VEVENT
BEGIN:VEVENT
DTSTART;TZID=America/New_York:20251106T100000
DTEND;TZID=America/New_York:20251106T120000
DTSTAMP:20260421T124604
CREATED:20250826T173453Z
LAST-MODIFIED:20250826T173752Z
UID:14748-1762423200-1762430400@www.thegrwdb.org
SUMMARY:Career Workshop: Business Etiquette for Job Seekers
DESCRIPTION:The art of portraying a poised\, self-confident image in today’s demanding business atmosphere is a skill that is much too often overlooked by many professionals\, but not by those observing and making critical judgments based upon the person’s communication. \nTo learn about this topic\, job seekers are invited to attend a Business Etiquette workshop\, running from 10 a.m. to 12 p.m. Thursday\, November 6\, at the Watchung Library’s temporary location at20 Stirling Road\, Watchung. \nTopics to be covered include: how you can sabotage a positive first impressions; practicing business etiquette to build and maintain relationships; delivering your message in verbal\, non-verbal and written way; proper introductions and professional presence\, including grooming; and Netiquette. \nThe workshop will be presented by Jan Goodman\, a certified workforce development professional for the Greater Raritan One-Stop Career Training Services Center. This program is in collaboration with the Training Center and Somerset County Library System. \nTo register\, click on the following link: https://sclsnj.libnet.info/event/14286113.
URL:https://www.thegrwdb.org/event/career-workshop-business-etiquette-for-job-seekers/
LOCATION:Watchung Library (temporary location)\, 20 Stirling Road\, Watchung\, NJ\, 07069\, United States
CATEGORIES:Workshops
END:VEVENT
BEGIN:VEVENT
DTSTART;TZID=America/New_York:20251106T100000
DTEND;TZID=America/New_York:20251106T140000
DTSTAMP:20260421T124604
CREATED:20251030T220033Z
LAST-MODIFIED:20251030T220823Z
UID:15069-1762423200-1762437600@www.thegrwdb.org
SUMMARY:Hackensack Meridian Health Career Fair
DESCRIPTION:Middlesex County Office of Workforce and Career Development\, in partnership with Hackensack Meridian Health (HMH)\, is hosting a Career Fair on Thursday\, November 6\, from 10 a.m. to 2 p.m. at Middlesex College\, West Hall – Parkview Room\, Edison. \nAttendees can meet directly with HMH hiring managers and learn about clinical and non-clinical opportunities across the Central Jersey region. Attendees are asked to come prepared for potential on-the-spot interviews. \nUse the QR code in this flyer to register for the event or go here. \n 
URL:https://www.thegrwdb.org/event/hackensack-meridian-health-career-fair/
LOCATION:Middlesex College\, 2600 Woodbridge Ave.\, Edison\, NJ\, 08818\, United States
CATEGORIES:Career Fair
END:VEVENT
BEGIN:VEVENT
DTSTART;TZID=America/New_York:20251106T130000
DTEND;TZID=America/New_York:20251106T140000
DTSTAMP:20260421T124604
CREATED:20251030T221514Z
LAST-MODIFIED:20251030T222212Z
UID:15073-1762434000-1762437600@www.thegrwdb.org
SUMMARY:Apprenticeship Learning Webinar For Training Providers\, Job Seekers and Employers
DESCRIPTION:The District 1199C Training & Upgrading Fund is one of 15 U.S. Department of Labor–funded Registered Apprenticeship Industry Intermediaries. \nAs part of this national effort\, the agency is offering complimentary technical assistance and learning opportunities webinar at 1 p.m. Thursday\, November 6. \nThis session will explore the Workforce Innovation and Opportunity Act (WIOA) and its benefits for training providers\, job seekers\, and employers. The presentation is tailored for those involved in apprenticeship and work-based learning\, with presenters sharing practical strategies and actionable steps to help attendees engage more effectively with the workforce development system. \nTo register\, go here.
URL:https://www.thegrwdb.org/event/apprenticeship-learning-webinar-for-training-providers-job-seekers-and-employers/
LOCATION:Virtual Meeting
CATEGORIES:Apprenticeship Event
END:VEVENT
BEGIN:VEVENT
DTSTART;TZID=America/New_York:20251106T150000
DTEND;TZID=America/New_York:20251106T154500
DTSTAMP:20260421T124604
CREATED:20251031T193525Z
LAST-MODIFIED:20251031T193525Z
UID:15098-1762441200-1762443900@www.thegrwdb.org
SUMMARY:GRWDB Operations Committee Meeting – Virtual
DESCRIPTION:Through policy\, oversight\, and planning\, the GRWDB ensures that workforce training and education investments are responsive to and meet the needs of employers and jobseekers and is responsible for maintaining committees to help inform decision-making around services and priorities for targeted populations. One of those includes the GRWDB’s One-Stop Operations Committee\, which provides strategy and direction for the services and programs offered by the One-Stop locations in Flemington (Hunterdon County) and Somerville (Somerset County). \nAttendees may join via GoToMeeting. \nGRWDB Operations Committee Meeting\nNovember 6\, 2025\, 3:00 – 3:45 PM \nPlease join the meeting from your computer\, tablet or smartphone.\nhttps://meet.goto.com/837381285 \nYou can also dial in using your phone.\nAccess Code: 837-381-285\nUnited States: +1 (224) 501-3412 \nMeeting agendas are posted here on the GRWDB website. \nNewcomers\, please RSVP to info@thegrwdb.org for more information!
URL:https://www.thegrwdb.org/event/grwdb-operations-committee-meeting-virtual-4/
LOCATION:Virtual Meeting
CATEGORIES:Committee Meeting
END:VEVENT
END:VCALENDAR