BEGIN:VCALENDAR
VERSION:2.0
PRODID:-//Greater Raritan - ECPv6.3.5//NONSGML v1.0//EN
CALSCALE:GREGORIAN
METHOD:PUBLISH
X-ORIGINAL-URL:https://www.thegrwdb.org
X-WR-CALDESC:Events for Greater Raritan
REFRESH-INTERVAL;VALUE=DURATION:PT1H
X-Robots-Tag:noindex
X-PUBLISHED-TTL:PT1H
BEGIN:VTIMEZONE
TZID:America/New_York
BEGIN:DAYLIGHT
TZOFFSETFROM:-0500
TZOFFSETTO:-0400
TZNAME:EDT
DTSTART:20250309T070000
END:DAYLIGHT
BEGIN:STANDARD
TZOFFSETFROM:-0400
TZOFFSETTO:-0500
TZNAME:EST
DTSTART:20251102T060000
END:STANDARD
END:VTIMEZONE
BEGIN:VEVENT
DTSTART;TZID=America/New_York:20251010T080000
DTEND;TZID=America/New_York:20251010T160000
DTSTAMP:20260421T134550
CREATED:20250708T224021Z
LAST-MODIFIED:20250708T224428Z
UID:14409-1760083200-1760112000@www.thegrwdb.org
SUMMARY:Facing the Future 2025: Conference on Strategies for Competitive Integrated Employment
DESCRIPTION:Registration is now open for Facing the Future 2025\, happening Friday\, Oct. 10 in New Brunswick. The annual conference sponsored by The Boggs Center on Disability and Human Development and NJ APSE highlights best practices in supporting people with disabilities in career planning\, supported and customized employment\, and transition from school to work. \nThe 2025 conference being conducted from 8 a.m. to 4 p.m. at the Hyatt Regency in New Brunswick is subtitled\, “Uncharted Waters: Navigation Strategies for Competitive Integrated Employment.” The conference features 12 workshops on transition\, support strategies\, job coaching\, and job development\, and a keynote presentation by Duncan Winburn. The keynote presentation will be given by Duncan Winburn\, a third-year law student at the Joseph F. Rice School of Law\, University of South Carolina\, and a disability rights advocate. \nGo here to review the conference brochure. \nContinuing Education Credits are offered for Social Work\, Rehabilitation Counseling\, Education\, and APSE Certified Employment Support Professional (CESP). \nUntil August 8\, Early Bird registration for APSE members is $165.00; after that\, registration is $195.00. Non-member Early Bird Registration is $200.00; after that\, registration is $225.00. The registration deadline is September 5. To register online\, go here. \nOrganizations interested in being an exhibitor at the event may register here. Exhibitor registration closes on August. 8.
URL:https://www.thegrwdb.org/event/facing-the-future-2025-conference-on-strategies-for-competitive-integrated-employment/
LOCATION:Hyatt Regency New Brunswick\, 2 Albany St.\, New Brunswick\, NJ\, 08901\, United States
CATEGORIES:Community Event
END:VEVENT
END:VCALENDAR