BEGIN:VCALENDAR
VERSION:2.0
PRODID:-//Greater Raritan - ECPv6.3.5//NONSGML v1.0//EN
CALSCALE:GREGORIAN
METHOD:PUBLISH
X-ORIGINAL-URL:https://www.thegrwdb.org
X-WR-CALDESC:Events for Greater Raritan
REFRESH-INTERVAL;VALUE=DURATION:PT1H
X-Robots-Tag:noindex
X-PUBLISHED-TTL:PT1H
BEGIN:VTIMEZONE
TZID:America/New_York
BEGIN:DAYLIGHT
TZOFFSETFROM:-0500
TZOFFSETTO:-0400
TZNAME:EDT
DTSTART:20250309T070000
END:DAYLIGHT
BEGIN:STANDARD
TZOFFSETFROM:-0400
TZOFFSETTO:-0500
TZNAME:EST
DTSTART:20251102T060000
END:STANDARD
END:VTIMEZONE
BEGIN:VEVENT
DTSTART;TZID=America/New_York:20251009T100000
DTEND;TZID=America/New_York:20251009T170000
DTSTAMP:20260421T134842
CREATED:20251007T220612Z
LAST-MODIFIED:20251007T220941Z
UID:14954-1760004000-1760029200@www.thegrwdb.org
SUMMARY:Alternative Inc. Open House and Information Session Day
DESCRIPTION:Alternatives Inc. is hosting an Open House and Information Session Day on Thursday\, October 9\, at its agency headquarters at 600 First Ave.\, Raritan Borough. \nSessions will be conducted on the hour at 10 a.m.\, 12 p.m.\, 2 p.m. and 4 p.m. \nThe agency has immediate openings in a variety of roles and schedules as it prepares to open its newest Group Home in Hillsborough. No experience is required for some roles and paid training and growth opportunities are provided. \nThis event is appropriate for individuals interested in the human services and ABA fields. All attendees must complete an online application (available here) prior to attending a session. On-the-spot interviews will be conducted following each session.
URL:https://www.thegrwdb.org/event/alternative-inc-open-house-and-information-session-day/
LOCATION:Alternatives Inc.\, 600 First Ave.\, Raritan\, NJ\, United States
CATEGORIES:Recruitment Event
END:VEVENT
BEGIN:VEVENT
DTSTART;TZID=America/New_York:20251009T103000
DTEND;TZID=America/New_York:20251009T113000
DTSTAMP:20260421T134842
CREATED:20250818T155947Z
LAST-MODIFIED:20250926T184611Z
UID:14648-1760005800-1760009400@www.thegrwdb.org
SUMMARY:Creative Connections: Fall Festival
DESCRIPTION:Creative Connections is a monthly program at the Hunterdon County Library Headquarters Branch at 314 Route 12\, Building 3\, in Flemington\, for adults with intellectual and developmental disabilities to enjoy themed crafts and activities together. \nThe meeting theme for the Thursday\, October 9\, program running from 10:30 to 11:30 a.m. is “Fall Festival.” Participants will welcome the colorful season of fall. \nCaregivers or support staff are required to attend and engage in activities\, and registration is required to ensure a meaningful and personalized experience for all. \nThe program will be conducted in the library’s Main Meeting Room. \nRegistration Link: https://hclibrary.libcal.com/event/14627538 . \n 
URL:https://www.thegrwdb.org/event/creative-connections-fall-festival/
LOCATION:Hunterdon County Library\, 314 Route 12\, Flemington\, NJ\, 08822\, United States
CATEGORIES:Community Event
END:VEVENT
END:VCALENDAR