BEGIN:VCALENDAR
VERSION:2.0
PRODID:-//Greater Raritan - ECPv6.3.5//NONSGML v1.0//EN
CALSCALE:GREGORIAN
METHOD:PUBLISH
X-WR-CALNAME:Greater Raritan
X-ORIGINAL-URL:https://www.thegrwdb.org
X-WR-CALDESC:Events for Greater Raritan
REFRESH-INTERVAL;VALUE=DURATION:PT1H
X-Robots-Tag:noindex
X-PUBLISHED-TTL:PT1H
BEGIN:VTIMEZONE
TZID:America/New_York
BEGIN:DAYLIGHT
TZOFFSETFROM:-0500
TZOFFSETTO:-0400
TZNAME:EDT
DTSTART:20250309T070000
END:DAYLIGHT
BEGIN:STANDARD
TZOFFSETFROM:-0400
TZOFFSETTO:-0500
TZNAME:EST
DTSTART:20251102T060000
END:STANDARD
END:VTIMEZONE
BEGIN:VEVENT
DTSTART;TZID=America/New_York:20251002T090000
DTEND;TZID=America/New_York:20251002T130000
DTSTAMP:20260421T132410
CREATED:20250322T223205Z
LAST-MODIFIED:20250322T223222Z
UID:13725-1759395600-1759410000@www.thegrwdb.org
SUMMARY:Free Forklift Certificate Class at Greater Raritan One-Stop Career Center\, Somerville
DESCRIPTION:The Greater Raritan One-Stop Career Employment Services office at 75 Veterans Memorial Drive in Somerville offers a free forklift certificate class on the first Thursday of each month from 9 a.m. to 1 p.m. throughout the year. \nThe Powered Industrial Trucks (PIT) Certificate Class will enable successful participants to receive an operator’s permit from their employer upon passing a practical skills evaluation at their workplace. To take the course\, participants must have an office government ID (driver’s license\, passport\, etc.) The Greater Raritan One-Stop Career Center services residents of Hunterdon and Somerset counties. \nClasses in 2025 are on April 3\, May 1\, June 5\, July 3\, August 7\, September 4\, October 2\, November 6 and December 4. Participants are asked to arrive at 8:30 a.m. on the day of the class. \nClasses may fill up quickly. To register\, go to the One-Stop Career Center walk-in window and ring the bell\, or call 908-704-3000. \n 
URL:https://www.thegrwdb.org/event/free-forklift-certificate-class-at-greater-raritan-one-stop-career-center-somerville-7/
LOCATION:Somerville One-Stop Career Center\, 75 Veterans Memorial Drive East\, Somerville\, NJ\, 08876\, United States
CATEGORIES:Class
END:VEVENT
BEGIN:VEVENT
DTSTART;TZID=America/New_York:20251002T120000
DTEND;TZID=America/New_York:20251002T133000
DTSTAMP:20260421T132410
CREATED:20250926T221538Z
LAST-MODIFIED:20250926T221538Z
UID:14867-1759406400-1759411800@www.thegrwdb.org
SUMMARY:GRWDB Board Meeting – virtually and in person
DESCRIPTION:A quarterly GRWDB Board Meeting will be conducted from 12 to 1:30 p.m. Thursday\, October 2\, 2025; attendees may join via GoToMeeting or in person in the second-floor conference room at 27 Warren St.\, Somerville.\n\n\n\n\n\n\n\nThe meeting will include presentations on the 2025 Program Year budget and a new finance policy\, updates on several GRWDB programs and initiatives as well as an update by One-Stop Operator.\n\n\n\n\nAll GRWDB Board and Committee meetings are open to the public. For questions\, contact GRWDB Director Paul Grzella at 908-541-5790\, or at grzella@co.somerset.nj.us.\n\n\n\n\n\n\n\n\nPlease join the meeting from your computer\, tablet or smartphone.\nhttps://meet.goto.com/746553157 \nYou can also dial in using your phone.\nUnited States: +1 (571) 317-3122; Access Code: 746-553-157 \nMeeting agendas can be found here on the GRWDB website. All are welcomed.
URL:https://www.thegrwdb.org/event/grwdb-board-meeting-virtually-and-in-person-2/
LOCATION:In-person at Somerset County Human Services building or via GoToMeeting\, 27 Warren St.\, second-floor conference room\, Somerville\, NJ\, 08876\, United States
CATEGORIES:Board Meeting
END:VEVENT
BEGIN:VEVENT
DTSTART;TZID=America/New_York:20251002T130000
DTEND;TZID=America/New_York:20251002T143000
DTSTAMP:20260421T132410
CREATED:20250825T211255Z
LAST-MODIFIED:20250825T233135Z
UID:14737-1759410000-1759415400@www.thegrwdb.org
SUMMARY:Career Workshop: Aligning Your Natural Abilities With Multiple Natures
DESCRIPTION:Each person has a unique set of traits which provides a predisposition towards different types of work and activities. \nThis Multiple Natures workshop focuses on a career and life assessment tool that can help one achieve perfect alignment. The assessment assists individuals in their quest for self-improvement and finding the flow to fulfill their true potential. \nDuring this workshop running from 1 to 2:30 p.m. Thursday\, October 2\, Multiple Natures Practitioner Jan Goodman will help participants unlock the secret of their unique natures to help them identify and engage their natural abilities to the highest level. The in-person workshop will be conducted at the North Branch County Library\, 65 Halstead St.\, Clinton. \nGoodman is a Certified Workforce Development Professional with the Greater Raritan One-Stop Career Training Services Center. This program is sponsored by the Greater Raritan One-Stop Career Training Services Center and the Hunterdon County Library System. \nTo register for this workshop\, please click on the following link: https://hclibrary.libcal.com/event/14936859.
URL:https://www.thegrwdb.org/event/career-workshop-aligning-your-natural-abilities-with-multiple-natures/
LOCATION:Hunterdon County Library System North County Branch\, 65 Halstead St.\, Clinton\,\, NJ\, 08809\, United States
CATEGORIES:Workshops
END:VEVENT
END:VCALENDAR