BEGIN:VCALENDAR
VERSION:2.0
PRODID:-//Greater Raritan - ECPv6.3.5//NONSGML v1.0//EN
CALSCALE:GREGORIAN
METHOD:PUBLISH
X-WR-CALNAME:Greater Raritan
X-ORIGINAL-URL:https://www.thegrwdb.org
X-WR-CALDESC:Events for Greater Raritan
REFRESH-INTERVAL;VALUE=DURATION:PT1H
X-Robots-Tag:noindex
X-PUBLISHED-TTL:PT1H
BEGIN:VTIMEZONE
TZID:America/New_York
BEGIN:DAYLIGHT
TZOFFSETFROM:-0500
TZOFFSETTO:-0400
TZNAME:EDT
DTSTART:20250309T070000
END:DAYLIGHT
BEGIN:STANDARD
TZOFFSETFROM:-0400
TZOFFSETTO:-0500
TZNAME:EST
DTSTART:20251102T060000
END:STANDARD
END:VTIMEZONE
BEGIN:VEVENT
DTSTART;TZID=America/New_York:20250925T100000
DTEND;TZID=America/New_York:20250925T120000
DTSTAMP:20260421T152900
CREATED:20250731T224220Z
LAST-MODIFIED:20250820T212853Z
UID:14549-1758794400-1758801600@www.thegrwdb.org
SUMMARY:Healthcare Multi-Employer Recruitment Event in Flemington
DESCRIPTION:Dozens of jobs available right now at healthcare businesses in Hunterdon and Somerset counties will be featured at a Thursday\, September 25\, in-person Healthcare Multi-Employer Recruitment Event.  This focused career fair\, presented by the New Jersey Department of Labor and Workforce Development and the Greater Raritan Workforce Development Board (GRWDB)\, will be conducted from 10 a.m. to 12 p.m. in the Hunterdon County Chamber of Commerce Center for Business & Entrepreneurship\, 119 Main St. Flemington. \nThe employers scheduled to be in attendance are: Anita’s Angels\, ArchAngel Services\, Bridgeway Senior Healthcare\, BrightStar Care of Hunterdon\, Foothill Acres Rehabilitation and Nursing Center\, Hackensack Meridian Health\, Hunterdon Medical Center\, New Jersey Eastern Star Rehabilitation & Nursing\, Right at Home\, Somerset County Office on Aging & Disability Services\, The COR Behavioral Group and Zufall Health. \nRegistration is strongly encouraged; those who pre-register may be considered for pre-scheduled on-site interviews being conducted by some of the participating employers. To be considered for an interview\, please register using the QR code in this flyer or this link: https://bit.ly/4mrwjWK. The registration form includes an updated list of employers\, and instructions for resume sharing to be considered for the on-site interviews will accompany registration confirmation. Walk-ins are welcome but on-site interviews may not be possible. \nEmployers will be available for informational discussions and more. In addition\, resources tables will feature information on programs and services available in Hunterdon County. \nTo help prepare for the event\, attendees are invited to How to Thrive During Transition and Change\, a virtual workshop\, running from 10 a.m.to 12 p.m. Thursday\, September 18. \nThe event\, hosted by the Greater Raritan Workforce Development Board and its partners\, will be presented by Jan Goodman\, a certified workforce development professional for the Greater Raritan One-Stop Career Training Services Center. \nWhile this workshop is connected to the September 25 recruitment event\, it is open to all interested job seekers\, and registration is required. To register\, go to https://bit.ly/4lvj3A1 or by using the QR code in this flyer. An email confirmation will be sent upon registration completion. \nFor questions about either the September 18 workshop or September 25 event\, email info@thegrwdb.org. or call 908-541-5790.
URL:https://www.thegrwdb.org/event/healthcare-multi-employer-recruitment-event-in-flemington/
LOCATION:Hunterdon County Chamber of Commerce Center for Business & Entrepreneurship\, 119 Main St.\, Flemington\, NJ\, 08812\, United States
CATEGORIES:Career Fair
END:VEVENT
BEGIN:VEVENT
DTSTART;TZID=America/New_York:20250925T100000
DTEND;TZID=America/New_York:20250925T120000
DTSTAMP:20260421T152900
CREATED:20250825T210706Z
LAST-MODIFIED:20250825T210746Z
UID:14734-1758794400-1758801600@www.thegrwdb.org
SUMMARY:Career Workshop: Creating A Dynamic Job Portfolio
DESCRIPTION:The job market continues to change\, as does the way we look for work. In the career workshop\, Creating a Dynamic Job Portfolio\, participants will discuss the value of presenting yourself as a complete package by using a resume as an introduction to an employer and backing it up with a portfolio presented at the interview. \nThe in-person workshop\, hosted by the Somerset County Library System\, will be presented from 10 a.m. to 12p.m. Thursday\, September 25\, at Watchung Library’s temporary location at 20 Stirling Road\, Watchung. The presenter is Jan Goodman\, a Certified Workforce Development Professional with the Greater Raritan One-Stop Career Center Training Services. \nTo register please click on the following link: https://sclsnj.libnet.info/event/14285822. \n 
URL:https://www.thegrwdb.org/event/career-workshop-creating-a-dynamic-job-portfolio/
LOCATION:Watchung Library (temporary location)\, 20 Stirling Road\, Watchung\, NJ\, 07069\, United States
CATEGORIES:Workshops
END:VEVENT
BEGIN:VEVENT
DTSTART;TZID=America/New_York:20250925T120000
DTEND;TZID=America/New_York:20250925T133000
DTSTAMP:20260421T152900
CREATED:20250826T192212Z
LAST-MODIFIED:20250826T192909Z
UID:14762-1758801600-1758807000@www.thegrwdb.org
SUMMARY:Registered Apprenticeship Academy Training: Adjusting Program Design for Growth and Expansion
DESCRIPTION:Are you a business owner with a registered apprenticeship program that you want to grow but you’re not sure where to start? Do you have a lot of ideas to grow your program but need support implementing a plan? \nAdjusting Program Design for Growth and Expansion: Using Tools for Program Evaluation is an expert-led training designed to help registered apprenticeship sponsors access their programs; current strengths\, gaps and growth opportunities to drive informed decision-making and enhance program success. \nThe Registered Apprenticeship Academy invites new and experienced program sponsors and employer partners to attend one of the following sessions. \nRegister for Option 1: Wednesday September 3\, 2025\, at 2 p.m. \nRegister for Option 2: Thursday September 25\, 2025\, at 12 p.m. \nIn this interactive training\, participants will: \n\nGain practical\, expert-led strategies.\nEngage in live discussions with peers and presenters.\nLeave with tools that can be implemented right away.\n\nSpace is limited so early registration is encouraged. Each session is hosted live via Microsoft Teams\, with links provided after registration.
URL:https://www.thegrwdb.org/event/registered-apprenticeship-academy-training-adjusting-program-design-for-growth-and-expansion-2/
LOCATION:Virtual Event
CATEGORIES:Apprenticeship Event
END:VEVENT
END:VCALENDAR