BEGIN:VCALENDAR
VERSION:2.0
PRODID:-//Greater Raritan - ECPv6.3.5//NONSGML v1.0//EN
CALSCALE:GREGORIAN
METHOD:PUBLISH
X-WR-CALNAME:Greater Raritan
X-ORIGINAL-URL:https://www.thegrwdb.org
X-WR-CALDESC:Events for Greater Raritan
REFRESH-INTERVAL;VALUE=DURATION:PT1H
X-Robots-Tag:noindex
X-PUBLISHED-TTL:PT1H
BEGIN:VTIMEZONE
TZID:America/New_York
BEGIN:DAYLIGHT
TZOFFSETFROM:-0500
TZOFFSETTO:-0400
TZNAME:EDT
DTSTART:20250309T070000
END:DAYLIGHT
BEGIN:STANDARD
TZOFFSETFROM:-0400
TZOFFSETTO:-0500
TZNAME:EST
DTSTART:20251102T060000
END:STANDARD
END:VTIMEZONE
BEGIN:VEVENT
DTSTART;TZID=America/New_York:20250918T100000
DTEND;TZID=America/New_York:20250918T120000
DTSTAMP:20260421T152900
CREATED:20250731T223120Z
LAST-MODIFIED:20250731T225451Z
UID:14547-1758189600-1758196800@www.thegrwdb.org
SUMMARY:Career Workshop: How to Thrive During Transition and Change
DESCRIPTION:Times of transition hold challenges and opportunities. Strategies and philosophies being presented during a virtual workshop\, “How to Thrive During Transition and Change\,” are designed to equip attendees with tools that lead to self-empowerment and success. \nThe workshop will be conducted from 10 a.m. to 12 p.m. Thursday\, September 18\, 2025. The workshop is being presented in conjunction with the Greater Raritan One-Stop Healthcare Industry Multi-Employer Recruitment Event being conducted on Thursday\, September 25\, at the Hunterdon County Chamber of Commerce\, 119 Main St.\, Flemington. \nThe workshop will be led by Jan Goodman\, a Certified Workforce Development Professional with the Greater Raritan One-Stop Career Training Center. \nRegistration for the workshop is required. Register at https://bit.ly/4lvj3A1 or by using the QR code in this flyer. \nFor more information on the September 25 Healthcare Industry Recruitment Event\, go here. \n  \n 
URL:https://www.thegrwdb.org/event/career-workshop-how-to-thrive-during-transition-and-change-2/
LOCATION:Virtual Event
CATEGORIES:Workshops
END:VEVENT
BEGIN:VEVENT
DTSTART;TZID=America/New_York:20250918T173000
DTEND;TZID=America/New_York:20250918T201500
DTSTAMP:20260421T152900
CREATED:20250818T224835Z
LAST-MODIFIED:20250818T225147Z
UID:14665-1758216600-1758226500@www.thegrwdb.org
SUMMARY:Central Jersey Housing Resource Center Homebuyer Seminar Part 2
DESCRIPTION:Central Jersey Housing Resource Center (CJHRC) is presenting a two-day virtual Homebuyer Workshop from 5:30 to 8:15 p.m. Tuesday\, September 16\, and Thursday\, September 18. \nThis HUD certified homebuyer free workshop will provide a comprehensive overview of the home buying process. Attendees will hear from the industry’s local professionals about how to become a successful homeowner. Topics to be covered include: \n\nMoney Management and Budgeting\nWorking with a Realtor\nCredit\nFair Housing\nHow to Get a Mortgage\nHome Inspections & Ten Important Questions\nWorking with a Real Estate Attorney\nAffordable Housing Options\nHomeowners Insurance\nDown Payment and Closing Cost Grants\n\nAttendees must attend both days and will receive a certificate after the workshops are completed. In order to obtain a certificate\, participants\nmust complete and submit required forms. \nTo register\, go to https://cjhrc.org. or the link in this flyer. If you have questions or need help registering\, contact a CJHRC Counselor at 908-446-0036.
URL:https://www.thegrwdb.org/event/central-jersey-housing-resource-center-homebuyer-seminar-part-ii/
LOCATION:Virtual Event
CATEGORIES:Community Event
END:VEVENT
END:VCALENDAR