BEGIN:VCALENDAR
VERSION:2.0
PRODID:-//Greater Raritan - ECPv6.3.5//NONSGML v1.0//EN
CALSCALE:GREGORIAN
METHOD:PUBLISH
X-WR-CALNAME:Greater Raritan
X-ORIGINAL-URL:https://www.thegrwdb.org
X-WR-CALDESC:Events for Greater Raritan
REFRESH-INTERVAL;VALUE=DURATION:PT1H
X-Robots-Tag:noindex
X-PUBLISHED-TTL:PT1H
BEGIN:VTIMEZONE
TZID:America/New_York
BEGIN:DAYLIGHT
TZOFFSETFROM:-0500
TZOFFSETTO:-0400
TZNAME:EDT
DTSTART:20250309T070000
END:DAYLIGHT
BEGIN:STANDARD
TZOFFSETFROM:-0400
TZOFFSETTO:-0500
TZNAME:EST
DTSTART:20251102T060000
END:STANDARD
END:VTIMEZONE
BEGIN:VEVENT
DTSTART;TZID=America/New_York:20250916T173000
DTEND;TZID=America/New_York:20250916T201500
DTSTAMP:20260421T152900
CREATED:20250818T224655Z
LAST-MODIFIED:20250818T224655Z
UID:14663-1758043800-1758053700@www.thegrwdb.org
SUMMARY:Central Jersey Housing Resource Center Homebuyer Webinar Part 1
DESCRIPTION:Central Jersey Housing Resource Center (CJHRC) is presenting a two-day virtual Homebuyer Workshop from 5:30 to 8:15 p.m. Tuesday\, September 16\, and Thursday\, September 18. \nThis HUD certified homebuyer free workshop will provide a comprehensive overview of the home buying process. Attendees will hear from the industry’s local professionals about how to become a successful homeowner. Topics to be covered include: \n\nMoney Management and Budgeting\nWorking with a Realtor\nCredit\nFair Housing\nHow to Get a Mortgage\nHome Inspections & Ten Important Questions\nWorking with a Real Estate Attorney\nAffordable Housing Options\nHomeowners Insurance\nDown Payment and Closing Cost Grants\n\nAttendees must attend both days and will receive a certificate after the workshops are completed. In order to obtain a certificate\, participants\nmust complete and submit required forms. \nTo register\, go to https://cjhrc.org. or the link in this flyer. If you have questions or need help registering\, contact a CJHRC Counselor at 908-446-0036.
URL:https://www.thegrwdb.org/event/central-jersey-housing-resource-center-homebuyer-webinar-part-1/
LOCATION:Virtual Event
CATEGORIES:Community Event
END:VEVENT
END:VCALENDAR