BEGIN:VCALENDAR
VERSION:2.0
PRODID:-//Greater Raritan - ECPv6.3.5//NONSGML v1.0//EN
CALSCALE:GREGORIAN
METHOD:PUBLISH
X-WR-CALNAME:Greater Raritan
X-ORIGINAL-URL:https://www.thegrwdb.org
X-WR-CALDESC:Events for Greater Raritan
REFRESH-INTERVAL;VALUE=DURATION:PT1H
X-Robots-Tag:noindex
X-PUBLISHED-TTL:PT1H
BEGIN:VTIMEZONE
TZID:America/New_York
BEGIN:DAYLIGHT
TZOFFSETFROM:-0500
TZOFFSETTO:-0400
TZNAME:EDT
DTSTART:20250309T070000
END:DAYLIGHT
BEGIN:STANDARD
TZOFFSETFROM:-0400
TZOFFSETTO:-0500
TZNAME:EST
DTSTART:20251102T060000
END:STANDARD
END:VTIMEZONE
BEGIN:VEVENT
DTSTART;TZID=America/New_York:20250915T110000
DTEND;TZID=America/New_York:20250915T140000
DTSTAMP:20260421T152859
CREATED:20250829T103009Z
LAST-MODIFIED:20250829T103316Z
UID:14784-1757934000-1757944800@www.thegrwdb.org
SUMMARY:Women’s Empowerment Course Series Offered by Norwescap
DESCRIPTION:Norwescap’s CLTC is hosting Empowerment Coach\, Eva Marie Webber\, to teach an eight-session Women’s Empowerment Course Series for the agency’s clients beginning on Monday\, September 8. These interactive classes will cover; People Pleasing\, Change\, Letting Go\, Resilience\, From Old Baggage to New Luggage and Celebrate YOU. The classes will provide the opportunity for participants to pause and learn more about who they are\, their needs\, and the areas they want to grow in. \nThe free classes will be conducted at the Warren County Habitat for Humanity Community Center\, 31 Belvidere Ave\, Washington\, NJ 07882. \nClasses will be presented September 8\, 10\, 15\, 17\, 22\, 24 and 29 and October 1\, 2025\, from 11 a.m. to 2 p.m. \nTo register for the Empowerment Class series\, call Terry Sickinger at 908-788-1453 or text 908-824-0582.
URL:https://www.thegrwdb.org/event/womens-empowerment-course-series-offered-by-norwescap-3/
LOCATION:Warren County Habitat for Humanity Commuty Center\, 31 Belvidere Ave.\, Washington\, NJ\, 07882\, United States
CATEGORIES:Class
END:VEVENT
END:VCALENDAR