BEGIN:VCALENDAR
VERSION:2.0
PRODID:-//Greater Raritan - ECPv6.3.5//NONSGML v1.0//EN
CALSCALE:GREGORIAN
METHOD:PUBLISH
X-ORIGINAL-URL:https://www.thegrwdb.org
X-WR-CALDESC:Events for Greater Raritan
REFRESH-INTERVAL;VALUE=DURATION:PT1H
X-Robots-Tag:noindex
X-PUBLISHED-TTL:PT1H
BEGIN:VTIMEZONE
TZID:America/New_York
BEGIN:DAYLIGHT
TZOFFSETFROM:-0500
TZOFFSETTO:-0400
TZNAME:EDT
DTSTART:20250309T070000
END:DAYLIGHT
BEGIN:STANDARD
TZOFFSETFROM:-0400
TZOFFSETTO:-0500
TZNAME:EST
DTSTART:20251102T060000
END:STANDARD
END:VTIMEZONE
BEGIN:VEVENT
DTSTART;TZID=America/New_York:20250628T140000
DTEND;TZID=America/New_York:20250628T150000
DTSTAMP:20260421T085352
CREATED:20250616T211630Z
LAST-MODIFIED:20250618T182018Z
UID:14280-1751119200-1751122800@www.thegrwdb.org
SUMMARY:Family-Based Immigration Sponsorship Program at Manville Library
DESCRIPTION:A local attorney will present a program on Family-Based Immigration Sponsorship from 2 to 3 p.m. Saturday\, June 28\, at the Manville Library\, 100 S. Tenth Ave.\, Manville. \nUnder current immigration law\, U.S. citizens and lawful permanent residents (green card holders) can help certain family members immigrate to the United States. Learn about the basics of family-based immigration sponsorship. In this program attendees will learn about the following: \n\nEligible relatives for family-based sponsorship\nFinancial support requirement for sponsors\nRequired documentation\nApplication process & timelines\nVisa Bulletin\nFAQ\n\nGo here for more information. \nThis program will be presented by Snehal Batra\, Esq.\, partner at NPZ Law Group\, PC\, located in Raritan Borough. Batra is an immigration attorney licensed in New Jersey since 2001 and her practice includes all areas of U.S. business/family immigration and naturalization.
URL:https://www.thegrwdb.org/event/family-based-immigration-sponsorship-at-manville-library/
LOCATION:SCLSNJ’s Manville Library Branch\, 100 S 10th Ave\, Manville\, NJ\, 08835\, United States
CATEGORIES:Community Event
END:VEVENT
END:VCALENDAR