BEGIN:VCALENDAR
VERSION:2.0
PRODID:-//Greater Raritan - ECPv6.3.5//NONSGML v1.0//EN
CALSCALE:GREGORIAN
METHOD:PUBLISH
X-WR-CALNAME:Greater Raritan
X-ORIGINAL-URL:https://www.thegrwdb.org
X-WR-CALDESC:Events for Greater Raritan
REFRESH-INTERVAL;VALUE=DURATION:PT1H
X-Robots-Tag:noindex
X-PUBLISHED-TTL:PT1H
BEGIN:VTIMEZONE
TZID:America/New_York
BEGIN:DAYLIGHT
TZOFFSETFROM:-0500
TZOFFSETTO:-0400
TZNAME:EDT
DTSTART:20250309T070000
END:DAYLIGHT
BEGIN:STANDARD
TZOFFSETFROM:-0400
TZOFFSETTO:-0500
TZNAME:EST
DTSTART:20251102T060000
END:STANDARD
END:VTIMEZONE
BEGIN:VEVENT
DTSTART;TZID=America/New_York:20250626T100000
DTEND;TZID=America/New_York:20250626T120000
DTSTAMP:20260421T085208
CREATED:20250609T163735Z
LAST-MODIFIED:20250609T164334Z
UID:14231-1750932000-1750939200@www.thegrwdb.org
SUMMARY:Multi-Employer Recruitment Event focusing on Hospitality\, Restaurant and Retail
DESCRIPTION:Employers in Somerset and Hunterdon counties are hiring. Learn more at an in-person Hospitality\, Restaurant and Retail Recruitment Event\, presented by the New Jersey Department of Labor and Workforce Development and the Greater Raritan Workforce Development Board on Thursday\, June 26\, 2025\, from 10 a.m. to 12 p.m. The event will be conducted in the first-floor conference room at 27 Warren St.\, Somerville. \nThe employers have dozens of job openings. Position titles include Crew Member\, Shift Leader\, Assistant Manager\, Store Manager\, Clerks and Night Clerks\, Patient Access Specialist\, Patient Intake\, Representative\, Hospitality Representative\, Food Service Host\, Dietary Aide\, Servers\, Bartenders\, Cooks\, Dishwashers\, Crew Member\, Assistant Manager\, Mobile Associate and more. \nAmong the employers scheduled to be in attendance as of June 9 are: A La Carte Premier Servers (banquet servers)\, Enjoy Your Party\, Hackensack Meridian Health (service roles)\, Masia Capital Group LLC – Dunkin’\, ShopRite of Hunterdon County\, The Rawson Group – Wendy’s\, and T-Mobile. \nEmployers will be available for informational discussions and more. To register\, use the QR code in this flyer or this link: https://bit.ly/4kD5GNK. Registration is appreciated but not mandatory\, unless a job seeker wants to be considered for an interview by some of the participating employers. The registration form includes an updated list of employers\, and instructions for interview and resume sharing will accompany registration confirmation. Walk-ins are welcome. \nTo help prepare for the event\, attendees are invited to a June 18 Business Etiquette. Click here for details. \nFor questions about either the June 18 workshop or June 26 event\, mail info@thegrwdb.org.
URL:https://www.thegrwdb.org/event/multi-employer-recruitment-event-focusing-on-hospitality-restaurant-and-retail/
LOCATION:Somerset County Human Services Building\, 27 Warren Street\, 1st floor conference room\, Somerville\, NJ\, 08876\, United States
CATEGORIES:Recruitment Event
END:VEVENT
BEGIN:VEVENT
DTSTART;TZID=America/New_York:20250626T120000
DTEND;TZID=America/New_York:20250626T130000
DTSTAMP:20260421T085208
CREATED:20250530T222421Z
LAST-MODIFIED:20250530T222525Z
UID:14217-1750939200-1750942800@www.thegrwdb.org
SUMMARY:Norwescap Career & Life Service presentation: All about the One-Stop Career Center system
DESCRIPTION:On Thursday\, June 26\, Norwescap’s Career & Life Club will present Jan Goodman from Greater Raritan One-Stop Career Training Center. \nThis virtual presentation will be conducted at Vir2 p.m. on Microsoft Teams. Goodman is a certified workforce development professional and can answer a vast variety of questions about employment services in Hunterdon and Somerset Counties. She will discuss the range of services offered by the local One-Stop system to assist with the next steps in your job search and career- related needs. \nTo register for the event: https://norwescap.us11.list-manage.com/track/click?u=73d9c80498d5cb56648adf2e8%26id=b909e7701b%26e=2fcc7ba29e. \nThese events are exclusive to Norwescap CLTC participants\, but everyone is welcome to become a participant\, and all services are free of charge. \nTo register and learn about the computer classes being offered in June\, cltc@norwescap.org or by phone: \n\nSomerset County clients: Call (908-900-0060 x1503) or text (908-899-1444) Sam Ricker.\nAll other clients: Call (908-788-1453) or text (908-824-0582) Terry Sickinger.\n\n 
URL:https://www.thegrwdb.org/event/norwescap-career-life-service-presentation-all-about-the-one-stop-career-center-system/
LOCATION:Virtual Event
CATEGORIES:Workshops
END:VEVENT
BEGIN:VEVENT
DTSTART;TZID=America/New_York:20250626T120000
DTEND;TZID=America/New_York:20250626T133000
DTSTAMP:20260421T085208
CREATED:20250620T203732Z
LAST-MODIFIED:20250620T203732Z
UID:14343-1750939200-1750944600@www.thegrwdb.org
SUMMARY:GRWDB Board Meeting – virtually and in person
DESCRIPTION:A quarterly GRWDB Board Meeting will be conducted from 12 to 1:30 p.m. Thursday\, June 26\, 2025; attendees may join via GoToMeeting or in person in the second-floor conference room at 27 Warren St.\, Somerville.\n\n\n\n\n\n\nThe meeting will include presentations on the 2025 Program Year budget\, updates on several state reports about GRWDB programs\, an update by One-Stop Operator on a new initiative and updates on GRWDB programs.\n\n\n\nAll GRWDB Board and Committee meetings are open to the public. For questions\, contact GRWDB Director Paul Grzella at 908-541-5790\, or at grzella@co.somerset.nj.us.\n\n\n\n\n\n\n\n\nPlease join the meeting from your computer\, tablet or smartphone.\nhttps://meet.goto.com/746553157 \nYou can also dial in using your phone.\nUnited States: +1 (571) 317-3122; Access Code: 746-553-157 \nMeeting agendas can be found here on the GRWDB website. All are welcomed.
URL:https://www.thegrwdb.org/event/grwdb-board-meeting-virtually-and-in-person/
LOCATION:In-person at Somerset County Human Services building or via GoToMeeting\, 27 Warren St.\, second-floor conference room\, Somerville\, NJ\, 08876\, United States
CATEGORIES:Board Meeting
END:VEVENT
END:VCALENDAR