BEGIN:VCALENDAR
VERSION:2.0
PRODID:-//Greater Raritan - ECPv6.3.5//NONSGML v1.0//EN
CALSCALE:GREGORIAN
METHOD:PUBLISH
X-ORIGINAL-URL:https://www.thegrwdb.org
X-WR-CALDESC:Events for Greater Raritan
REFRESH-INTERVAL;VALUE=DURATION:PT1H
X-Robots-Tag:noindex
X-PUBLISHED-TTL:PT1H
BEGIN:VTIMEZONE
TZID:America/New_York
BEGIN:DAYLIGHT
TZOFFSETFROM:-0500
TZOFFSETTO:-0400
TZNAME:EDT
DTSTART:20250309T070000
END:DAYLIGHT
BEGIN:STANDARD
TZOFFSETFROM:-0400
TZOFFSETTO:-0500
TZNAME:EST
DTSTART:20251102T060000
END:STANDARD
END:VTIMEZONE
BEGIN:VEVENT
DTSTART;TZID=America/New_York:20250618T100000
DTEND;TZID=America/New_York:20250618T120000
DTSTAMP:20260421T085351
CREATED:20250609T165528Z
LAST-MODIFIED:20250609T222149Z
UID:14236-1750240800-1750248000@www.thegrwdb.org
SUMMARY:Business Etiquette: A Virtual Career Workship
DESCRIPTION:The art of portraying a poised\, self-confident image in today’s demanding business atmosphere is a skill that is much too often overlooked by many professionals\, but not by those observing and making critical judgments based upon the person’s communication. \nTo learn about this topic\, job seekers are invited to attend a June 18 Business Etiquette virtual workshop\, running from 10 a.m.to 12 p.m. \nThe event\, hosted by the Greater Raritan Workforce Development Board and its partners\, will be presented by Jan Goodman\, a certified workforce development professional for the Greater Raritan One-Stop Career Training Services Center. \nTopics to be covered include: how you can sabotage a positive first impressions; practicing business etiquette to build and maintain relationships; delivering your message in verbal\, non-verbal and written way; proper introductions and professional presence\, including grooming; and Netiquette. \nThis workshop it is open to all interested job seekers\, and registration is required. To register\, use the QR code in this flyer or go to https://bit.ly/3SO0wSu. An email confirmation will be sent upon registration completion. \nThis workshop is being presented in conjunction with a multi-employer in-person Recruitment Event focusing on Hospitality\, Restaurant and Retail businesses in Somerset and Hunterdon counties\, The event\, presented by the New Jersey Department of Labor and Workforce Development and the Greater Raritan Workforce Development Board (GRWDB)\, will be conducted from 10 a.m. to 12 p.m. Thursday\, June 26\, in the first-floor conference room of the Somerset County Human Services Building at 27 Warren St.\, Somerville. \nWhile registration is appreciated\, those who pre-register may be considered for pre-scheduled on-site interviews being conducted by some of the participating employers. \nEmployers scheduled to be in attendance (as of June 9) are: A La Carte Premier Servers (banquet servers)\, Enjoy Your Party\, Hackensack Meridian Health (service roles)\, Masia Capital Group LLC – Dunkin’\, ShopRite of Hunterdon County\, The Rawson Group – Wendy’s\, and T-Mobile. \nAdditional employers may be added so be sure to check back here on the GRWDB website. \nEmployers will be available for informational discussions and more. To register\, use the QR code in this flyer or go to https://bit.ly/4kD5GNK. The registration form includes an updated list of employers\, and instructions for resume sharing to be considered for the on-site interviews will accompany registration confirmation. Walk-ins are welcome but on-site interviews may not be possible. \nFor questions about either the June 18 workshop or June 26 event\, email info@thegrwdb.org. or call 908-541-5790.
URL:https://www.thegrwdb.org/event/business-etiquette-a-virtual-career-workship/
LOCATION:Virtual Event
CATEGORIES:Workshops
END:VEVENT
BEGIN:VEVENT
DTSTART;TZID=America/New_York:20250618T110000
DTEND;TZID=America/New_York:20250618T120000
DTSTAMP:20260421T085352
CREATED:20250507T024743Z
LAST-MODIFIED:20250508T214006Z
UID:14089-1750244400-1750248000@www.thegrwdb.org
SUMMARY:GRWDB OPG Manufacturing Program Information Session
DESCRIPTION:The Greater Raritan Workforce Development Board and the New Jersey Manufacturing Extension Program are collaborating on a New Jersey Department of Labor and Workforce Development Opportunity Partnership Grant that provides free online training in manufacturing. \nHunterdon and Somerset County residents are invited to learn more by joining a series of introductory Manufacturing Program Orientations in May and June. The sessions will be conducted at 11 a.m. Wednesday May 14\, May 21\, May 28\, June 4\, June 11 and June 18\, virtually and in-person at the GRWDB office at 27 Warren St.\, third floor\, Somerville. \nThe GRWDB OPG Program is designed for dislocated workers and underemployed individuals who are interested in starting a new manufacturing career. The program allows eligible participants to get an OSHA-10 certificate in safety standards and receive a certification for Certified Manufacturing Associate in fundamental production know-how. The 12-hour OSHA online class and the 25- to 30-hour online training program from Tooling U-SME introduce basic concepts in the areas needed to begin a successful entry-level manufacturing career. \nThere are 30 slots available. Applicants will work with the OPG Coordinator and the Greater Raritan One-Stop Career Center to complete eligibility documentation\, and instruction will be provided in cohorts directly from an instructor providing the teachings for the credential. \nTo join the session virtually\, go to https://meet.goto.com/337366277 on the day of the event. Interested applicants also can dial in. Call 1 (872) 240-3311; Access Code: 337-366-277. \nFor assistance on joining an orientation session or to get started immediately on the application process\, email OPG Coordinator Charlie Apt at capt@co.somerset.nj.us\, or call 908-203-6047. \n 
URL:https://www.thegrwdb.org/event/grwdb-opg-manufacturing-program-information-session-4/
LOCATION:In-person in GRWDB office or via GoToMeeting\, 27 Warren St\,\, third floor\, Somerville\, NJ\, 08876\, United States
CATEGORIES:Career Fair
END:VEVENT
BEGIN:VEVENT
DTSTART;TZID=America/New_York:20250618T183000
DTEND;TZID=America/New_York:20250618T193000
DTSTAMP:20260421T085352
CREATED:20250616T205723Z
LAST-MODIFIED:20250618T182346Z
UID:14273-1750271400-1750275000@www.thegrwdb.org
SUMMARY:Requirements for Naturalization Program at Somerville Library
DESCRIPTION:A local immigration attorney will talk about the requirements for naturalization during a program running from 6:30 to 7:30 p.m. Wednesday\, June 18\, at the Somerville Library\, 35 West End Ave.\, Somerville. This program is intended to raise awareness about the rights\, responsibilities and importance of U.S. citizenship and provide information on the naturalization process and USCIS educational resources. \n\n\n\n\n\n\nThose who are lawful permanent residents (green card holders)\, may be eligible for U.S. citizenship. In this program participants will learn about: \n\nNaturalization eligibility requirements\nApplication Process\nEnglish & Civic exam\nReduced filing fee income threshold\nLack of Good moral character issues\nExceptions & accommodations for Naturalization exam\n\nGo here for more information. \nThis program will be presented by Snehal Batra\, Esq.\, partner at NPZ Law Group\, PC\, located in Raritan. Batra is an immigration attorney licensed in New Jersey since 2001 and her practice includes all areas of U.S. business/family immigration and Naturalization.
URL:https://www.thegrwdb.org/event/requirements-for-naturalization-at-somerville-library/
LOCATION:Somerville Public Library\, 35 W. End Ave.\, Somerville\, NJ\, 08876\, United States
CATEGORIES:Community Event
END:VEVENT
END:VCALENDAR