BEGIN:VCALENDAR
VERSION:2.0
PRODID:-//Greater Raritan - ECPv6.3.5//NONSGML v1.0//EN
CALSCALE:GREGORIAN
METHOD:PUBLISH
X-WR-CALNAME:Greater Raritan
X-ORIGINAL-URL:https://www.thegrwdb.org
X-WR-CALDESC:Events for Greater Raritan
REFRESH-INTERVAL;VALUE=DURATION:PT1H
X-Robots-Tag:noindex
X-PUBLISHED-TTL:PT1H
BEGIN:VTIMEZONE
TZID:America/New_York
BEGIN:DAYLIGHT
TZOFFSETFROM:-0500
TZOFFSETTO:-0400
TZNAME:EDT
DTSTART:20250309T070000
END:DAYLIGHT
BEGIN:STANDARD
TZOFFSETFROM:-0400
TZOFFSETTO:-0500
TZNAME:EST
DTSTART:20251102T060000
END:STANDARD
END:VTIMEZONE
BEGIN:VEVENT
DTSTART;TZID=America/New_York:20250531T090000
DTEND;TZID=America/New_York:20250531T120000
DTSTAMP:20260421T055218
CREATED:20250324T214459Z
LAST-MODIFIED:20250415T215418Z
UID:13735-1748682000-1748692800@www.thegrwdb.org
SUMMARY:Franklin Youth Center Youth Resource Fair
DESCRIPTION:The Franklin Township Youth Center will present a free Youth Resource Fair from 9 a.m. to 12 p.m. Saturday\, May 31\, at the Youth Center at 429 Lewis St. \nThe Youth Resource Fair will run from 9 to 11 a.m.\, followed by a Keynote Brunch from 11 a.m. to 12 p.m. \nThe event will include Summer Employment Opportunities (youth attendees should wear interview attire and have copies of their resumes)\, along with information on how to apply for college financial aid and information about vocational training. \nIn addition\, employers who do not have the bandwidth to attend are welcomed to send their flyers or job descriptions of positions they are hiring for. This information will be displayed in a “Job Application” portion of the event for interested teens. For details\, contact Franklin Youth Center Youth Resource Manager joseph.jankowski@franklinnj.gov. \nTo register for the free event\, scan the QR code in this flyer or go to franklintwp.recdesk.com; go to the programs button and type in “Youth Resource Fair” in the search bar. Walk-ins are also welcomed. \nFor details\, call 732-873-7292. \n 
URL:https://www.thegrwdb.org/event/franklin-youth-center-youth-resource-fair/
LOCATION:Franklin Youth Center\, 429 Lewis St.\, Somerset\, NJ\, 08873\, United States
CATEGORIES:Youth Event
END:VEVENT
END:VCALENDAR