BEGIN:VCALENDAR
VERSION:2.0
PRODID:-//Greater Raritan - ECPv6.3.5//NONSGML v1.0//EN
CALSCALE:GREGORIAN
METHOD:PUBLISH
X-WR-CALNAME:Greater Raritan
X-ORIGINAL-URL:https://www.thegrwdb.org
X-WR-CALDESC:Events for Greater Raritan
REFRESH-INTERVAL;VALUE=DURATION:PT1H
X-Robots-Tag:noindex
X-PUBLISHED-TTL:PT1H
BEGIN:VTIMEZONE
TZID:America/New_York
BEGIN:DAYLIGHT
TZOFFSETFROM:-0500
TZOFFSETTO:-0400
TZNAME:EDT
DTSTART:20250309T070000
END:DAYLIGHT
BEGIN:STANDARD
TZOFFSETFROM:-0400
TZOFFSETTO:-0500
TZNAME:EST
DTSTART:20251102T060000
END:STANDARD
END:VTIMEZONE
BEGIN:VEVENT
DTSTART;TZID=America/New_York:20250530T140000
DTEND;TZID=America/New_York:20250530T160000
DTSTAMP:20260421T055218
CREATED:20250220T202032Z
LAST-MODIFIED:20250220T202032Z
UID:13471-1748613600-1748620800@www.thegrwdb.org
SUMMARY:Career Cafe at Greater Raritan One-Stop Career Training Services Center
DESCRIPTION:The Greater Raritan One-Stop Career Training Services Center at 27 Warren St.\, second floor\, Somerville\, is hosting a Career Cafe series this spring. \nJob seekers\, community- and faith-based organizations\, current Greater Raritan Workforce Development Board partners\, and businesses representatives based in Hunterdon and Somerset counties are invited to stop by for coffee\, cookies and conversation about the menu of Training Center’s services\, including individual and cohort training opportunities\, resume and job search assistance\, literacy services and much more. \nThis information series will be conducted from 2 to 4 p.m. on the following Fridays: April 25\, May 30 and June 27. If you can’t make it those days or hours\, the Training Center is open for walk-in service five days a week\, from 8:30 a.m. to 4:30 p.m. Monday to Friday. Appointments during those times are also available. In addition\, the Greater Raritan One-Stop Career Center at 6 Gauntt Place in Flemington is open for walk-in service from 8:30 a.m. to 4 p.m. Monday to Wednesday and by appointment Thursday and Friday. \nFor questions about the Career Cafes and to learn more about available services\, email onestop@co.somerset.nj.us or call 908-541-5780.
URL:https://www.thegrwdb.org/event/career-cafe-at-greater-raritan-one-stop-career-training-services-center-6/
LOCATION:Greater Raritan One-Stop Career Training Center\, 27 Warren St.\, 2nd floor\, Somerville\, NJ\, 08876\, United States
CATEGORIES:Community Event
END:VEVENT
END:VCALENDAR