BEGIN:VCALENDAR
VERSION:2.0
PRODID:-//Greater Raritan - ECPv6.3.5//NONSGML v1.0//EN
CALSCALE:GREGORIAN
METHOD:PUBLISH
X-ORIGINAL-URL:https://www.thegrwdb.org
X-WR-CALDESC:Events for Greater Raritan
REFRESH-INTERVAL;VALUE=DURATION:PT1H
X-Robots-Tag:noindex
X-PUBLISHED-TTL:PT1H
BEGIN:VTIMEZONE
TZID:America/New_York
BEGIN:DAYLIGHT
TZOFFSETFROM:-0500
TZOFFSETTO:-0400
TZNAME:EDT
DTSTART:20250309T070000
END:DAYLIGHT
BEGIN:STANDARD
TZOFFSETFROM:-0400
TZOFFSETTO:-0500
TZNAME:EST
DTSTART:20251102T060000
END:STANDARD
END:VTIMEZONE
BEGIN:VEVENT
DTSTART;TZID=America/New_York:20250527T091500
DTEND;TZID=America/New_York:20250527T133000
DTSTAMP:20260421T085434
CREATED:20250426T204743Z
LAST-MODIFIED:20250426T205109Z
UID:13941-1748337300-1748352600@www.thegrwdb.org
SUMMARY:Norwescap Computer Classes: Microsoft Excel Advanced
DESCRIPTION:Norwescap’s CLTC will continue its free in-person computer classes in May at the Flemington United Methodist Church\, 116 Main St.\, Flemington\, NJ 08822. The following classes will run from 9:15 a.m. to 1:30 p.m. using Norwescap computers and Internet. \n\nUsing LinkedIn to Aide Your Job Search: Thursday May 1: Learn how to use LinkedIn to enhance your job search\, build professional connections\, and stay updated on industry trends. Discover tips to create a strong profile that stands out to employers.\nIntroduction to Microsoft Word: Day 1 – Tuesday\, May 6; Day 2 – Thursday\, May 8; Day 3 – Tuesday\, May 13: This three-session class covers the evolution of word processing\, how Word has shaped document creation\, and key functions\, settings\, and tools. Learn how to use tables and templates\, follow best practices for professional documents\, and practice applying Word to everyday tasks.\nIntroduction to Microsoft Excel: Day 1 – Thursday\, May 15; Day 2 – Tuesday\, May 20; Day 3 – Thursday\, May 22:  Learn what Excel is and how it’s used in real life. This class covers basic functionality like rows\, columns\, cells\, and data entry. You’ll also learn simple formulas and functions\, budgeting basics\, and an introduction to pivot tables and charts.\nMicrosoft Excel Advanced: Tuesday\, May 27:  This one-day class is for those who’ve completed Excel basics or have prior experience. Topics include VLookup\, HLookup\, and XLookup; customizing pivot tables and charts; and creating presentation-ready Excel sheets.\n\nTo register and learn about the computer classes being offered in May\, contact cltc@norwescap.org or by phone: Somerset County clients: Call 908-900-0060\, Ext. 1503 or text 908-899-1444 (Sam Ricker); all other client\, call 908-788-1453 or text 908-824-0582 (Terry Sickinger).
URL:https://www.thegrwdb.org/event/norwescap-computer-classes-microsoft-excel-advanced/
LOCATION:Flemington United Methodist Church\, 116 Main St.\, Flemington\, NJ\, 08822\, United States
CATEGORIES:Class
END:VEVENT
BEGIN:VEVENT
DTSTART;TZID=America/New_York:20250527T100000
DTEND;TZID=America/New_York:20250527T120000
DTSTAMP:20260421T085434
CREATED:20250421T215208Z
LAST-MODIFIED:20250421T215747Z
UID:13886-1748340000-1748347200@www.thegrwdb.org
SUMMARY:Align Your Potential in In-Person Multiple Natures Workshop
DESCRIPTION:Each person has a unique set of traits which provides a predisposition towards different types of work and activities. \nThis Multiple Natures workshop focuses on a career and life assessment tool that can help one achieve perfect alignment. The assessment assists individuals in their quest for self-improvement and finding the flow to fulfill their true potential. \nDuring this workshop running from 10a.m. to 12 p.m. Tuesday\, May 27\, Multiple Natures Practitioner Jan Goodman will help participants unlock the secret of their unique natures to help them identify and engage their natural abilities to the highest level. The in-person workshop will be conducted at Watchung Library’s temporary location at 20 Stirling Road\, Watchung. \nGoodman is a Certified Workforce Development Professional Greater Raritan One-Stop Career Training Services Center. This program is sponsored by the Greater Raritan One-Stop Career Training Services Center and the Somerset County Library System. \nTo register for this workshop\, please click on the following link: https://sclsnj.libnet.info/event/13368889. \n 
URL:https://www.thegrwdb.org/event/align-your-potential-in-in-person-multiple-natures-workshop/
LOCATION:Watchung Library (temporary location)\, 20 Stirling Road\, Watchung\, NJ\, 07069\, United States
CATEGORIES:Workshops
END:VEVENT
BEGIN:VEVENT
DTSTART;TZID=America/New_York:20250527T150000
DTEND;TZID=America/New_York:20250527T190000
DTSTAMP:20260421T085434
CREATED:20250321T220323Z
LAST-MODIFIED:20250321T220323Z
UID:13707-1748358000-1748372400@www.thegrwdb.org
SUMMARY:Construction Industry Career Day – Public Tuesday Night Showcase
DESCRIPTION:Construction Industry Career Day will take place from 3 to 7 p.m. Tuesday\, May 27\, at the NJ Convention & Expo Center in Edison. \nThe free event is designed to introduce individuals to the benefits of a career in the construction industry. Representatives from the union construction trades\, four-year colleges and trade associations will be available to answer questions and show participants what they offer in their respective field.  In addition\, various government entities supporting workforce development will be on hand provide information on the services they provide. \nThe May 27 Tuesday Night Showcase\, running from 3 to 7 p.m.\, is open to the public (including walk-ins) and welcomes veterans\, underemployed\, unemployed\, students\, parents and those looking for a new career. \nThe May 28N High School Wednesday event\, running from 8 a.m. to 1 p.m.\, is open to high school students only. Registration for this has reached capacity and has closed. \nFor more information\, go to https://www.cicdnj.org.
URL:https://www.thegrwdb.org/event/construction-industry-career-day-public-tuesday-night-showcase/
LOCATION:New Jersey Convention and Exposition Center\, 97 Sunfield Ave.\, Edison\, NJ\, 08837\, United States
CATEGORIES:Career Event
END:VEVENT
END:VCALENDAR