BEGIN:VCALENDAR
VERSION:2.0
PRODID:-//Greater Raritan - ECPv6.3.5//NONSGML v1.0//EN
CALSCALE:GREGORIAN
METHOD:PUBLISH
X-ORIGINAL-URL:https://www.thegrwdb.org
X-WR-CALDESC:Events for Greater Raritan
REFRESH-INTERVAL;VALUE=DURATION:PT1H
X-Robots-Tag:noindex
X-PUBLISHED-TTL:PT1H
BEGIN:VTIMEZONE
TZID:America/New_York
BEGIN:DAYLIGHT
TZOFFSETFROM:-0500
TZOFFSETTO:-0400
TZNAME:EDT
DTSTART:20250309T070000
END:DAYLIGHT
BEGIN:STANDARD
TZOFFSETFROM:-0400
TZOFFSETTO:-0500
TZNAME:EST
DTSTART:20251102T060000
END:STANDARD
END:VTIMEZONE
BEGIN:VEVENT
DTSTART;TZID=America/New_York:20250501T091500
DTEND;TZID=America/New_York:20250501T133000
DTSTAMP:20260421T055409
CREATED:20250426T203734Z
LAST-MODIFIED:20250426T205429Z
UID:13924-1746090900-1746106200@www.thegrwdb.org
SUMMARY:Norwescap Computer Classes: Using LinkedIn to Aide Your Job Search
DESCRIPTION:Norwescap’s CLTC will continue its free in-person computer classes in May at the Flemington United Methodist Church\, 116 Main St.\, Flemington\, NJ 08822. The following classes will run from 9:15 a.m. to 1:30 p.m. using Norwescap computers and Internet. \n\nUsing LinkedIn to Aide Your Job Search: Thursday May 1: Learn how to use LinkedIn to enhance your job search\, build professional connections\, and stay updated on industry trends. Discover tips to create a strong profile that stands out to employers.\nIntroduction to Microsoft Word: Day 1 – Tuesday\, May 6; Day 2 – Thursday\, May 8; Day 3 – Tuesday\, May 13: This three-session class covers the evolution of word processing\, how Word has shaped document creation\, and key functions\, settings\, and tools. Learn how to use tables and templates\, follow best practices for professional documents\, and practice applying Word to everyday tasks.\nIntroduction to Microsoft Excel: Day 1 – Thursday\, May 15; Day 2 – Tuesday\, May 20; Day 3 – Thursday\, May 22:  Learn what Excel is and how it’s used in real life. This class covers basic functionality like rows\, columns\, cells\, and data entry. You’ll also learn simple formulas and functions\, budgeting basics\, and an introduction to pivot tables and charts.\nMicrosoft Excel Advanced: Tuesday\, May 27:  This one-day class is for those who’ve completed Excel basics or have prior experience. Topics include VLookup\, HLookup\, and XLookup; customizing pivot tables and charts; and creating presentation-ready Excel sheets.\n\nTo register and learn about the computer classes being offered in May\, contact cltc@norwescap.org or by phone: Somerset County clients: Call 908-900-0060\, Ext. 1503 or text 908-899-1444 (Sam Ricker); all other client\, call 908-788-1453 or text 908-824-0582 (Terry Sickinger).
URL:https://www.thegrwdb.org/event/norwescap-computer-classes-using-linkedin-to-aide-your-job-search/
LOCATION:Flemington United Methodist Church\, 116 Main St.\, Flemington\, NJ\, 08822\, United States
CATEGORIES:Class
END:VEVENT
BEGIN:VEVENT
DTSTART;TZID=America/New_York:20250501T110000
DTEND;TZID=America/New_York:20250501T130000
DTSTAMP:20260421T055409
CREATED:20250414T163823Z
LAST-MODIFIED:20250414T163823Z
UID:13860-1746097200-1746104400@www.thegrwdb.org
SUMMARY:Optical Career Fair at RVCC
DESCRIPTION:Raritan Valley Community College’s first Optical Career Fair will be conducted from 11 a.m. to 1 p.m. Thursday\, May 1\, in the Branchburg’s college’s Atrium. \nThe event is designed to connect optical students\, apprentices\, and licensed opticians from NJ and neighboring states with industry-leading employers. Attendees may explore job openings\, network with recruiters\, and learn about career paths in the optical field. \nFor more information\, email judy.quinones@raritanval.edu
URL:https://www.thegrwdb.org/event/optical-career-fair-at-rvcc/
LOCATION:Raritan Valley Community College Atrium\, Lamington Road\, Branchburg\, NJ\, 08876\, United States
CATEGORIES:Career Fair
END:VEVENT
END:VCALENDAR