BEGIN:VCALENDAR
VERSION:2.0
PRODID:-//Greater Raritan - ECPv6.3.5//NONSGML v1.0//EN
CALSCALE:GREGORIAN
METHOD:PUBLISH
X-WR-CALNAME:Greater Raritan
X-ORIGINAL-URL:https://www.thegrwdb.org
X-WR-CALDESC:Events for Greater Raritan
REFRESH-INTERVAL;VALUE=DURATION:PT1H
X-Robots-Tag:noindex
X-PUBLISHED-TTL:PT1H
BEGIN:VTIMEZONE
TZID:America/New_York
BEGIN:DAYLIGHT
TZOFFSETFROM:-0500
TZOFFSETTO:-0400
TZNAME:EDT
DTSTART:20250309T070000
END:DAYLIGHT
BEGIN:STANDARD
TZOFFSETFROM:-0400
TZOFFSETTO:-0500
TZNAME:EST
DTSTART:20251102T060000
END:STANDARD
END:VTIMEZONE
BEGIN:VEVENT
DTSTART;TZID=America/New_York:20250417T080000
DTEND;TZID=America/New_York:20250417T150000
DTSTAMP:20260421T052112
CREATED:20250324T224654Z
LAST-MODIFIED:20250324T225208Z
UID:13747-1744876800-1744902000@www.thegrwdb.org
SUMMARY:New Jersey Reentry Corp. Annual Reentry Conference at St. Peter’s University
DESCRIPTION:The New Jersey Reentry Corporation (NJRC) 2025 Annual Reentry Conference is scheduled for Holy Thursday\, April 17\, at St. Peter’s University\, Mac Mahon Student Center\, in Jersey City from 8 a.m. to 3 p.m. \nThis year’s theme is “A Trilogy of Evil – The Journey for Deliverance: Domestic Violence\, Sexual Abuse\, and Human Trafficking.” The conference will address the unique challenges faced by victims of domestic violence\, sexual abuse\, and human trafficking within the criminal justice system\, particularly when women seek to take action against their historical perpetrators. \nThe conference agenda features a diverse group of professionals\, advocates\, and survivors. They will share insights and strategies for supporting women through diversionary programming and legislative initiatives designed to assist those navigating the complexities of the criminal justice system. \nConference registration may be done through this Eventbrite link. The link also includes more information on the event agenda and presenters. \n  \n 
URL:https://www.thegrwdb.org/event/13747/
LOCATION:Saint Peter’s University\, 2641 John F. Kennedy Blvd.\, Jersey City\, NJ\, 07306\, United States
CATEGORIES:Community Event
END:VEVENT
BEGIN:VEVENT
DTSTART;TZID=America/New_York:20250417T150000
DTEND;TZID=America/New_York:20250417T160000
DTSTAMP:20260421T052112
CREATED:20250213T234959Z
LAST-MODIFIED:20250220T203005Z
UID:13426-1744902000-1744905600@www.thegrwdb.org
SUMMARY:Employer Webinar: Using SkillUp Greater Raritan for Training Needs
DESCRIPTION:Employers in Somerset and Hunterdon Counties are invited to attend one of a series of webinars to learn how SkillUp Greater Raritan can be used to provide free upskilling training to staff. The sessions will be conducted at 3 p.m. on Thursday\, February 20\, March 20\, and April 17\, 2025. During each session\, there will be examples of how local employers are using the platform for staff training and participants will also learn about other GRWDB paid-training opportunities for businesses. \nEmployers may join any of the sessions by using the following links: \n\nbit.ly/FebEmployerWebinar\nbit.ly/MarchEmployerWebinar\nbit.ly/AprilEmployerWebinar\n\nThe SkillUp Greater Raritan Metrix Learning® platform is a free online learning-management system featuring more than 7\,000 courses\, which can be done individually or with cohorts. The courses can be used for new hires\, development for longtime workers and manager skill enhancement. The $199 per person cost of the employee training program will be covered by GRWDB grant dollars. \nEmployers can choose a preset learning path\, or they can customize the employee learning system to fit their needs. Metrix Learning® personnel will collaborate with employers to create a program that fits their learning needs. This easy online learning-management system will also keep track of employees’ course progress\, course completion\, and hours of training. \nEmployers interested in getting started with this program immediately may email info@thegrwdb.org or call 908-541-5790\, and they will be connected to the GRWDB’s Metrix Learning training partner.
URL:https://www.thegrwdb.org/event/employer-webinar-using-skillup-greater-raritan-for-training-needs-2/
LOCATION:Virtual Event
CATEGORIES:Business Event
END:VEVENT
BEGIN:VEVENT
DTSTART;TZID=America/New_York:20250417T180000
DTEND;TZID=America/New_York:20250417T190000
DTSTAMP:20260421T052112
CREATED:20250121T170342Z
LAST-MODIFIED:20250303T233859Z
UID:13176-1744912800-1744916400@www.thegrwdb.org
SUMMARY:CANCELLED: Virtual Career Series: Bridge to Success
DESCRIPTION:The following spring event has been cancelled and will be rescheduled for the summer. \nAre you feeling stressed in your job search? \nThe Greater Raritan Workforce Development Board and Empower Somerset are offering a free eight-week virtual program for community members entitled Bridge to Success. The stress-management techniques shared in this series focus on behavioral\, social\, and cognitive coping strategies that can be used to address stressful situations at home\, work\, and interpersonal relationships. The strategies will help participants survive and thrive during the job-search process\, and in life. \nThe virtual series will run every Thursday from 6 to 7 p.m. beginning on March 6\, and ending April 24. \nThe class is limited to 20 participants and participants must have their cameras on for every session. Those taking part in the program are expected to attend all sessions. The program includes a $50 Amazon gift card for completion. \nTo register\, use the link in this flyer.
URL:https://www.thegrwdb.org/event/virtual-career-series-bridge-to-success-7/
LOCATION:Zoom
CATEGORIES:Workshops
END:VEVENT
END:VCALENDAR