BEGIN:VCALENDAR
VERSION:2.0
PRODID:-//Greater Raritan - ECPv6.3.5//NONSGML v1.0//EN
CALSCALE:GREGORIAN
METHOD:PUBLISH
X-WR-CALNAME:Greater Raritan
X-ORIGINAL-URL:https://www.thegrwdb.org
X-WR-CALDESC:Events for Greater Raritan
REFRESH-INTERVAL;VALUE=DURATION:PT1H
X-Robots-Tag:noindex
X-PUBLISHED-TTL:PT1H
BEGIN:VTIMEZONE
TZID:America/New_York
BEGIN:DAYLIGHT
TZOFFSETFROM:-0500
TZOFFSETTO:-0400
TZNAME:EDT
DTSTART:20250309T070000
END:DAYLIGHT
BEGIN:STANDARD
TZOFFSETFROM:-0400
TZOFFSETTO:-0500
TZNAME:EST
DTSTART:20251102T060000
END:STANDARD
END:VTIMEZONE
BEGIN:VEVENT
DTSTART;TZID=America/New_York:20250409T090000
DTEND;TZID=America/New_York:20250409T120000
DTSTAMP:20260421T050646
CREATED:20250320T204026Z
LAST-MODIFIED:20250320T204433Z
UID:13676-1744189200-1744200000@www.thegrwdb.org
SUMMARY:Norwescap Workshops: Women’s Empowerment Course Series
DESCRIPTION:Norwescap’s CLTC is hosting Empowerment Coach\, Eva Marie Webber\, for a four-session Women’s Empowerment Course Series from 9 a.m. to 12 p.m. on April 7\, 9\, 14 and 16. These interactive classes will cover Self-Care\, Boundaries\, Communication\, and Moving Forward. The sessions are designed to be opportunity to take a pause and learn more about who you are\, your needs\, and the areas you want to grow in. \nThese free classes will be held in-person at the Warren County Habitat for Humanity Community Center\, (second floor) 31 Belvidere Ave\, Washington. \nClick here to register. \nSomerset County residents may call 908-900-0060\, Ext. 1503.  All other clients may call 908-788-1453.
URL:https://www.thegrwdb.org/event/norwescap-workshops-womens-empowerment-course-series/
LOCATION:Warren County Habitat for Humanity Commuty Center\, 31 Belvidere Ave.\, Washington\, NJ\, 07882\, United States
CATEGORIES:Community Event
END:VEVENT
BEGIN:VEVENT
DTSTART;TZID=America/New_York:20250409T100000
DTEND;TZID=America/New_York:20250409T150000
DTSTAMP:20260421T050646
CREATED:20250325T223357Z
LAST-MODIFIED:20250326T223344Z
UID:13753-1744192800-1744210800@www.thegrwdb.org
SUMMARY:Clean Slate\, 2.0 Expungement Clinic at First Baptist Church
DESCRIPTION:The New Jersey Office of the Public Defender (NJPOD)\, First Baptist Church of Lincoln Gardens\, Assemblyman Joe Danielsen\, D-Dist. 17\, and Somerset County are partnering to present “Clean Slate\, 2.0\,” an expungement clinic being conducted from 10 a.m. to 3 p.m.\, Wednesday\, April 9\, at the church at 771 Somerset St.\, Franklin. \nAt the clinic\, attendees will have the opportunity to meet one-on-one with experienced NJOPD attorneys and legal professionals\, who will provide guidance at no cost. The staff will assist with determining expungement eligibility\, help complete necessary paperwork\, and share information on additional legal resources and support available in the Somerset area and beyond. There will also be an attorney present to discuss the possibility of an executive pardon for individuals who are not eligible for an expungement. \nNew partners Legal Services of Northwest Jersey and Community in Crisis are also supporting this event. \nThe Clean Slate clinic is open to the public\, but attendees are encouraged to RSVP to ensure adequate accommodations. The registration link is also in this flyer. Those who plan to attend and speak with an attorney about a possible expungement should bring any information they have about the case they are hoping to address. However\, if that information is not available\, it can be retrieved electronically at the clinic. \n 
URL:https://www.thegrwdb.org/event/clean-slate-2-0-expungement-clinic-at-first-baptist-church/
LOCATION:First Baptist Church of Lincoln Gardens\, 771 Somerset St.\, Somerset\, NJ\, 08873\, United States
CATEGORIES:Community Event
END:VEVENT
END:VCALENDAR