BEGIN:VCALENDAR
VERSION:2.0
PRODID:-//Greater Raritan - ECPv6.3.5//NONSGML v1.0//EN
CALSCALE:GREGORIAN
METHOD:PUBLISH
X-WR-CALNAME:Greater Raritan
X-ORIGINAL-URL:https://www.thegrwdb.org
X-WR-CALDESC:Events for Greater Raritan
REFRESH-INTERVAL;VALUE=DURATION:PT1H
X-Robots-Tag:noindex
X-PUBLISHED-TTL:PT1H
BEGIN:VTIMEZONE
TZID:America/New_York
BEGIN:DAYLIGHT
TZOFFSETFROM:-0500
TZOFFSETTO:-0400
TZNAME:EDT
DTSTART:20250309T070000
END:DAYLIGHT
BEGIN:STANDARD
TZOFFSETFROM:-0400
TZOFFSETTO:-0500
TZNAME:EST
DTSTART:20251102T060000
END:STANDARD
END:VTIMEZONE
BEGIN:VEVENT
DTSTART;TZID=America/New_York:20250408T090000
DTEND;TZID=America/New_York:20250408T133000
DTSTAMP:20260421T063532
CREATED:20250320T224713Z
LAST-MODIFIED:20250320T224713Z
UID:13692-1744102800-1744119000@www.thegrwdb.org
SUMMARY:Norwescap Computer Class Series: Computer Basics
DESCRIPTION:The monthly free Computer Class Series presented by Norwescap CLTC will continue on Thursdays and Tuesdays April 3\, 8\, 10 and 15 at the Flemington United Methodist Church\, 116 Main St.\, Flemington.  These free classes will be conducted in-person using Norwescap computers and internet\, and class times are from 9:15 a.m. to 1:30 p.m. \nThe multi-day Computer Basic class series will cover everything participants need to know about using a computer. It’s designed for an absolute beginner as well as those with a little bit of experience but are unsure of themselves. \nSomerset County residents may call 908-900-0060. Ext. 1503\, for more information. All other interested individuals may call  908-788-1453. \nFor more information about upcoming events and to stay updated on all Norwescap activities\, visit the Events Calendar on our website.
URL:https://www.thegrwdb.org/event/norwescap-computer-class-series-computer-basics-2/
LOCATION:Flemington United Methodist Church\, 116 Main St.\, Flemington\, NJ\, 08822\, United States
CATEGORIES:Class
END:VEVENT
BEGIN:VEVENT
DTSTART;TZID=America/New_York:20250408T090000
DTEND;TZID=America/New_York:20250408T150000
DTSTAMP:20260421T063532
CREATED:20250113T234125Z
LAST-MODIFIED:20250307T193353Z
UID:13118-1744102800-1744124400@www.thegrwdb.org
SUMMARY:OSHA Training For Construction Two-Day Workshop
DESCRIPTION:The New Jersey Department of Labor and Workforce Development is offering a free 10-hour OSHA Training for Construction on Monday\, April 7\, and Tuesday\, April 8\, at the Greater Raritan One-Stop Career Center\, 75 Veterans Memorial Drive\, Somerville. The training will be conducted from 9 a.m. to 3 p.m. both days. \nRegistration is mandatory before attending the class\, and participants must attend both days of class to receive a course completion card. Makeups are not available. \nNew Jersey residents and workers who would like to register should send an email to SafetyTraining@dol.nj.gov\, and provide their full name\, home address\, phone number\, and email address. For more information\, go here or call 609-633.2587.
URL:https://www.thegrwdb.org/event/osha-training-for-construction-two-day-workshop-2/
LOCATION:Somerville One-Stop Career Center\, 75 Veterans Memorial Drive East\, Somerville\, NJ\, 08876\, United States
CATEGORIES:Training
END:VEVENT
BEGIN:VEVENT
DTSTART;TZID=America/New_York:20250408T100000
DTEND;TZID=America/New_York:20250408T130000
DTSTAMP:20260421T063532
CREATED:20250403T221922Z
LAST-MODIFIED:20250403T222339Z
UID:13821-1744106400-1744117200@www.thegrwdb.org
SUMMARY:Middlesex County Job Fair
DESCRIPTION:The 2025 Middlesex County Job Fair will be conducted from 10 a.m. to 1 p.m. Tuesday\, April 8\, at the ZPA Banquet Hall\, 281 Grace St\, Perth Amboy. \nThe Job Fair is a collaborative event hosted by the following partners: P.A.R.T.N.E.R.\, Middlesex College\, the Middlesex County Office of Workforce and Career Development\, the Jewish Renaissance Foundation\, the City of Perth Amboy\, the Housing Authority of the City of Perth Amboy\, and the Perth Amboy Business Improvement District. \nThe fair aims to promote open employment opportunities to all Middlesex County residents\, with a focus on residents of the Gateway Neighborhood. Among the sectors to be represented are Warehousing/Logistics\, Retail\, Transportation and Healthcare. \nTo register\, use the QR code in this flyer or go here. \n  \n 
URL:https://www.thegrwdb.org/event/middlesex-county-job-fair/
LOCATION:ZPA Banquet Hall\, 281 Grace St.\, Perth Amboy\, NJ\, 08861\, United States
CATEGORIES:Career Fair
END:VEVENT
END:VCALENDAR