BEGIN:VCALENDAR
VERSION:2.0
PRODID:-//Greater Raritan - ECPv6.3.5//NONSGML v1.0//EN
CALSCALE:GREGORIAN
METHOD:PUBLISH
X-WR-CALNAME:Greater Raritan
X-ORIGINAL-URL:https://www.thegrwdb.org
X-WR-CALDESC:Events for Greater Raritan
REFRESH-INTERVAL;VALUE=DURATION:PT1H
X-Robots-Tag:noindex
X-PUBLISHED-TTL:PT1H
BEGIN:VTIMEZONE
TZID:America/New_York
BEGIN:DAYLIGHT
TZOFFSETFROM:-0500
TZOFFSETTO:-0400
TZNAME:EDT
DTSTART:20250309T070000
END:DAYLIGHT
BEGIN:STANDARD
TZOFFSETFROM:-0400
TZOFFSETTO:-0500
TZNAME:EST
DTSTART:20251102T060000
END:STANDARD
END:VTIMEZONE
BEGIN:VEVENT
DTSTART;TZID=America/New_York:20250326T080000
DTEND;TZID=America/New_York:20250326T180000
DTSTAMP:20260421T053616
CREATED:20241003T205215Z
LAST-MODIFIED:20250321T214323Z
UID:12397-1742976000-1743012000@www.thegrwdb.org
SUMMARY:Atlantic Health System Hiring Event at MetLife Stadium
DESCRIPTION:Atlantic Health System is conducting a Hiring Event from 8 a.m. to 6 p.m. Wednesday\, March 26\, at MetLife Stadium\, 1 MetLife Stadium Drive\, East Rutherford. \nA variety of positions are available in the healthcare system\, including Nursing\, Allied Health (Respiratory\, Pharmacy\, Diagnostic Imaging\, Social Work\, Rehab\, etc.) Food Services\, Environmental Services/Housekeeping\, Patient Transport\, Security\, Clerical/Reception\, Corporate\, and\nPhysician Practice (Front office\, Medical Assistant\, CMA\, etc.). \nInterested job seekers may register by using the QR code in this flyer or clicking here. \n 
URL:https://www.thegrwdb.org/event/hackensack-meridian-health-draft-day-at-metlife-stadium/
LOCATION:MetLife Stadium\, 1 MetLife Stadium Dirve\, East Rutherford\, NJ\, 07073\, United States
CATEGORIES:Career Fair
END:VEVENT
BEGIN:VEVENT
DTSTART;TZID=America/New_York:20250326T084500
DTEND;TZID=America/New_York:20250326T130000
DTSTAMP:20260421T053616
CREATED:20250224T181250Z
LAST-MODIFIED:20250224T181250Z
UID:13520-1742978700-1742994000@www.thegrwdb.org
SUMMARY:Norwescap Computer Skills Classes in Spanish – Norwescap Clases de Informática en Español: Google Sheets and Slides
DESCRIPTION:During the month of March\, Norwescap’s CLTC’s “Computer Skills Classes” in Spanish will be presented at the North Plainfield training center\, at 170 Watchung Avenue\, Iglesia Presbiteriana Nuevas Fronteras North Plainfield. These free classes will be conducted in-person using CLTC computers and Internet. Class times are 8:45 a.m. to 1 p.m. on the following dates: \nDurante el mes de marzo\, Norwescap CLTC “Clases de Habilidades Informáticas” en Español se presentará ofrecemos nuestra serie de clases de computación en español en nuestro Centro de capacitación de North Plainfield\, ubicado dentro del edificio adyacente a la Iglesia Presbiteriana Nuevas Fronteras en 170 Watchung Avenue\, North Plainfield\, NJ 07060. Estas clases gratuitas se llevarán a cabo en persona utilizando nuestras computadoras e Internet. Los horarios de las clases son de 8:45 a.m. a 1 p.m. \nMarch 3: File Management – Learn how to organize and find files\, save them where they belong\, copy and move files\, create folders and much more. \nMarch 5: Outlook and Gmail for Email – Learn the importance of creating a professional email account\, how to organize and manage incoming messages\, create personalized signatures\, and more. \nJanuary 14: Know Your Email App – Learn the importance of creating a professional email account\, organizing and controlling incoming emails\, personalized signatures and more. Learn how to take advantage of the many features in your email Calendar. Never miss an appointment again! \nMarch 10 and 12: Introduction to Word – Formatting: page layout\, orientation\, margins\, ruler\, bullets\, line spacing\, show/hide\, saving/renaming\, or deleting files\, using Help. Also\, creating a professional document: spell check\, templates\, auto correct\, styles and themes\, track changes\, headers and footers. \nMarch 17: Google Docs – Learn how to format\, create documents and save them on Google Drive\, and also how to translate documents \nMarch 19 and 24 – Introduction to Excel – This class will explain what Microsoft Excel is and the many different ways it can be used. It will go over basic functionality such as rows\, columns\, and cells as well as how to enter and reference data. Participants will learn how to write basic Excel functions and understand how they can be used in everyday applications such as budgeting. The class will cover the key Excel options and settings and will touch on reporting capabilities using pivot tables and charts. \nMarch 26 – Google Sheets & Slides – Learn how to create spreadsheets using Google Sheets and presentations using Google Slides (Google’s free software similar to Microsoft Excel and PowerPoint). Learn and how to save the documents you create to the cloud on your Google Drive. \nTo register\, text 908-899-1444 or email rickers@norwescap.org.
URL:https://www.thegrwdb.org/event/norwescap-computer-skills-classes-in-spanish-norwescap-clases-de-informatica-en-espanol-google-sheets-and-slides/
LOCATION:NORWESCAP North Plainfield\, 170 Watchung Ave.\, lower level\, North Plainfield\, 07060\, United States
CATEGORIES:Class
END:VEVENT
BEGIN:VEVENT
DTSTART;TZID=America/New_York:20250326T100000
DTEND;TZID=America/New_York:20250326T120000
DTSTAMP:20260421T053616
CREATED:20250214T204320Z
LAST-MODIFIED:20250317T153848Z
UID:13437-1742983200-1742990400@www.thegrwdb.org
SUMMARY:Transportation\, Manufacturing and Construction Multi-Employer Recruitment Event
DESCRIPTION:Dozens of jobs available right now at transportation\, manufacturing and constructions businesses in Somerset and Hunterdon counties will be featured at a Wednesday\, March 26\, in-person Recruitment Event. The event\, presented by the New Jersey Department of Labor and Workforce Development and the Greater Raritan Workforce Development Board (GRWDB)\, will be conducted from 10 a.m. to 12 p.m. in the Hunterdon County Chamber of Commerce Center for Business & Entrepreneurship\, 119 Main St. Flemington. \nWhile registration is appreciated\, those who pre-register may be considered for pre-scheduled on-site interviews being conducted by some of the participating employers. In addition\, as part of this event\, attendees can take part in a virtual Business Etiquette virtual workshop on Tuesday\, March 18. \nThe employers scheduled to be in attendance are: \n\nCoach USA\nDeSapio Construction Inc. in Frenchtown\nFedEx in East Brunswick\nHitran Corp. in Flemington\nJohanna Foods in Flemington\nMagna-Power Electronics in Flemington.\nPave Rite Inc. in Bridgewater\nSchaible’s Plumbing\, Heating & Water Treatment in Hampton\nThermo Fisher Scientific in Bridgewater\nTrident Maritime Systems in High Bridge\nUPS in Bridgewater\n\nEmployers will be available for informational discussions and more. In addition\, resources tables will feature information on programs at Hunterdon Polytech and other services available in Hunterdon County. To register\, use the QR code in this flyer or go to https://bit.ly/4gxqyTv. The registration form includes an updated list of employers\, and instructions for resume sharing to be considered for the on-site interviews will accompany registration confirmation. Walk-ins are welcome but on-site interviews may not be possible. \nTo help prepare for the event\, attendees are invited to the March 18 Business Etiquette virtual workshop\, running from 10 a.m.to 12 p.m. \nThe event\, hosted by the Greater Raritan Workforce Development Board and its partners\, will be presented by Jan Goodman\, a certified workforce development professional for the Greater Raritan One-Stop Career Training Services Center. \nWhile this workshop is connected to the March 26 recruitment event\, it is open to all interested job seekers\, and registration is required. To register\, use the QR code in this flyer or go to https://bit.ly/3Q29f2e. An email confirmation will be sent upon registration completion. \nFor questions about either the March 18 workshop or March 26 event\, email info@thegrwdb.org. or call 908-541-5790.
URL:https://www.thegrwdb.org/event/transportation-manufacturing-and-construction-multi-employer-recruitment-event/
LOCATION:Hunterdon County Chamber of Commerce Center for Business & Entrepreneurship\, 119 Main St.\, Flemington\, NJ\, 08812\, United States
CATEGORIES:Recruitment Event
END:VEVENT
BEGIN:VEVENT
DTSTART;TZID=America/New_York:20250326T110000
DTEND;TZID=America/New_York:20250326T120000
DTSTAMP:20260421T053616
CREATED:20250320T202615Z
LAST-MODIFIED:20250320T202615Z
UID:13669-1742986800-1742990400@www.thegrwdb.org
SUMMARY:Business Webinar: Financing Manufacturing: Bank & Alternative Strategies
DESCRIPTION:NJMEP and Rosenthal & Rosenthal are hosting a live session to help manufacturers navigate financing options. \nThe online session is planned from 10 a.m. to 12 p.m. Thursday\, March 26. Whether working with banks\, the SBA\, or alternative lenders\, this session will break down funding solutions\, credit strategies\, and ways to secure the capital you need. \nTo learn more and to register\, go here.
URL:https://www.thegrwdb.org/event/business-webinar-financing-manufacturing-bank-alternative-strategies/
LOCATION:Virtual Event
CATEGORIES:Business Event
END:VEVENT
END:VCALENDAR