BEGIN:VCALENDAR
VERSION:2.0
PRODID:-//Greater Raritan - ECPv6.3.5//NONSGML v1.0//EN
CALSCALE:GREGORIAN
METHOD:PUBLISH
X-ORIGINAL-URL:https://www.thegrwdb.org
X-WR-CALDESC:Events for Greater Raritan
REFRESH-INTERVAL;VALUE=DURATION:PT1H
X-Robots-Tag:noindex
X-PUBLISHED-TTL:PT1H
BEGIN:VTIMEZONE
TZID:America/New_York
BEGIN:DAYLIGHT
TZOFFSETFROM:-0500
TZOFFSETTO:-0400
TZNAME:EDT
DTSTART:20250309T070000
END:DAYLIGHT
BEGIN:STANDARD
TZOFFSETFROM:-0400
TZOFFSETTO:-0500
TZNAME:EST
DTSTART:20251102T060000
END:STANDARD
END:VTIMEZONE
BEGIN:VEVENT
DTSTART;TZID=America/New_York:20250319T080000
DTEND;TZID=America/New_York:20250319T093000
DTSTAMP:20260421T053848
CREATED:20250305T174815Z
LAST-MODIFIED:20250305T174815Z
UID:13575-1742371200-1742376600@www.thegrwdb.org
SUMMARY:Hunterdon Chamber of Commerce HR Roundtable: Internal Anti-Harassment & Discrimination Investigations
DESCRIPTION:The Hunterdon County Chamber of Commerce’s first HR Roundtable\, “Internal Anti-Harassment & Discrimination Investigations\,” will take place Wednesday\, March 19\, from 8 to 9:30 a.m. at the Unity Center for Business & Entrepreneurship\, Main Street\, Flemington. \nThe guest speaker will be William P. Flahive\, Flahive Burke Attorneys at Law\, LLC. \nTo register\, go to HR Roundtable: Conducting Internal Anti Harassment Investigations – Event Registration
URL:https://www.thegrwdb.org/event/hunterdon-chamber-of-commerce-hr-roundtable-internal-anti-harassment-discrimination-investigations/
LOCATION:Hunterdon County Chamber of Commerce Center for Business & Entrepreneurship\, 119 Main St.\, Flemington\, NJ\, 08812\, United States
CATEGORIES:Business Event
END:VEVENT
BEGIN:VEVENT
DTSTART;TZID=America/New_York:20250319T084500
DTEND;TZID=America/New_York:20250319T130000
DTSTAMP:20260421T053848
CREATED:20250224T180607Z
LAST-MODIFIED:20250224T180632Z
UID:13516-1742373900-1742389200@www.thegrwdb.org
SUMMARY:Norwescap Computer Skills Classes in Spanish – Norwescap Clases de Informática en Español: Introduction to Excel\, Day 1
DESCRIPTION:During the month of March\, Norwescap’s CLTC’s “Computer Skills Classes” in Spanish will be presented at the North Plainfield training center\, at 170 Watchung Avenue\, Iglesia Presbiteriana Nuevas Fronteras North Plainfield. These free classes will be conducted in-person using CLTC computers and Internet. Class times are 8:45 a.m. to 1 p.m. on the following dates: \nDurante el mes de marzo\, Norwescap CLTC “Clases de Habilidades Informáticas” en Español se presentará ofrecemos nuestra serie de clases de computación en español en nuestro Centro de capacitación de North Plainfield\, ubicado dentro del edificio adyacente a la Iglesia Presbiteriana Nuevas Fronteras en 170 Watchung Avenue\, North Plainfield\, NJ 07060. Estas clases gratuitas se llevarán a cabo en persona utilizando nuestras computadoras e Internet. Los horarios de las clases son de 8:45 a.m. a 1 p.m. \nMarch 3: File Management – Learn how to organize and find files\, save them where they belong\, copy and move files\, create folders and much more. \nMarch 5: Outlook and Gmail for Email – Learn the importance of creating a professional email account\, how to organize and manage incoming messages\, create personalized signatures\, and more. \nJanuary 14: Know Your Email App – Learn the importance of creating a professional email account\, organizing and controlling incoming emails\, personalized signatures and more. Learn how to take advantage of the many features in your email Calendar. Never miss an appointment again! \nMarch 10 and 12: Introduction to Word – Formatting: page layout\, orientation\, margins\, ruler\, bullets\, line spacing\, show/hide\, saving/renaming\, or deleting files\, using Help. Also\, creating a professional document: spell check\, templates\, auto correct\, styles and themes\, track changes\, headers and footers. \nMarch 17: Google Docs – Learn how to format\, create documents and save them on Google Drive\, and also how to translate documents \nMarch 19 and 24 – Introduction to Excel – This class will explain what Microsoft Excel is and the many different ways it can be used. It will go over basic functionality such as rows\, columns\, and cells as well as how to enter and reference data. Participants will learn how to write basic Excel functions and understand how they can be used in everyday applications such as budgeting. The class will cover the key Excel options and settings and will touch on reporting capabilities using pivot tables and charts. \nMarch 26 – Google Sheets & Slides – Learn how to create spreadsheets using Google Sheets and presentations using Google Slides (Google’s free software similar to Microsoft Excel and PowerPoint). Learn and how to save the documents you create to the cloud on your Google Drive. \nTo register\, text 908-899-1444 or email rickers@norwescap.org.
URL:https://www.thegrwdb.org/event/norwescap-computer-skills-classes-in-spanish-norwescap-clases-de-informatica-en-espanol-introduction-to-excel-day-1/
LOCATION:NORWESCAP North Plainfield\, 170 Watchung Ave.\, lower level\, North Plainfield\, 07060\, United States
CATEGORIES:Class
END:VEVENT
BEGIN:VEVENT
DTSTART;TZID=America/New_York:20250319T100000
DTEND;TZID=America/New_York:20250319T130000
DTSTAMP:20260421T053848
CREATED:20250203T222246Z
LAST-MODIFIED:20250203T222330Z
UID:13291-1742378400-1742389200@www.thegrwdb.org
SUMMARY:Judiciary Opportunities for Building Success (JOBS) Program Career and Resource Fair
DESCRIPTION:The Judiciary’s Probation Division in Somerset County is presenting a Judiciary Opportunities for Building Success (JOBS) Program Career and Resource Fair from 10 a.m. to 1 p.m. Wednesday\, March 19\, at 40 North Bridge St.\, in the first-floor training room (next to the Somerset County Courthouse)\, Somerville. \nThe JOBS Career and Resource Fair aims to connect job seekers with local employers and agencies. Representatives from area employers\, family and social service agencies and treatment services are to be in attendance. The event is open to the public\, including applicants on parole\, probation\, or re-entry. \nPre-registration is preferred but not required. To RSVP or request additional information\, an ADA accommodation or interpreting services\, contact Shannon Kraemer at Shannon.Kraemer@njcourts.gov or 908-332-7700 ext. 13453. \nThis free in-person event is sponsored by the Superior Court of New Jersey\, Somerset/Hunterdon/Warren Vicinage.
URL:https://www.thegrwdb.org/event/judiciary-opportunities-for-building-success-jobs-program-career-and-resource-fair-2/
LOCATION:Somerset County Probation Division\, 40 N. Bridge St.\, Somerville\, NJ\, 08876\, United States
CATEGORIES:Career Fair
END:VEVENT
END:VCALENDAR