BEGIN:VCALENDAR
VERSION:2.0
PRODID:-//Greater Raritan - ECPv6.3.5//NONSGML v1.0//EN
CALSCALE:GREGORIAN
METHOD:PUBLISH
X-ORIGINAL-URL:https://www.thegrwdb.org
X-WR-CALDESC:Events for Greater Raritan
REFRESH-INTERVAL;VALUE=DURATION:PT1H
X-Robots-Tag:noindex
X-PUBLISHED-TTL:PT1H
BEGIN:VTIMEZONE
TZID:America/New_York
BEGIN:DAYLIGHT
TZOFFSETFROM:-0500
TZOFFSETTO:-0400
TZNAME:EDT
DTSTART:20250309T070000
END:DAYLIGHT
BEGIN:STANDARD
TZOFFSETFROM:-0400
TZOFFSETTO:-0500
TZNAME:EST
DTSTART:20251102T060000
END:STANDARD
END:VTIMEZONE
BEGIN:VEVENT
DTSTART;TZID=America/New_York:20250306T090000
DTEND;TZID=America/New_York:20250306T110000
DTSTAMP:20260421T053848
CREATED:20250219T185324Z
LAST-MODIFIED:20250219T191802Z
UID:13459-1741251600-1741258800@www.thegrwdb.org
SUMMARY:Trident Marine Systems Job Fair
DESCRIPTION:Trident Maritime Systems is hosting an in-house Job Fair on Thursday\, March 6\, 2025\, from 9 to 11 a.m. at 3 Washington Ave.\, High Bridge. \nThe company is looking to connect with talented individuals in the manufacturing industry. First- and second-shift entry level positions are available in a variety of positions\, including General Laborer\, CNC Machinists and Programmer and many more. More details are available here. \nInterested candidates can register using the QR code in this flyer\, and walk-ins are welcomed. Veterans and military spouses are encouraged to apply\, y si habla Espanol.
URL:https://www.thegrwdb.org/event/trident-marine-systems-job-fair-2/
LOCATION:Trident Marine Systems\, 3 Washington Ave.\, High Bridge\, NJ\, 08829\, United States
CATEGORIES:Career Fair
END:VEVENT
BEGIN:VEVENT
DTSTART;TZID=America/New_York:20250306T100000
DTEND;TZID=America/New_York:20250306T140000
DTSTAMP:20260421T053848
CREATED:20250131T221406Z
LAST-MODIFIED:20250131T221642Z
UID:13278-1741255200-1741269600@www.thegrwdb.org
SUMMARY:Spring Resource Expo and Transition Fair with CEA
DESCRIPTION:Do you have a family member with a physical\, intellectual or developmental disability? Are you in search of academic or employment resources. \nThe Center for Educational Advancement (CEA) and its community partners are presenting a Resource Expo and Transition Fair from 10 a.m. to 2 p.m. Thursday\, March 6\, at the Bridgewater Commons Mall Community Hub. Attendess will learn about a variety of resources available from the CEA and others. The Community Hub is on the mall’s ground level. \nFor more information\, call 908-782-1480 Ext. 222 or email kdoremus@cea-nj.org.
URL:https://www.thegrwdb.org/event/spring-resource-expo-and-transition-fair-with-cea/
LOCATION:Bridgewater Commons\, 400 Commons Way\, Bridgewater\, NJ\, 08807\, United States
CATEGORIES:Community Event
END:VEVENT
BEGIN:VEVENT
DTSTART;TZID=America/New_York:20250306T143000
DTEND;TZID=America/New_York:20250306T151500
DTSTAMP:20260421T053848
CREATED:20250301T000112Z
LAST-MODIFIED:20250301T000749Z
UID:13544-1741271400-1741274100@www.thegrwdb.org
SUMMARY:GRWDB Youth Committee
DESCRIPTION:Through policy\, oversight\, and planning\, the GRWDB ensures that workforce training and education investments are responsive to and meet the needs of employers and jobseekers. As part of this work\, the GRWDB is responsible for maintaining committees to help inform decision-making around services and priorities for targeted populations. \nOne of those is the GRWDB’s Youth Committee\, which works to coordinate and integrate local youth services with current partners while seeking ways to expand and develop local youth services. \nMeetings are open to the public. This general-topic meeting will be virtual; interested individuals also may go to the GRWDB office on the third floor of 27 Warren St.\, Somerville. \nGRWDB Youth Committee\nMarch 6\, 2025\, 2:30 – 3:15 PM \nPlease join the meeting from your computer\, tablet or smartphone.\nhttps://meet.goto.com/314540173 \nYou can also dial in using your phone: +1 (408) 650-3123; Access Code: 314-540-173. \nNewcomers\, please RSVP to info@thegrwdb.org for details.G
URL:https://www.thegrwdb.org/event/grwdb-youth-committee-3/
LOCATION:GoToMeeting and In Person\, 27 Warren St.\, second-floor conference room\, Somerville\, NJ\, 08876\, United States
CATEGORIES:Committee Meeting
END:VEVENT
BEGIN:VEVENT
DTSTART;TZID=America/New_York:20250306T180000
DTEND;TZID=America/New_York:20250306T190000
DTSTAMP:20260421T053848
CREATED:20250120T234642Z
LAST-MODIFIED:20250303T234607Z
UID:13158-1741284000-1741287600@www.thegrwdb.org
SUMMARY:CANCELLED: Virtual Career Series: Bridge to Success
DESCRIPTION:The following spring event has been cancelled and will be rescheduled for the summer. \nAre you feeling stressed in your job search? \nThe Greater Raritan Workforce Development Board and Empower Somerset are offering a free eight-week virtual program for community members entitled Bridge to Success. The stress-management techniques shared in this series focus on behavioral\, social\, and cognitive coping strategies that can be used to address stressful situations at home\, work\, and interpersonal relationships. The strategies will help participants survive and thrive during the job-search process\, and in life. \nThe virtual series will run every Thursday from 6 to 7 p.m. beginning on March 6\, and ending April 24. \nThe class is limited to 20 participants and participants must have their cameras on for every session. Those taking part in the program are expected to attend all sessions. The program includes a $50 Amazon gift card for completion. \nTo register\, use the link in this flyer.
URL:https://www.thegrwdb.org/event/virtual-career-series-bridge-to-success/
LOCATION:Zoom
CATEGORIES:Workshops
END:VEVENT
END:VCALENDAR