BEGIN:VCALENDAR
VERSION:2.0
PRODID:-//Greater Raritan - ECPv6.3.5//NONSGML v1.0//EN
CALSCALE:GREGORIAN
METHOD:PUBLISH
X-ORIGINAL-URL:https://www.thegrwdb.org
X-WR-CALDESC:Events for Greater Raritan
REFRESH-INTERVAL;VALUE=DURATION:PT1H
X-Robots-Tag:noindex
X-PUBLISHED-TTL:PT1H
BEGIN:VTIMEZONE
TZID:America/New_York
BEGIN:DAYLIGHT
TZOFFSETFROM:-0500
TZOFFSETTO:-0400
TZNAME:EDT
DTSTART:20250309T070000
END:DAYLIGHT
BEGIN:STANDARD
TZOFFSETFROM:-0400
TZOFFSETTO:-0500
TZNAME:EST
DTSTART:20251102T060000
END:STANDARD
END:VTIMEZONE
BEGIN:VEVENT
DTSTART;TZID=America/New_York:20250304T090000
DTEND;TZID=America/New_York:20250304T133000
DTSTAMP:20260421T053816
CREATED:20250224T172249Z
LAST-MODIFIED:20250224T172610Z
UID:13484-1741078800-1741095000@www.thegrwdb.org
SUMMARY:Norwescap Computer Class Series: PowerPoint 1
DESCRIPTION:During the month of February\, Norwescap Career Life & Transitions Center (CLTC) is bringing its “Computer Class Series” to the Flemington United Methodist Church\, at 116 Main St\, Flemington. These free classes will be conducted in-person\, using CLTC computers and Internet. Class times for the following sessions are from 9:15 a.m. to 1:30 p.m. \nMarch 4\, 11\, and 13: PowerPoint 1\, 2 and 3: This class will explain how to use Microsoft PowerPoint to create powerful\, interesting presentations.  Participants will learn how to use text\, images\, video\, photos\, color and designs to customize presentations and make them interesting.  Guidelines to use in creating business presentations will be reviewed\, along with how to utilize templates. Participants also will practice giving presentations based on exercises completed in class. This class is full\, but a waitlist is available. \nMarch 18 – Using LinkedIn to Aide Your Job Search: Employers look on social media? LinkedIn is an essential tool for workers today; it’s a great source of information about the job market and current trends\, and it connects its members in a visible way with others in your industry. \nMarch 20 – Advanced Excel: This is a one-day class that will continue to build on basic Excel skills and focus on the following: VLookup\, HLookup\, and XLookup; Pivot tables; and chart creation and customization. \nTo register\, call 908-788-1453 or 908-900-0060\, ext. 1503.
URL:https://www.thegrwdb.org/event/norwescap-computer-class-series-powerpoint-1-2/
LOCATION:Flemington United Methodist Church\, 116 Main St.\, Flemington\, NJ\, 08822\, United States
CATEGORIES:Class
END:VEVENT
BEGIN:VEVENT
DTSTART;TZID=America/New_York:20250304T160000
DTEND;TZID=America/New_York:20250304T171500
DTSTAMP:20260421T053816
CREATED:20250211T223331Z
LAST-MODIFIED:20250211T223331Z
UID:13374-1741104000-1741108500@www.thegrwdb.org
SUMMARY:Resource Webinar: All About Credit
DESCRIPTION:Credit issues burden many individuals and understanding credit can be confusing. All About Credit\, a new webinar from the Central Jersey Housing Resource Center (CJHRC)\, will focus on this issue when it meets from 4 to 5:15 p.m. Tuesday\, March 4. \nThe webinar will cover: \n\nWhat you need to be aware of when it comes to your credit\nUnderstand a credit report\nWhy you are denied credit or a rental unit\nHow to obtain a free credit report and much more.\n\nTo register\, go to https://attendee.gotowebinar.com/rt/1023908550900442972 or go to www.cjhrc.org\, click on the Upcoming Webinars & Events tile and click on CJHRC Webinars. Choose March 4\, 2025\, All About Credit Webinar; the link to register is located towards the bottom of the flyer. \nFor questions or help with registration\, contact a CJHRC Counselor at 908-446-0037.
URL:https://www.thegrwdb.org/event/resource-webinar-all-about-credit/
LOCATION:Virtual Event
CATEGORIES:Workshops
END:VEVENT
BEGIN:VEVENT
DTSTART;TZID=America/New_York:20250304T160000
DTEND;TZID=America/New_York:20250304T180000
DTSTAMP:20260421T053816
CREATED:20250226T230721Z
LAST-MODIFIED:20250228T181650Z
UID:13526-1741104000-1741111200@www.thegrwdb.org
SUMMARY:Financial Resources FCU Career Fair
DESCRIPTION:Financial Resources FCU is hosting a Career Fair at its Branchburg office at 3040 Route 22\, Building 2\, from 4 to 6 p.m. Tuesday\, March 4\, 2025. \nOpportunities are available in Financial Resources FCU offices in Branchburg\, Green Brook\, the Somerset section of Franklin\, and Flemington. Attendees can meet with current team members to learn about the company’s culture and career opportunities. \nThose interested in attending can learn more by going to https://bit.ly/3uMutHE and can RSVP by emailing a resume to careers@finresc.org. Walk-ins also are welcome.
URL:https://www.thegrwdb.org/event/financial-resources-fcu-career-fair/
LOCATION:Financial Resources FCU\, 3040 Route 22\, Building 2\, Branchburg\, NJ\, 08876\, United States
CATEGORIES:Career Fair
END:VEVENT
END:VCALENDAR