BEGIN:VCALENDAR
VERSION:2.0
PRODID:-//Greater Raritan - ECPv6.3.5//NONSGML v1.0//EN
CALSCALE:GREGORIAN
METHOD:PUBLISH
X-WR-CALNAME:Greater Raritan
X-ORIGINAL-URL:https://www.thegrwdb.org
X-WR-CALDESC:Events for Greater Raritan
REFRESH-INTERVAL;VALUE=DURATION:PT1H
X-Robots-Tag:noindex
X-PUBLISHED-TTL:PT1H
BEGIN:VTIMEZONE
TZID:America/New_York
BEGIN:DAYLIGHT
TZOFFSETFROM:-0500
TZOFFSETTO:-0400
TZNAME:EDT
DTSTART:20250309T070000
END:DAYLIGHT
BEGIN:STANDARD
TZOFFSETFROM:-0400
TZOFFSETTO:-0500
TZNAME:EST
DTSTART:20251102T060000
END:STANDARD
END:VTIMEZONE
BEGIN:VEVENT
DTSTART;TZID=America/New_York:20250228T110000
DTEND;TZID=America/New_York:20250228T130000
DTSTAMP:20260421T053609
CREATED:20250128T194321Z
LAST-MODIFIED:20250131T220921Z
UID:13228-1740740400-1740747600@www.thegrwdb.org
SUMMARY:TiPS (Transition into Postsecondary Services) Information Fair
DESCRIPTION:The Annual TiPS (Transition into Postsecondary Services) Fair\, for all families and care providers of individuals with intellectual and developmental disabilities in Hunterdon and Somerset counties\, will be conducted from 11 a.m. to 1 p.m. Friday\, February 28\, at Raritan Valley Community College Events Center\, Lamington Road\, in Branchburg. \nThis Transition Fair will feature support-coordination agencies which can assist families and care providers looking for resources for older individuals who need some type of service as they age. \nParticipants will provide information on day and residential programs\, education and recreation programs\, transportation services\, career-development services and more. Representatives from the Division of Vocational Rehabilitation Services\, the Division of Developmental Disabilities and other service providers will be on hand. \nA floor map will be provided at the door\, and attendees are asked to bring a to collect the information being provided. \nFor more information\, contact slynch@brrsd.k12.nj.us. \n 
URL:https://www.thegrwdb.org/event/tips-transition-into-postsecondary-services-information-fair/
LOCATION:Raritan Valley Community College Event Center\, 118 Lamington Road\, Branchburg\, NJ\, 08876\, United States
CATEGORIES:Community Event
END:VEVENT
END:VCALENDAR