BEGIN:VCALENDAR
VERSION:2.0
PRODID:-//Greater Raritan - ECPv6.3.5//NONSGML v1.0//EN
CALSCALE:GREGORIAN
METHOD:PUBLISH
X-WR-CALNAME:Greater Raritan
X-ORIGINAL-URL:https://www.thegrwdb.org
X-WR-CALDESC:Events for Greater Raritan
REFRESH-INTERVAL;VALUE=DURATION:PT1H
X-Robots-Tag:noindex
X-PUBLISHED-TTL:PT1H
BEGIN:VTIMEZONE
TZID:America/New_York
BEGIN:DAYLIGHT
TZOFFSETFROM:-0500
TZOFFSETTO:-0400
TZNAME:EDT
DTSTART:20250309T070000
END:DAYLIGHT
BEGIN:STANDARD
TZOFFSETFROM:-0400
TZOFFSETTO:-0500
TZNAME:EST
DTSTART:20251102T060000
END:STANDARD
END:VTIMEZONE
BEGIN:VEVENT
DTSTART;TZID=America/New_York:20250219T100000
DTEND;TZID=America/New_York:20250219T110000
DTSTAMP:20260421T102420
CREATED:20250206T194313Z
LAST-MODIFIED:20250206T194435Z
UID:13337-1739959200-1739962800@www.thegrwdb.org
SUMMARY:Horizon Blue Cross Blue Shield Virtual Recruitment Event
DESCRIPTION:Horizon Blue Cross Blue Shield is hosting a Virtual Recruitment Event at 10 a.m. Wednesday\, February 19\, 2025. The company is looking to hire 50 Member Advocate Associates. \nThis is a hybrid position with two days in Newark Penn Plaza and three days remote. The annual salary is $52\,645.00 to $69\,910.00. \nTo register for the event\, use the QR code in this flyer or go to https://forms.office.com/g/hNAcmfFbhb. \n 
URL:https://www.thegrwdb.org/event/horizon-blue-cross-blue-shield-virtual-recruitment-event/
LOCATION:Virtual Event
END:VEVENT
END:VCALENDAR