BEGIN:VCALENDAR
VERSION:2.0
PRODID:-//Greater Raritan - ECPv6.3.5//NONSGML v1.0//EN
CALSCALE:GREGORIAN
METHOD:PUBLISH
X-WR-CALNAME:Greater Raritan
X-ORIGINAL-URL:https://www.thegrwdb.org
X-WR-CALDESC:Events for Greater Raritan
REFRESH-INTERVAL;VALUE=DURATION:PT1H
X-Robots-Tag:noindex
X-PUBLISHED-TTL:PT1H
BEGIN:VTIMEZONE
TZID:America/New_York
BEGIN:DAYLIGHT
TZOFFSETFROM:-0500
TZOFFSETTO:-0400
TZNAME:EDT
DTSTART:20250309T070000
END:DAYLIGHT
BEGIN:STANDARD
TZOFFSETFROM:-0400
TZOFFSETTO:-0500
TZNAME:EST
DTSTART:20251102T060000
END:STANDARD
END:VTIMEZONE
BEGIN:VEVENT
DTSTART;TZID=America/New_York:20250123T084500
DTEND;TZID=America/New_York:20250123T130000
DTSTAMP:20260421T114150
CREATED:20241226T173315Z
LAST-MODIFIED:20241226T173315Z
UID:13054-1737621900-1737637200@www.thegrwdb.org
SUMMARY:Norwescap Computer Skills Classes in Spanish – Norwescap Clases de Informática en Español: Introduction to Google Docs\, Day 1
DESCRIPTION:During the month of January\, Norwescap’s CLTC’s “Computer Skills Classes” in Spanish will be presented at the North Plainfield training center\, at 170 Watchung Avenue\, Iglesia Presbiteriana Nuevas Fronteras North Plainfield. These free classes will be conducted in-person using CLTC computers and Internet. Class times are 8:45 a.m. to 1 p.m. on the following dates: \nDurante el mes de enero\, Norwescap CLTC “Clases de Habilidades Informáticas” en Español se presentará en centro de capacitación de North Plainfield\, 170 Watchung Avenue\, Iglesia Presbiteriana Nuevas Fronteras\, North Plainfield. Estas clases gratuitas se llevarán a cabo en persona utilizando CLTC computadoras e internet. Horario de clases: 8:45 a.m. – 1 p.m. en las siguientes fechas: \nJanuary 7: Basic Computer Knowledge – Build a foundation of computer terms and understand how Windows the operating system works. \nJanuary 9: File Management – Learn how to organize and find files\, save them where they belong\, copy and move files\, create folders and much more. \nJanuary 14: Know Your Email App – Learn the importance of creating a professional email account\, organizing and controlling incoming emails\, personalized signatures and more. Learn how to take advantage of the many features in your email Calendar. Never miss an appointment again! \nJanuary 16: Introduction to Word Part 1 – Formatting: page layout\, orientation\, margins\, ruler\, bullets\, line spacing\, show/hide\, saving/renaming\, or deleting files\, using Help. \nJanuary 21: Introduction to Word Part 2 – Creating a professional document: spell check\, templates\, auto correct\, styles and themes\, track changes\, headers and footers. \nJanuary 23: Google Doc 1 – Learn how to format\, create documents and save them on Google Drive. \nJanuary 28: Google Doc 2 – Learn how to create spreadsheets\, presentation and save it in Google Drive. \nTo register\, text 908-899-1444 or email rickers@norwescap.org.
URL:https://www.thegrwdb.org/event/norwescap-computer-skills-classes-in-spanish-norwescap-clases-de-informatica-en-espanol-introduction-to-google-docs-day-1/
LOCATION:NORWESCAP North Plainfield\, 170 Watchung Ave.\, lower level\, North Plainfield\, 07060\, United States
CATEGORIES:Class
END:VEVENT
BEGIN:VEVENT
DTSTART;TZID=America/New_York:20250123T091500
DTEND;TZID=America/New_York:20250123T133000
DTSTAMP:20260421T114150
CREATED:20241226T163132Z
LAST-MODIFIED:20241226T171348Z
UID:13017-1737623700-1737639000@www.thegrwdb.org
SUMMARY:Norwescap Computer Class Series: Microsoft Excel Advanced
DESCRIPTION:During the month of January\, Norwescap Career Life & Transitions Center (CLTC) is bringing its “Computer Class Series” to the Flemington United Methodist Church\, located at 116 Main St\, Flemington. These free classes will be conducted in-person\, using CLTC computers and Internet. Class times for the following sessions are from 9:15 a.m. to 1:30 p.m. \nJanuary 7\, 9\, 14\, and 16: Computer Basics 1:  This will be a four-class series that will cover the following: \n\nDifferent types of computers\nDifferences between hardware\, software\, and operating systems (focusing on Windows)\nFile management overview including how to name\, store\, and find files on one’s computer\nThings to consider when purchasing a computer\nInternet basics including discussing different browsers and search engines\, accessing email\, and setting up favorites\nKeyboard and Mouse skill overview and practice.\n\nJanuary 23: Advanced Excel:  This is a one-day class that will continue to build on Excel basic skills and focus on the following: \n\nVLookup\, HLookup\, and XLookup\nCustomizing Pivot tables\nCreating and customizing Charts\nCreating presentation type Excel sheets\n\nJanuary 28: Skills Brush Up :  This class is open to anyone who has taken a class with the CLTC in the past.  There will be no agenda\, but it is an opportunity for students to come back and ask questions\, review topics\, or ask for additional help.  Students may bring in their own computers or use the class computers for practice. \n January 30: Word:  This will begin a three-session class focused on Microsoft Word.  This class will discuss the evolution of word processing\, how Microsoft Word has influenced producing documents\, review key Word options\, functions and settings\, explain how to use tables and templates\, review guidelines to create professional documents and provide opportunities to practice using Word. \nTo register\, please call 908-788-1453.
URL:https://www.thegrwdb.org/event/norwescap-computer-class-series-microsoft-excel-advanced/
LOCATION:Flemington United Methodist Church\, 116 Main St.\, Flemington\, NJ\, 08822\, United States
CATEGORIES:Class
END:VEVENT
BEGIN:VEVENT
DTSTART;TZID=America/New_York:20250123T120000
DTEND;TZID=America/New_York:20250123T130000
DTSTAMP:20260421T114150
CREATED:20241226T174053Z
LAST-MODIFIED:20241226T174105Z
UID:13058-1737633600-1737637200@www.thegrwdb.org
SUMMARY:Norwescap Webinar: Learn about Work Certifications
DESCRIPTION:On Thursday\, January 23\, at 12 p.m.\, Norwescap’s Career and Life Club will present “Learn about Certifications!” This event will focus on such certification pathways as veterinary tech\, vet asst\, medical coding\, and many more. The webinar will be led by Work Specialist Maria Dubai of Penn Foster and will be conducted on Zoom. \nTo register and receive the link\, contact Terry at 908-788-1453.
URL:https://www.thegrwdb.org/event/norwescap-webinar-learn-about-work-certifications/
LOCATION:Zoom
CATEGORIES:Workshops
END:VEVENT
BEGIN:VEVENT
DTSTART;TZID=America/New_York:20250123T120000
DTEND;TZID=America/New_York:20250123T130000
DTSTAMP:20260421T114150
CREATED:20250117T231151Z
LAST-MODIFIED:20250117T231213Z
UID:13152-1737633600-1737637200@www.thegrwdb.org
SUMMARY:GRWDB Board Meeting – Virtual and In-person
DESCRIPTION:A quarterly GRWDB Board Meeting will be conducted at 12 p.m. Thursday\, January 23\, 2025; attendees may join via GoToMeeting or in person in the second-floor conference room at 27 Warren St.\, Somerville.\n\n\n\n\nThe meeting will include presentations by the One-Stop Operator and a discussion on GRWDB program and fiscal performance.  The recent program monitoring conducted by GRWDB staff and board members also will be discussed\, along with a new grant program launching later this winter. In addition\, an update on the successful First Steps Basic English program will be shared. \n\nAll GRWDB Board and Committee meetings are open to the public. For questions\, contact GRWDB Director Paul Grzella at 908-541-5790\, or at grzella@co.somerset.nj.us.\n\n\n\n\n\n\n\n\nPlease join the GRWRD Board meeting from your computer\, tablet or smartphone.\nhttps://meet.goto.com/GRDWB \nYou can also dial in using your phone.\nAccess Code: 154-148-181\nUnited States: +1 (646) 749-3112 \nMeeting agendas can be found here on the GRWDB website. All are welcomed.
URL:https://www.thegrwdb.org/event/grwdb-board-meeting-virtual-and-in-person-2/
LOCATION:Virtual Meeting
CATEGORIES:Board Meeting
END:VEVENT
END:VCALENDAR