BEGIN:VCALENDAR
VERSION:2.0
PRODID:-//Greater Raritan - ECPv6.3.5//NONSGML v1.0//EN
CALSCALE:GREGORIAN
METHOD:PUBLISH
X-ORIGINAL-URL:https://www.thegrwdb.org
X-WR-CALDESC:Events for Greater Raritan
REFRESH-INTERVAL;VALUE=DURATION:PT1H
X-Robots-Tag:noindex
X-PUBLISHED-TTL:PT1H
BEGIN:VTIMEZONE
TZID:America/New_York
BEGIN:DAYLIGHT
TZOFFSETFROM:-0500
TZOFFSETTO:-0400
TZNAME:EDT
DTSTART:20250309T070000
END:DAYLIGHT
BEGIN:STANDARD
TZOFFSETFROM:-0400
TZOFFSETTO:-0500
TZNAME:EST
DTSTART:20251102T060000
END:STANDARD
END:VTIMEZONE
BEGIN:VEVENT
DTSTART;TZID=America/New_York:20250114T084500
DTEND;TZID=America/New_York:20250114T130000
DTSTAMP:20260421T111831
CREATED:20241226T172507Z
LAST-MODIFIED:20241226T172631Z
UID:13043-1736844300-1736859600@www.thegrwdb.org
SUMMARY:Norwescap Computer Skills Classes in Spanish – Norwescap Clases de Informática en Español: Get to Know Your Email App
DESCRIPTION:During the month of January\, Norwescap’s CLTC’s “Computer Skills Classes” in Spanish will be presented at the North Plainfield training center\, at 170 Watchung Avenue\, Iglesia Presbiteriana Nuevas Fronteras North Plainfield. These free classes will be conducted in-person using CLTC computers and Internet. Class times are 8:45 a.m. to 1 p.m. on the following dates: \nDurante el mes de enero\, Norwescap CLTC “Clases de Habilidades Informáticas” en Español se presentará en centro de capacitación de North Plainfield\, 170 Watchung Avenue\, Iglesia Presbiteriana Nuevas Fronteras\, North Plainfield. Estas clases gratuitas se llevarán a cabo en persona utilizando CLTC computadoras e internet. Horario de clases: 8:45 a.m. – 1 p.m. en las siguientes fechas: \nJanuary 7: Basic Computer Knowledge – Build a foundation of computer terms and understand how Windows the operating system works. \nJanuary 9: File Management – Learn how to organize and find files\, save them where they belong\, copy and move files\, create folders and much more. \nJanuary 14: Know Your Email App – Learn the importance of creating a professional email account\, organizing and controlling incoming emails\, personalized signatures and more. Learn how to take advantage of the many features in your email Calendar. Never miss an appointment again! \nJanuary 16: Introduction to Word Part 1 – Formatting: page layout\, orientation\, margins\, ruler\, bullets\, line spacing\, show/hide\, saving/renaming\, or deleting files\, using Help. \nJanuary 21: Introduction to Word Part 2 – Creating a professional document: spell check\, templates\, auto correct\, styles and themes\, track changes\, headers and footers. \nJanuary 23: Google Doc 1 – Learn how to format\, create documents and save them on Google Drive. \nJanuary 28: Google Doc 2 – Learn how to create spreadsheets\, presentation and save it in Google Drive. \nTo register\, text 908-899-1444 or email rickers@norwescap.org.
URL:https://www.thegrwdb.org/event/norwescap-computer-skills-classes-in-spanish-norwescap-clases-de-informatica-en-espanol-get-to-know-your-email-app/
LOCATION:NORWESCAP North Plainfield\, 170 Watchung Ave.\, lower level\, North Plainfield\, 07060\, United States
CATEGORIES:Class
END:VEVENT
BEGIN:VEVENT
DTSTART;TZID=America/New_York:20250114T091500
DTEND;TZID=America/New_York:20250114T133000
DTSTAMP:20260421T111831
CREATED:20241226T162828Z
LAST-MODIFIED:20241226T171454Z
UID:13012-1736846100-1736861400@www.thegrwdb.org
SUMMARY:Norwescap Computer Class Series: Computer Basics 1\, Day 3
DESCRIPTION:During the month of January\, Norwescap Career Life & Transitions Center (CLTC) is bringing its “Computer Class Series” to the Flemington United Methodist Church\, located at 116 Main St\, Flemington. These free classes will be conducted in-person\, using CLTC computers and Internet. Class times for the following sessions are from 9:15 a.m. to 1:30 p.m. \nJanuary 7\, 9\, 14\, and 16: Computer Basics 1:  This will be a four-class series that will cover the following: \n\nDifferent types of computers\nDifferences between hardware\, software\, and operating systems (focusing on Windows)\nFile management overview including how to name\, store\, and find files on one’s computer\nThings to consider when purchasing a computer\nInternet basics including discussing different browsers and search engines\, accessing email\, and setting up favorites\nKeyboard and Mouse skill overview and practice.\n\nJanuary 23: Advanced Excel:  This is a one-day class that will continue to build on Excel basic skills and focus on the following: \n\nVLookup\, HLookup\, and XLookup\nCustomizing Pivot tables\nCreating and customizing Charts\nCreating presentation type Excel sheets\n\nJanuary 28: Skills Brush Up :  This class is open to anyone who has taken a class with the CLTC in the past.  There will be no agenda\, but it is an opportunity for students to come back and ask questions\, review topics\, or ask for additional help.  Students may bring in their own computers or use the class computers for practice. \n January 30: Word:  This will begin a three-session class focused on Microsoft Word.  This class will discuss the evolution of word processing\, how Microsoft Word has influenced producing documents\, review key Word options\, functions and settings\, explain how to use tables and templates\, review guidelines to create professional documents and provide opportunities to practice using Word. \nTo register\, please call 908-788-1453.
URL:https://www.thegrwdb.org/event/norwescap-computer-class-series-computer-basics-1-3/
LOCATION:Flemington United Methodist Church\, 116 Main St.\, Flemington\, NJ\, 08822\, United States
CATEGORIES:Class
END:VEVENT
BEGIN:VEVENT
DTSTART;TZID=America/New_York:20250114T100000
DTEND;TZID=America/New_York:20250114T120000
DTSTAMP:20260421T111831
CREATED:20241206T231653Z
LAST-MODIFIED:20241219T204913Z
UID:12916-1736848800-1736856000@www.thegrwdb.org
SUMMARY:Multi-Employer Healthcare Recruitment Event
DESCRIPTION:Healthcare employers in Somerset and Hunterdon counties are hiring. Learn more at an in-person Healthcare Recruitment Event\, presented by the New Jersey Department of Labor and Workforce Development and the Greater Raritan Workforce Development Board on Tuesday\, January 14\, 2025\, from 10 a.m. to 12 p.m. The event will be conducted in the first-floor conference room at 27 Warren St.\, Somerville. \nThe employers have dozens of job openings. Position titles include Registered Nurse\, Medical Assistant\, Licensed Practical Nurse\, Home Health Aide\, Certified Nurse Assistant\, Certified Home Health Aide\, Pharmacy Technician\, Companion Caregiver\, Patient Care Assistant\, Housekeeping\, Food Service Aide\, Receptionist\, Scheduling Coordinator and more. \nAmong the employers scheduled to be in attendance are: ArchAngels Services\, Bright Star Care\, Hackensack Meridian Health\, Hunterdon Healthcare\, Hunterdongastro.com\, Matheny Medical and Education Center\, Right at Home\, RWJ Barnabas Health\, Spring Point\, Stonebridge at Montgomery\, The Arc of Hunterdon and Zufall Health Center. \nEmployers will be available for informational discussions and more. To register\, use the QR code in this flyer or this link: https://bit.ly/416Mscd. Registration is appreciated but not required\, unless a job seeker wants to be considered for an interview by some of the participating employers. The registration form includes an updated list of employers\, and instructions for resume sharing will accompany registration confirmation. Walk-ins are welcome. \nTo help prepare for the event\, attendees are invited to a January 7 Mastering the Interview virtual workshop. Click here for details. \nFor questions about either the January 7 workshop or January 14 event\, mail info@thegrwdb.org. \n 
URL:https://www.thegrwdb.org/event/multi-employer-healthcare-recruitment-event-3/
LOCATION:27 Warren St\, first floor\, Somerville\, NJ 08876\, 27 Warren St.\, first floor\, Somerville\, NJ\, 08876\, United States
CATEGORIES:Recruitment Event
END:VEVENT
END:VCALENDAR