BEGIN:VCALENDAR
VERSION:2.0
PRODID:-//Greater Raritan - ECPv6.3.5//NONSGML v1.0//EN
CALSCALE:GREGORIAN
METHOD:PUBLISH
X-WR-CALNAME:Greater Raritan
X-ORIGINAL-URL:https://www.thegrwdb.org
X-WR-CALDESC:Events for Greater Raritan
REFRESH-INTERVAL;VALUE=DURATION:PT1H
X-Robots-Tag:noindex
X-PUBLISHED-TTL:PT1H
BEGIN:VTIMEZONE
TZID:America/New_York
BEGIN:DAYLIGHT
TZOFFSETFROM:-0500
TZOFFSETTO:-0400
TZNAME:EDT
DTSTART:20240310T070000
END:DAYLIGHT
BEGIN:STANDARD
TZOFFSETFROM:-0400
TZOFFSETTO:-0500
TZNAME:EST
DTSTART:20241103T060000
END:STANDARD
END:VTIMEZONE
BEGIN:VEVENT
DTSTART;TZID=America/New_York:20241210T091500
DTEND;TZID=America/New_York:20241210T133000
DTSTAMP:20260421T094636
CREATED:20241122T172212Z
LAST-MODIFIED:20241122T172212Z
UID:12636-1733822100-1733837400@www.thegrwdb.org
SUMMARY:Norwescap Computer Class Series: Microsoft PowerPoint III
DESCRIPTION:Norwescap CLTC’s Computer Class Series is designed to help class participants build a strong foundation using computers. This month’s free series will be conducted in person at the Flemington United Methodist Church\, 116 Main St.\, Flemington\, using CLTC’s computers and Internet. Class time for the following classes is 9:15 a.m. to 1:30 p.m. \nDec. 3\, 5 and 10: This class will explain how to use Microsoft PowerPoint to create powerful\, interesting presentations.  Participants will learn how to use text\, images\, video\, photos\, color and designs to customize presentations and make them interesting.  Guidelines to use in creating business presentations will be reviewed\, along with how to utilize templates\, and participants will practice giving presentations based on exercises completed in class. \nDec. 12: Skills Brush Up (Open Topic Day):  The computer instructor will be available in-person to answer questions\, review additional topics and provide overall support. Students can bring their personal computers and phones for troubleshooting and advice. This drop-in session is available to anyone who has taken a class in the past. Computers will be available for students to practice with or use to work on resumes\, job applications\, etc.        \nRegistration is required. Call 908-788-1453 Monday to Friday\, 9 a.m. to 5:30 p.m.
URL:https://www.thegrwdb.org/event/norwescap-computer-class-series-microsoft-powerpoint-iii/
LOCATION:Flemington United Methodist Church\, 116 Main St.\, Flemington\, NJ\, 08822\, United States
CATEGORIES:Class
END:VEVENT
END:VCALENDAR