BEGIN:VCALENDAR
VERSION:2.0
PRODID:-//Greater Raritan - ECPv6.3.5//NONSGML v1.0//EN
CALSCALE:GREGORIAN
METHOD:PUBLISH
X-ORIGINAL-URL:https://www.thegrwdb.org
X-WR-CALDESC:Events for Greater Raritan
REFRESH-INTERVAL;VALUE=DURATION:PT1H
X-Robots-Tag:noindex
X-PUBLISHED-TTL:PT1H
BEGIN:VTIMEZONE
TZID:America/New_York
BEGIN:DAYLIGHT
TZOFFSETFROM:-0500
TZOFFSETTO:-0400
TZNAME:EDT
DTSTART:20240310T070000
END:DAYLIGHT
BEGIN:STANDARD
TZOFFSETFROM:-0400
TZOFFSETTO:-0500
TZNAME:EST
DTSTART:20241103T060000
END:STANDARD
END:VTIMEZONE
BEGIN:VEVENT
DTSTART;TZID=America/New_York:20241120T080000
DTEND;TZID=America/New_York:20241120T170000
DTSTAMP:20260421T114216
CREATED:20240826T183737Z
LAST-MODIFIED:20240826T183737Z
UID:12197-1732089600-1732122000@www.thegrwdb.org
SUMMARY:3rd Annual NJ Rural Health Conference
DESCRIPTION:The New Jersey Department of Health Office of Primary Care and Rural Health will host its 3rd Annual NJ Rural Health Conference on November 20th\, 2024\, from 8 a.m. to 5 p.m. at Brookdale Community College. \nThe event\,  with the theme of “The Power of Rural New Jersey\,” is sponsored by Horizon BCBS and Acenda Integrated Health.
URL:https://www.thegrwdb.org/event/3rd-annual-nj-rural-health-conference/
LOCATION:Brookdale Community College\, 765 Newman Springs Road\, Lincroft\, NJ\, 07738\, United States
CATEGORIES:Community Event
END:VEVENT
BEGIN:VEVENT
DTSTART;TZID=America/New_York:20241120T080000
DTEND;TZID=America/New_York:20241120T170000
DTSTAMP:20260421T114216
CREATED:20241029T173621Z
LAST-MODIFIED:20241029T173621Z
UID:12568-1732089600-1732122000@www.thegrwdb.org
SUMMARY:3rd Annual NJ Rural Health Conference
DESCRIPTION:The 3rd Annual NJ Rural Health Conference will be conducted on Wednesday\, November 20\, at Brookdale Community College in Lincroft from 8 a.m. to 5 p.m. \nThe conference\, title The Power of Rural New Jersey\, is hosted by the New Jersey Department of Health Office of Primary Care and Rural Health. It will provide a platform for attendees to learn about health trends and connect with rural partners to enhance health outcomes in rural New Jersey. \nNatalia I. Chalmers\, chief dental officer for the Centers for Medicare and Medicaid Services\, is the keynote speaker\, and there are a variety of breakout sessions. There is also a virtual option for attendance. \nTo register to attend in person\, go to bit.ly/3BDhVIa\, or use the QR code in this flyer. \n 
URL:https://www.thegrwdb.org/event/3rd-annual-nj-rural-health-conference-2/
LOCATION:Brookdale Community College\, 765 Newman Springs Road\, Lincroft\, NJ\, 07738\, United States
CATEGORIES:Community Event
END:VEVENT
END:VCALENDAR