BEGIN:VCALENDAR
VERSION:2.0
PRODID:-//Greater Raritan - ECPv6.3.5//NONSGML v1.0//EN
CALSCALE:GREGORIAN
METHOD:PUBLISH
X-WR-CALNAME:Greater Raritan
X-ORIGINAL-URL:https://www.thegrwdb.org
X-WR-CALDESC:Events for Greater Raritan
REFRESH-INTERVAL;VALUE=DURATION:PT1H
X-Robots-Tag:noindex
X-PUBLISHED-TTL:PT1H
BEGIN:VTIMEZONE
TZID:America/New_York
BEGIN:DAYLIGHT
TZOFFSETFROM:-0500
TZOFFSETTO:-0400
TZNAME:EDT
DTSTART:20240310T070000
END:DAYLIGHT
BEGIN:STANDARD
TZOFFSETFROM:-0400
TZOFFSETTO:-0500
TZNAME:EST
DTSTART:20241103T060000
END:STANDARD
END:VTIMEZONE
BEGIN:VEVENT
DTSTART;TZID=America/New_York:20241113T083000
DTEND;TZID=America/New_York:20241113T133000
DTSTAMP:20260421T114218
CREATED:20240821T213920Z
LAST-MODIFIED:20240821T214419Z
UID:12175-1731486600-1731504600@www.thegrwdb.org
SUMMARY:Exhibitors Wanted for JA Inspire Career Fair at Middlesex College
DESCRIPTION:Middle school students want to learn about New Jersey companies and the world of work! Traditionally\, Junior Achievement of New Jersey (JA) has helped educators connect their students with career pathways and opportunities that inspire their future. \nToward that end\, a JA Inspire Career Fair is being conducted from 8:30 a.m. to 1:30 p.m. Wednesday\, November 13\, and Thursday\, November 14\, at Middlesex College in Edison. \nThis is one in a series of career exploration events being conducted around the state for New Jersey students. This series brings together various industries\, companies\, and employee volunteer role models to show hundreds of middle school students in attendance firsthand available careers and their pathways. JA encourages employer and exhibitor participants to create engaging displays to educate and excite the students about the world of work. \nEmployers and agencies interested in being an exhibitor may register by going here or using the link in this flyer. There is no fee to be an exhibitor. \nFor more information\, contact Jamie Campbell at Jamie.Campbell@ja.org or visit janj.org.
URL:https://www.thegrwdb.org/event/exhibitors-wanted-for-ja-inspire-event-at-middlesex-college/
LOCATION:Middlesex College\, 2600 Woodbridge Ave.\, Edison\, NJ\, 08818\, United States
CATEGORIES:College Event
END:VEVENT
BEGIN:VEVENT
DTSTART;TZID=America/New_York:20241113T100000
DTEND;TZID=America/New_York:20241113T130000
DTSTAMP:20260421T114218
CREATED:20241026T213816Z
LAST-MODIFIED:20241026T213830Z
UID:12551-1731492000-1731502800@www.thegrwdb.org
SUMMARY:Thank You For Your Service: Middlesex County Veterans Job Fair
DESCRIPTION:Middlesex County is hosting Thank You For Your Service\, a job for Veterans\, from 10 a.m. to 1 p.m. Wednesday\, November 13\, at the YMCA at the Piscataway Community Center\, 520 Hoes Lane\nPiscataway. \nThis job fair is exclusively for Veterans\, active-duty military and their families. This event is presented by the Middlesex County Office of Workforce and Career Development to assist Veterans and their families as they transition to civilian careers to find a position in which they can constantly grow and evolve in. \nThis event is open to the public. Those interested can register here or scan the QR Code on the flyer.
URL:https://www.thegrwdb.org/event/thank-you-for-your-service-middlesex-county-veterans-job-fair/
LOCATION:YMCA at the Piscataway Community Center\, 520 Hoes Lane\, Piscataway\, NJ\, 08854\, United States
CATEGORIES:Career Fair
END:VEVENT
END:VCALENDAR