BEGIN:VCALENDAR
VERSION:2.0
PRODID:-//Greater Raritan - ECPv6.3.5//NONSGML v1.0//EN
CALSCALE:GREGORIAN
METHOD:PUBLISH
X-WR-CALNAME:Greater Raritan
X-ORIGINAL-URL:https://www.thegrwdb.org
X-WR-CALDESC:Events for Greater Raritan
REFRESH-INTERVAL;VALUE=DURATION:PT1H
X-Robots-Tag:noindex
X-PUBLISHED-TTL:PT1H
BEGIN:VTIMEZONE
TZID:America/New_York
BEGIN:DAYLIGHT
TZOFFSETFROM:-0500
TZOFFSETTO:-0400
TZNAME:EDT
DTSTART:20240310T070000
END:DAYLIGHT
BEGIN:STANDARD
TZOFFSETFROM:-0400
TZOFFSETTO:-0500
TZNAME:EST
DTSTART:20241103T060000
END:STANDARD
END:VTIMEZONE
BEGIN:VEVENT
DTSTART;TZID=America/New_York:20241112T084500
DTEND;TZID=America/New_York:20241112T130000
DTSTAMP:20260421T114218
CREATED:20241025T212839Z
LAST-MODIFIED:20241025T212839Z
UID:12539-1731401100-1731416400@www.thegrwdb.org
SUMMARY:Norwescap Computer Class Series in Spanish (Clases de Habilidades Informáticas): Know Your Email App
DESCRIPTION:Norwescap’s North Plainfield training center\, at 170 Watchung Avenue\, Iglesia Presbiteriana Nuevas Fronteras\, North Plainfield\, will present its Computer Skills Class Series in Spanish during the month of November. These free classes will be held in-person using Norwescap computers and Internet. Class times are 8:45 to 1 p.m. each day. Class time: 8:45 a.m.-1 p.m. \n“Clases de Habilidades Informáticas” también en español\, en Norwescap’s centro de capacitación de North Plainfield\, ubicado en 170 Watchung Avenue\, Iglesia Presbiteriana Nuevas Fronteras\, North Plainfield. Por favor\, comparte nuestras clases. Estas clases gratuitas se llevarán a cabo en persona utilizando nuestras computadoras e internet. Horario de clases: 8:45 a.m.-1 p.m. \nNovember 4– Basic Computer Knowledge – Build a foundation of computer terms and understand how Windows the operating system works. \n4 de noviembre – Conocimientos básicos de informática: Construye una base de términos informáticos y comprende cómo funciona el sistema operativo Windows. \nNovember 7 – File Management – Learn how to organize and find files\, save them where they belong\, copy and move files\, create folders and much more. \n7 de noviembre – Gestión de archivos: Aprenderás a organizar y encontrar archivos\, guardarlos en su lugar\, copiar y mover archivos\, crear carpetas y mucho más. \nNovember 12 – Know Your Email App – Learn the importance of creating a professional email account\, organizing and controlling incoming emails\, personalized signatures and more. Learn how to take advantage of the many features in the email Calendar. \n12 de noviembre – Conoce tu aplicación de correo electrónico: Aprenderás la importancia de crear una cuenta de correo profesional\, organizar y controlar los correos entrantes\, firmas personalizadas y más. Aprende a aprovechar las muchas funciones de tu calendario de correo electrónico. \nNovember 14 – Introduction to Word Part 1 – Formatting: page layout\, orientation\, margins\, ruler\, bullets\, line spacing\, show/hide\, saving/renaming\, or deleting files\, using Help. \n14 de noviembre – Introducción a Word\, parte 1: Formateo: diseño de página\, orientación\, márgenes\, regla\, viñetas\, espaciado de líneas\, mostrar/ocultar\, guardar/renombrar o eliminar archivos\, usar Ayuda. \nNovember 19– Introduction to Word Part 2 – Creating a professional document: spell check\, templates\, auto correct\, styles and themes\, track changes\, headers and footers. \n19 de noviembre – Introducción a Word\, parte 2: Creación de un documento profesional: revisión ortográfica\, plantillas\, autocorrección\, estilos y temas\, seguimiento de cambios\, encabezados y pies de página. \nNovember 21 – Google Doc 1 – Learn how to format\, create documents and save them on Google Drive. \n21 de novembre – Google Docs 1: Aprende a formatear\, crear documentos y guardarlos en Google Drive. \nNovember 26 – Google Doc 2 – Learn how to create spreadsheets\, presentation and save it in Google Drive. \n26 de novembre – Google Docs 2: Aprende a crear hojas de cálculo\, presentaciones y guardarlas en Google Drive. \nCall to register: 908-900-0060\, Ext. 1503 \nLlamada para registarse: 908-900-0060\, Ext. 1503.
URL:https://www.thegrwdb.org/event/norwescap-computer-class-series-in-spanish-clases-de-habilidades-informaticas-know-your-email-app/
LOCATION:NORWESCAP North Plainfield\, 170 Watchung Ave.\, lower level\, North Plainfield\, 07060\, United States
CATEGORIES:Class
END:VEVENT
BEGIN:VEVENT
DTSTART;TZID=America/New_York:20241112T091500
DTEND;TZID=America/New_York:20241112T133000
DTSTAMP:20260421T114218
CREATED:20241025T205943Z
LAST-MODIFIED:20241025T210224Z
UID:12520-1731402900-1731418200@www.thegrwdb.org
SUMMARY:Norwescap Computer Series: Micosoft Office 365 Excel\, Part II
DESCRIPTION:Norwescap CLTC’s Computer Class Series is designed to help class participants build a strong foundation using computers. This month’s free series will be conducted in person at the Flemington United Methodist Church\, 116 Main St.\, Flemington\, using CLTC’s computers and Internet. Class time for the following classes is 9:15 a.m. to 1:30 p.m. \nNovember 7\, 12 and 14: – This class will explain what Microsoft Excel is and how it can be used in many different ways.  It will go over basic functionality such as rows\, columns\, and cells and how to enter and reference data.  Participants will learn how to write basic Excel functions and understand how they can be used in everyday applications such as budgeting.  The class will cover the key Excel options and settings and will touch on reporting capabilities using pivot tables and charts (at a high level). \nNov. 19 – Computer Skills Brush Up (Open Topic Day):  The computer instructor will be available in-person to answer questions\, review additional topics and provide overall support. Students can bring their personal computers and phones for troubleshooting and advice. This session is exclusively available to anyone who has taken a class in the past. Computers will be available for students to practice with or use to work on resumes\, job applications\, etc.        \nRegistration is required. Call 908-788-1453 Monday to Friday\, 9 a.m. to 5:30 p.m.
URL:https://www.thegrwdb.org/event/norwescap-computer-class-micosoft-office-365-excel-part-ii/
LOCATION:Flemington United Methodist Church\, 116 Main St.\, Flemington\, NJ\, 08822\, United States
CATEGORIES:Class
END:VEVENT
BEGIN:VEVENT
DTSTART;TZID=America/New_York:20241112T140000
DTEND;TZID=America/New_York:20241112T150000
DTSTAMP:20260421T114218
CREATED:20241029T232231Z
LAST-MODIFIED:20241030T203319Z
UID:12575-1731420000-1731423600@www.thegrwdb.org
SUMMARY:GRWDB Literacy Committee Meeting – Virtual
DESCRIPTION:Through policy\, oversight\, and planning\, the GRWDB ensures that workforce training and education investments are responsive to and meet the needs of employers and jobseekers and is responsible for maintaining committees to help inform decision-making around services and priorities for targeted populations. One of those includes the GRWDB’s Literacy Committee\, which works with Title II literacy providers and volunteer literacy organizations in Hunterdon and Somerset counties to ensure literacy training is connected to the other services offered in Greater Raritan’s workforce system. \nThe agenda for the November 12 meeting will include an important discussion on the evolution of First Step Basic English program\, a look ahead to Title II funding and new literacy funding and programming\, and the importance of co-enrolling individuals in other GRWDB programs. Go to the GRWDB Meeting Packages page for the agenda. Meeting details: \nGRWDB Literacy Meeting\nNov 12\, 2024\, 2:00 – 3:00 PM \nPlease join the meeting from your computer\, tablet or smartphone.\nhttps://meet.goto.com/791186461 \nYou can also dial in using your phone: United States: +1 (872) 240-3212;  Access Code: 791-186-461 \nAll GRWDB committee meetings are open to the public.
URL:https://www.thegrwdb.org/event/grwdb-literacy-committee-meeting-2/
LOCATION:GoToMeeting
CATEGORIES:Committee Meeting
END:VEVENT
END:VCALENDAR